BEGIN:VCALENDAR
VERSION:2.0
PRODID:-//Norfolk Country Club - ECPv6.15.16//NONSGML v1.0//EN
CALSCALE:GREGORIAN
METHOD:PUBLISH
X-ORIGINAL-URL:https://norfolkcountryclub.com
X-WR-CALDESC:Events for Norfolk Country Club
REFRESH-INTERVAL;VALUE=DURATION:PT1H
X-Robots-Tag:noindex
X-PUBLISHED-TTL:PT1H
BEGIN:VTIMEZONE
TZID:America/New_York
BEGIN:DAYLIGHT
TZOFFSETFROM:-0500
TZOFFSETTO:-0400
TZNAME:EDT
DTSTART:20240310T070000
END:DAYLIGHT
BEGIN:STANDARD
TZOFFSETFROM:-0400
TZOFFSETTO:-0500
TZNAME:EST
DTSTART:20241103T060000
END:STANDARD
BEGIN:DAYLIGHT
TZOFFSETFROM:-0500
TZOFFSETTO:-0400
TZNAME:EDT
DTSTART:20250309T070000
END:DAYLIGHT
BEGIN:STANDARD
TZOFFSETFROM:-0400
TZOFFSETTO:-0500
TZNAME:EST
DTSTART:20251102T060000
END:STANDARD
BEGIN:DAYLIGHT
TZOFFSETFROM:-0500
TZOFFSETTO:-0400
TZNAME:EDT
DTSTART:20260308T070000
END:DAYLIGHT
BEGIN:STANDARD
TZOFFSETFROM:-0400
TZOFFSETTO:-0500
TZNAME:EST
DTSTART:20261101T060000
END:STANDARD
END:VTIMEZONE
BEGIN:VTIMEZONE
TZID:UTC
BEGIN:STANDARD
TZOFFSETFROM:+0000
TZOFFSETTO:+0000
TZNAME:UTC
DTSTART:20240101T000000
END:STANDARD
END:VTIMEZONE
BEGIN:VEVENT
DTSTART;TZID=America/New_York:20251013T070000
DTEND;TZID=America/New_York:20251013T070000
DTSTAMP:20260421T070548
CREATED:20250407T212301Z
LAST-MODIFIED:20250407T212418Z
UID:10015217-1760338800-1760338800@norfolkcountryclub.com
SUMMARY:Clubhouse Closes for the Season.  See you next year!
DESCRIPTION:
URL:https://norfolkcountryclub.com/event1/clubhouse-closes-for-the-season-see-you-next-year/
CATEGORIES:Social
END:VEVENT
BEGIN:VEVENT
DTSTART;TZID=America/New_York:20251012T113000
DTEND;TZID=America/New_York:20251012T143000
DTSTAMP:20260421T070548
CREATED:20250406T192859Z
LAST-MODIFIED:20250408T200129Z
UID:10015100-1760268600-1760279400@norfolkcountryclub.com
SUMMARY:HOUSE / Lunch Service
DESCRIPTION:Lunch service available \nPlease consult the weekly members email for the week’s menu.
URL:https://norfolkcountryclub.com/event1/house-lunch-service-8/2025-10-12/
CATEGORIES:Restaurant,Social
END:VEVENT
BEGIN:VEVENT
DTSTART;TZID=UTC:20251011T183000
DTEND;TZID=UTC:20251011T223000
DTSTAMP:20260421T070548
CREATED:20250407T210452Z
LAST-MODIFIED:20250407T210452Z
UID:10015215-1760207400-1760221800@norfolkcountryclub.com
SUMMARY:HOUSE / Closing Steak Dinner
DESCRIPTION:Closing Steak Dinner \n6:30pm cocktails \n 7:30 dinner
URL:https://norfolkcountryclub.com/event1/house-closing-steak-dinner-2/
CATEGORIES:Social
END:VEVENT
BEGIN:VEVENT
DTSTART;TZID=America/New_York:20251011T113000
DTEND;TZID=America/New_York:20251011T143000
DTSTAMP:20260421T070548
CREATED:20250406T192859Z
LAST-MODIFIED:20250408T200129Z
UID:10015099-1760182200-1760193000@norfolkcountryclub.com
SUMMARY:HOUSE / Lunch Service
DESCRIPTION:Lunch service available \nPlease consult the weekly members email for the week’s menu.
URL:https://norfolkcountryclub.com/event1/house-lunch-service-8/2025-10-11/
CATEGORIES:Restaurant,Social
END:VEVENT
BEGIN:VEVENT
DTSTART;TZID=UTC:20251011T090000
DTEND;TZID=UTC:20251011T090000
DTSTAMP:20260421T070548
CREATED:20250406T210727Z
LAST-MODIFIED:20250406T210727Z
UID:10015175-1760173200-1760173200@norfolkcountryclub.com
SUMMARY:GOLF / MIXED Closing Scramble
DESCRIPTION:Format:18 holes\, pro shop makes the teams. \nStart time: 9:00
URL:https://norfolkcountryclub.com/event1/golf-mixed-closing-scramble/
CATEGORIES:Golf,Mixed Golf
END:VEVENT
BEGIN:VEVENT
DTSTART;TZID=America/New_York:20251010T173000
DTEND;TZID=America/New_York:20251010T210000
DTSTAMP:20260421T070548
CREATED:20250406T195122Z
LAST-MODIFIED:20250408T200442Z
UID:10015136-1760117400-1760130000@norfolkcountryclub.com
SUMMARY:HOUSE / Weekend Dinner Service
DESCRIPTION:Dinner service available \nPlease consult the weekly members email for the week’s menu.
URL:https://norfolkcountryclub.com/event1/house-weekend-dinner-service-3/2025-10-10/
CATEGORIES:Restaurant,Social
END:VEVENT
BEGIN:VEVENT
DTSTART;TZID=America/New_York:20251010T113000
DTEND;TZID=America/New_York:20251010T143000
DTSTAMP:20260421T070548
CREATED:20250406T192859Z
LAST-MODIFIED:20250408T200129Z
UID:10015098-1760095800-1760106600@norfolkcountryclub.com
SUMMARY:HOUSE / Lunch Service
DESCRIPTION:Lunch service available \nPlease consult the weekly members email for the week’s menu.
URL:https://norfolkcountryclub.com/event1/house-lunch-service-8/2025-10-10/
CATEGORIES:Restaurant,Social
END:VEVENT
BEGIN:VEVENT
DTSTART;TZID=America/New_York:20251009T113000
DTEND;TZID=America/New_York:20251009T143000
DTSTAMP:20260421T070548
CREATED:20250406T192859Z
LAST-MODIFIED:20250408T200129Z
UID:10015655-1760009400-1760020200@norfolkcountryclub.com
SUMMARY:HOUSE / Lunch Service
DESCRIPTION:Lunch service available \nPlease consult the weekly members email for the week’s menu.
URL:https://norfolkcountryclub.com/event1/house-lunch-service-8/2025-10-09/
CATEGORIES:Restaurant,Social
END:VEVENT
BEGIN:VEVENT
DTSTART;VALUE=DATE:20251009
DTEND;VALUE=DATE:20251010
DTSTAMP:20260421T070548
CREATED:20250406T202231Z
LAST-MODIFIED:20250406T202321Z
UID:10015166-1759968000-1760054399@norfolkcountryclub.com
SUMMARY:Clubhouse Closed
DESCRIPTION:Clubhouse Closed
URL:https://norfolkcountryclub.com/event1/clubhouse-closed-8/2025-10-09/
CATEGORIES:Restaurant,Social
END:VEVENT
BEGIN:VEVENT
DTSTART;TZID=America/New_York:20251008T173000
DTEND;TZID=America/New_York:20251008T203000
DTSTAMP:20260421T070548
CREATED:20250205T191100Z
LAST-MODIFIED:20250406T203000Z
UID:10015168-1759944600-1759955400@norfolkcountryclub.com
SUMMARY:HOUSE / Wednesday Dinner Service
DESCRIPTION:Dinner service available \nPlease consult the weekly members email for the week’s menu.
URL:https://norfolkcountryclub.com/event1/house-wednesday-dinner-service-3/2025-10-08/
CATEGORIES:Restaurant,Social
END:VEVENT
BEGIN:VEVENT
DTSTART;TZID=America/New_York:20251008T170000
DTEND;TZID=America/New_York:20251008T190000
DTSTAMP:20260421T070548
CREATED:20250205T195301Z
LAST-MODIFIED:20250406T210610Z
UID:10015174-1759942800-1759950000@norfolkcountryclub.com
SUMMARY:GOLF / MIXED Wed Night Scramble
DESCRIPTION:Sign up before noon on Wednesday.  \nPro shop will make the teams. \nPlease arrive before 5:00. \nFinal Wednesday night scramble for points will be Aug 31. (We will continue to have scrambles after that\, but no points will be awarded.) \nPoints are accumulated throughout the season towards the Dooley Cup for men and women. \n1st place = 5 points each  /  2nd place = 3 points each  /  3rd place = 1 point each \n*Each week pro shop charged to those who wish to participate.  Cost = $5.00 on account.*
URL:https://norfolkcountryclub.com/event1/golf-mixed-wed-night-scramble-2/2025-10-08/
CATEGORIES:Golf,Mixed Golf
END:VEVENT
BEGIN:VEVENT
DTSTART;TZID=America/New_York:20251008T113000
DTEND;TZID=America/New_York:20251008T143000
DTSTAMP:20260421T070548
CREATED:20250406T192859Z
LAST-MODIFIED:20250408T200129Z
UID:10015097-1759923000-1759933800@norfolkcountryclub.com
SUMMARY:HOUSE / Lunch Service
DESCRIPTION:Lunch service available \nPlease consult the weekly members email for the week’s menu.
URL:https://norfolkcountryclub.com/event1/house-lunch-service-8/2025-10-08/
CATEGORIES:Restaurant,Social
END:VEVENT
BEGIN:VEVENT
DTSTART;TZID=America/New_York:20251007T113000
DTEND;TZID=America/New_York:20251007T143000
DTSTAMP:20260421T070548
CREATED:20250406T192859Z
LAST-MODIFIED:20250408T200129Z
UID:10015654-1759836600-1759847400@norfolkcountryclub.com
SUMMARY:HOUSE / Lunch Service
DESCRIPTION:Lunch service available \nPlease consult the weekly members email for the week’s menu.
URL:https://norfolkcountryclub.com/event1/house-lunch-service-8/2025-10-07/
CATEGORIES:Restaurant,Social
END:VEVENT
BEGIN:VEVENT
DTSTART;VALUE=DATE:20251007
DTEND;VALUE=DATE:20251008
DTSTAMP:20260421T070548
CREATED:20250406T202231Z
LAST-MODIFIED:20250406T202321Z
UID:10015165-1759795200-1759881599@norfolkcountryclub.com
SUMMARY:Clubhouse Closed
DESCRIPTION:Clubhouse Closed
URL:https://norfolkcountryclub.com/event1/clubhouse-closed-8/2025-10-07/
CATEGORIES:Restaurant,Social
END:VEVENT
BEGIN:VEVENT
DTSTART;TZID=America/New_York:20251006T113000
DTEND;TZID=America/New_York:20251006T143000
DTSTAMP:20260421T070548
CREATED:20250406T192859Z
LAST-MODIFIED:20250408T200129Z
UID:10015653-1759750200-1759761000@norfolkcountryclub.com
SUMMARY:HOUSE / Lunch Service
DESCRIPTION:Lunch service available \nPlease consult the weekly members email for the week’s menu.
URL:https://norfolkcountryclub.com/event1/house-lunch-service-8/2025-10-06/
CATEGORIES:Restaurant,Social
END:VEVENT
BEGIN:VEVENT
DTSTART;TZID=America/New_York:20251005T113000
DTEND;TZID=America/New_York:20251005T143000
DTSTAMP:20260421T070548
CREATED:20250406T192859Z
LAST-MODIFIED:20250408T200129Z
UID:10015096-1759663800-1759674600@norfolkcountryclub.com
SUMMARY:HOUSE / Lunch Service
DESCRIPTION:Lunch service available \nPlease consult the weekly members email for the week’s menu.
URL:https://norfolkcountryclub.com/event1/house-lunch-service-8/2025-10-05/
CATEGORIES:Restaurant,Social
END:VEVENT
BEGIN:VEVENT
DTSTART;VALUE=DATE:20251004
DTEND;VALUE=DATE:20251005
DTSTAMP:20260421T070548
CREATED:20250408T200612Z
LAST-MODIFIED:20250408T200612Z
UID:10015656-1759536000-1759622399@norfolkcountryclub.com
SUMMARY:CLUBHOUSE CLOSED  - Private Event
DESCRIPTION:No Clubhouse Access \nNo Dinner Service
URL:https://norfolkcountryclub.com/event1/clubhouse-closed-private-event/
CATEGORIES:Social
END:VEVENT
BEGIN:VEVENT
DTSTART;TZID=America/New_York:20251003T173000
DTEND;TZID=America/New_York:20251003T210000
DTSTAMP:20260421T070548
CREATED:20250406T195122Z
LAST-MODIFIED:20250408T200442Z
UID:10015134-1759512600-1759525200@norfolkcountryclub.com
SUMMARY:HOUSE / Weekend Dinner Service
DESCRIPTION:Dinner service available \nPlease consult the weekly members email for the week’s menu.
URL:https://norfolkcountryclub.com/event1/house-weekend-dinner-service-3/2025-10-03/
CATEGORIES:Restaurant,Social
END:VEVENT
BEGIN:VEVENT
DTSTART;TZID=America/New_York:20251003T113000
DTEND;TZID=America/New_York:20251003T143000
DTSTAMP:20260421T070549
CREATED:20250406T192859Z
LAST-MODIFIED:20250408T200129Z
UID:10015094-1759491000-1759501800@norfolkcountryclub.com
SUMMARY:HOUSE / Lunch Service
DESCRIPTION:Lunch service available \nPlease consult the weekly members email for the week’s menu.
URL:https://norfolkcountryclub.com/event1/house-lunch-service-8/2025-10-03/
CATEGORIES:Restaurant,Social
END:VEVENT
BEGIN:VEVENT
DTSTART;TZID=America/New_York:20251002T113000
DTEND;TZID=America/New_York:20251002T143000
DTSTAMP:20260421T070549
CREATED:20250406T192859Z
LAST-MODIFIED:20250408T200129Z
UID:10015652-1759404600-1759415400@norfolkcountryclub.com
SUMMARY:HOUSE / Lunch Service
DESCRIPTION:Lunch service available \nPlease consult the weekly members email for the week’s menu.
URL:https://norfolkcountryclub.com/event1/house-lunch-service-8/2025-10-02/
CATEGORIES:Restaurant,Social
END:VEVENT
BEGIN:VEVENT
DTSTART;VALUE=DATE:20251002
DTEND;VALUE=DATE:20251003
DTSTAMP:20260421T070549
CREATED:20250406T202231Z
LAST-MODIFIED:20250406T202321Z
UID:10015164-1759363200-1759449599@norfolkcountryclub.com
SUMMARY:Clubhouse Closed
DESCRIPTION:Clubhouse Closed
URL:https://norfolkcountryclub.com/event1/clubhouse-closed-8/2025-10-02/
CATEGORIES:Restaurant,Social
END:VEVENT
BEGIN:VEVENT
DTSTART;TZID=America/New_York:20251001T173000
DTEND;TZID=America/New_York:20251001T203000
DTSTAMP:20260421T070549
CREATED:20250205T191100Z
LAST-MODIFIED:20250406T203000Z
UID:10015167-1759339800-1759350600@norfolkcountryclub.com
SUMMARY:HOUSE / Wednesday Dinner Service
DESCRIPTION:Dinner service available \nPlease consult the weekly members email for the week’s menu.
URL:https://norfolkcountryclub.com/event1/house-wednesday-dinner-service-3/2025-10-01/
CATEGORIES:Restaurant,Social
END:VEVENT
BEGIN:VEVENT
DTSTART;TZID=America/New_York:20251001T170000
DTEND;TZID=America/New_York:20251001T190000
DTSTAMP:20260421T070549
CREATED:20250205T195301Z
LAST-MODIFIED:20250406T210610Z
UID:10015173-1759338000-1759345200@norfolkcountryclub.com
SUMMARY:GOLF / MIXED Wed Night Scramble
DESCRIPTION:Sign up before noon on Wednesday.  \nPro shop will make the teams. \nPlease arrive before 5:00. \nFinal Wednesday night scramble for points will be Aug 31. (We will continue to have scrambles after that\, but no points will be awarded.) \nPoints are accumulated throughout the season towards the Dooley Cup for men and women. \n1st place = 5 points each  /  2nd place = 3 points each  /  3rd place = 1 point each \n*Each week pro shop charged to those who wish to participate.  Cost = $5.00 on account.*
URL:https://norfolkcountryclub.com/event1/golf-mixed-wed-night-scramble-2/2025-10-01/
CATEGORIES:Golf,Mixed Golf
END:VEVENT
BEGIN:VEVENT
DTSTART;TZID=America/New_York:20251001T113000
DTEND;TZID=America/New_York:20251001T143000
DTSTAMP:20260421T070549
CREATED:20250406T192859Z
LAST-MODIFIED:20250408T200129Z
UID:10015093-1759318200-1759329000@norfolkcountryclub.com
SUMMARY:HOUSE / Lunch Service
DESCRIPTION:Lunch service available \nPlease consult the weekly members email for the week’s menu.
URL:https://norfolkcountryclub.com/event1/house-lunch-service-8/2025-10-01/
CATEGORIES:Restaurant,Social
END:VEVENT
BEGIN:VEVENT
DTSTART;TZID=America/New_York:20250930T113000
DTEND;TZID=America/New_York:20250930T143000
DTSTAMP:20260421T070549
CREATED:20250406T192859Z
LAST-MODIFIED:20250408T200129Z
UID:10015651-1759231800-1759242600@norfolkcountryclub.com
SUMMARY:HOUSE / Lunch Service
DESCRIPTION:Lunch service available \nPlease consult the weekly members email for the week’s menu.
URL:https://norfolkcountryclub.com/event1/house-lunch-service-8/2025-09-30/
CATEGORIES:Restaurant,Social
END:VEVENT
BEGIN:VEVENT
DTSTART;VALUE=DATE:20250930
DTEND;VALUE=DATE:20251001
DTSTAMP:20260421T070549
CREATED:20250406T202231Z
LAST-MODIFIED:20250406T202321Z
UID:10015163-1759190400-1759276799@norfolkcountryclub.com
SUMMARY:Clubhouse Closed
DESCRIPTION:Clubhouse Closed
URL:https://norfolkcountryclub.com/event1/clubhouse-closed-8/2025-09-30/
CATEGORIES:Restaurant,Social
END:VEVENT
BEGIN:VEVENT
DTSTART;TZID=America/New_York:20250929T113000
DTEND;TZID=America/New_York:20250929T143000
DTSTAMP:20260421T070549
CREATED:20250406T192859Z
LAST-MODIFIED:20250408T200129Z
UID:10015650-1759145400-1759156200@norfolkcountryclub.com
SUMMARY:HOUSE / Lunch Service
DESCRIPTION:Lunch service available \nPlease consult the weekly members email for the week’s menu.
URL:https://norfolkcountryclub.com/event1/house-lunch-service-8/2025-09-29/
CATEGORIES:Restaurant,Social
END:VEVENT
BEGIN:VEVENT
DTSTART;TZID=America/New_York:20250929T090000
DTEND;TZID=America/New_York:20250929T090000
DTSTAMP:20260421T070549
CREATED:20250205T201200Z
LAST-MODIFIED:20250408T163918Z
UID:10015276-1759136400-1759136400@norfolkcountryclub.com
SUMMARY:TENNIS / MIXED Morning Clinic (Mo\, Th)
DESCRIPTION:Morning Clinic (M/Th 9-10:30am) \nThe clinic is open to men and women regardless of level of play\, however beginners should join the C clinic. The theme for each session will be determined by Edgar based on the needs and wants of the participants.
URL:https://norfolkcountryclub.com/event1/tennis-mixed-morning-clinic-mo-th-2/2025-09-29/
CATEGORIES:Tennis
END:VEVENT
BEGIN:VEVENT
DTSTART;VALUE=DATE:20250929
DTEND;VALUE=DATE:20250930
DTSTAMP:20260421T070549
CREATED:20250205T191530Z
LAST-MODIFIED:20250406T202446Z
UID:10014018-1759104000-1759190399@norfolkcountryclub.com
SUMMARY:Clubhouse Closed Mondays
DESCRIPTION:Clubhouse Closed
URL:https://norfolkcountryclub.com/event1/clubhouse-closed-mondays/2025-09-29/
CATEGORIES:Restaurant,Social
END:VEVENT
BEGIN:VEVENT
DTSTART;TZID=America/New_York:20250928T113000
DTEND;TZID=America/New_York:20250928T143000
DTSTAMP:20260421T070549
CREATED:20250406T192859Z
LAST-MODIFIED:20250408T200129Z
UID:10015092-1759059000-1759069800@norfolkcountryclub.com
SUMMARY:HOUSE / Lunch Service
DESCRIPTION:Lunch service available \nPlease consult the weekly members email for the week’s menu.
URL:https://norfolkcountryclub.com/event1/house-lunch-service-8/2025-09-28/
CATEGORIES:Restaurant,Social
END:VEVENT
END:VCALENDAR