BEGIN:VCALENDAR
VERSION:2.0
PRODID:-//Norfolk Country Club - ECPv6.15.16//NONSGML v1.0//EN
CALSCALE:GREGORIAN
METHOD:PUBLISH
X-WR-CALNAME:Norfolk Country Club
X-ORIGINAL-URL:https://norfolkcountryclub.com
X-WR-CALDESC:Events for Norfolk Country Club
REFRESH-INTERVAL;VALUE=DURATION:PT1H
X-Robots-Tag:noindex
X-PUBLISHED-TTL:PT1H
BEGIN:VTIMEZONE
TZID:America/New_York
BEGIN:DAYLIGHT
TZOFFSETFROM:-0500
TZOFFSETTO:-0400
TZNAME:EDT
DTSTART:20230312T070000
END:DAYLIGHT
BEGIN:STANDARD
TZOFFSETFROM:-0400
TZOFFSETTO:-0500
TZNAME:EST
DTSTART:20231105T060000
END:STANDARD
BEGIN:DAYLIGHT
TZOFFSETFROM:-0500
TZOFFSETTO:-0400
TZNAME:EDT
DTSTART:20240310T070000
END:DAYLIGHT
BEGIN:STANDARD
TZOFFSETFROM:-0400
TZOFFSETTO:-0500
TZNAME:EST
DTSTART:20241103T060000
END:STANDARD
BEGIN:DAYLIGHT
TZOFFSETFROM:-0500
TZOFFSETTO:-0400
TZNAME:EDT
DTSTART:20250309T070000
END:DAYLIGHT
BEGIN:STANDARD
TZOFFSETFROM:-0400
TZOFFSETTO:-0500
TZNAME:EST
DTSTART:20251102T060000
END:STANDARD
BEGIN:DAYLIGHT
TZOFFSETFROM:-0500
TZOFFSETTO:-0400
TZNAME:EDT
DTSTART:20260308T070000
END:DAYLIGHT
BEGIN:STANDARD
TZOFFSETFROM:-0400
TZOFFSETTO:-0500
TZNAME:EST
DTSTART:20261101T060000
END:STANDARD
END:VTIMEZONE
BEGIN:VEVENT
DTSTART;TZID=America/New_York:20250828T183000
DTEND;TZID=America/New_York:20250828T183000
DTSTAMP:20260419T180321
CREATED:20250407T204041Z
LAST-MODIFIED:20250407T204041Z
UID:10015204-1756405800-1756405800@norfolkcountryclub.com
SUMMARY:HOUSE /  THURSDAY NIGHT SPEAKER: Adam Platt - Restaurant Critic
DESCRIPTION:Longterm restaurant critic of New York Magazine Adam Platt\, Strange Meals of Yore
URL:https://norfolkcountryclub.com/event1/house-thursday-night-speaker-adam-platt-restaurant-critic/
CATEGORIES:Social,Speaker
END:VEVENT
BEGIN:VEVENT
DTSTART;TZID=America/New_York:20250821T183000
DTEND;TZID=America/New_York:20250821T183000
DTSTAMP:20260419T180321
CREATED:20250407T203836Z
LAST-MODIFIED:20250503T134029Z
UID:10015203-1755801000-1755801000@norfolkcountryclub.com
SUMMARY:HOUSE /  THURSDAY NIGHT SPEAKER: James Stewart - Author and Financial Reporter
DESCRIPTION:Best selling author of Den of Theives and New York Times financial reporter James Stewart: “Succession” Hollywood Style: Why Big Media Companies Keep Spawning King-Lear-like Dramas
URL:https://norfolkcountryclub.com/event1/house-thursday-night-speaker-james-stewart-author-and-financial-reporter/
CATEGORIES:Social,Speaker
END:VEVENT
BEGIN:VEVENT
DTSTART;TZID=America/New_York:20250814T183000
DTEND;TZID=America/New_York:20250814T183000
DTSTAMP:20260419T180321
CREATED:20250407T203441Z
LAST-MODIFIED:20250407T203441Z
UID:10015202-1755196200-1755196200@norfolkcountryclub.com
SUMMARY:HOUSE /  THURSDAY NIGHT SPEAKER: Bunny Williams - Author and Interior Designer
DESCRIPTION:Interior designer and best selling author Bunny Williams: An Affair with a Garden
URL:https://norfolkcountryclub.com/event1/house-thursday-night-speaker-bunny-williams-author-and-interior-designer/
CATEGORIES:Social,Speaker
END:VEVENT
BEGIN:VEVENT
DTSTART;TZID=America/New_York:20250807T183000
DTEND;TZID=America/New_York:20250807T183000
DTSTAMP:20260419T180321
CREATED:20250407T203148Z
LAST-MODIFIED:20250407T203148Z
UID:10015201-1754591400-1754591400@norfolkcountryclub.com
SUMMARY:HOUSE /  THURSDAY NIGHT SPEAKER: Vicky Ward\, Investigative Journalist
DESCRIPTION:Investigative journalist Vicky Ward  on Jeffrey Epstein to the Idaho Four
URL:https://norfolkcountryclub.com/event1/house-thursday-night-speaker-vicky-ward-investigative-journalist/
CATEGORIES:Social,Speaker
END:VEVENT
BEGIN:VEVENT
DTSTART;TZID=America/New_York:20250731T183000
DTEND;TZID=America/New_York:20250731T183000
DTSTAMP:20260419T180321
CREATED:20250407T202713Z
LAST-MODIFIED:20250407T202713Z
UID:10015200-1753986600-1753986600@norfolkcountryclub.com
SUMMARY:HOUSE /  THURSDAY NIGHT SPEAKER: Author Robert Dance on Classic Hollywood
DESCRIPTION:NCC’s own author and expert Robert Dance on Classic Hollywood
URL:https://norfolkcountryclub.com/event1/house-thursday-night-speaker-author-robert-dance-on-classic-hollywood/
CATEGORIES:Social,Speaker
END:VEVENT
BEGIN:VEVENT
DTSTART;TZID=America/New_York:20250724T183000
DTEND;TZID=America/New_York:20250724T183000
DTSTAMP:20260419T180321
CREATED:20250407T202418Z
LAST-MODIFIED:20250407T202418Z
UID:10015199-1753381800-1753381800@norfolkcountryclub.com
SUMMARY:HOUSE /  THURSDAY NIGHT SPEAKER: Olivier Meslay - Clark Institute of Art
DESCRIPTION:Olivier Meslay\, Director\, Clark Institute of Art\, A princely Gift: the Tavitian Collection at the Clark.
URL:https://norfolkcountryclub.com/event1/house-thursday-night-speaker-olivier-meslay-clark-institute-of-art/
CATEGORIES:Social,Speaker
END:VEVENT
BEGIN:VEVENT
DTSTART;TZID=America/New_York:20250717T183000
DTEND;TZID=America/New_York:20250717T183000
DTSTAMP:20260419T180321
CREATED:20250407T201919Z
LAST-MODIFIED:20250407T201919Z
UID:10015190-1752777000-1752777000@norfolkcountryclub.com
SUMMARY:HOUSE /  THURSDAY NIGHT SPEAKER: Yale Chamber Music
DESCRIPTION:Our annual evening the Yale Chamber-music fellows
URL:https://norfolkcountryclub.com/event1/house-thursday-night-speaker-yale-chamber-music-2/
CATEGORIES:Social,Speaker
END:VEVENT
BEGIN:VEVENT
DTSTART;TZID=America/New_York:20250710T183000
DTEND;TZID=America/New_York:20250710T183000
DTSTAMP:20260419T180321
CREATED:20250407T200345Z
LAST-MODIFIED:20250407T200345Z
UID:10014536-1752172200-1752172200@norfolkcountryclub.com
SUMMARY:HOUSE /  THURSDAY NIGHT SPEAKER: A Wine Dinner w/ Neal Rosenthal
DESCRIPTION:Neal Rosenthal’s Greatest Hits: A wine dinner with the Importer Extraordinaire.
URL:https://norfolkcountryclub.com/event1/house-thursday-night-speaker-a-wine-dinner-w-neal-rosenthal/
CATEGORIES:Social,Speaker
END:VEVENT
BEGIN:VEVENT
DTSTART;TZID=America/New_York:20250703T183000
DTEND;TZID=America/New_York:20250703T183000
DTSTAMP:20260419T180321
CREATED:20250407T200938Z
LAST-MODIFIED:20250407T200938Z
UID:10014527-1751567400-1751567400@norfolkcountryclub.com
SUMMARY:HOUSE /  THURSDAY NIGHT SPEAKER: John Orloff\, Screenwriter
DESCRIPTION:John Orloff\, Screenwriter of Band of Brothers and Masters of the Air: Bringing World War Two to the Small Screen
URL:https://norfolkcountryclub.com/event1/house-thursday-night-speaker-john-orloff-screenwriter-2/
CATEGORIES:Social,Speaker
END:VEVENT
BEGIN:VEVENT
DTSTART;TZID=America/New_York:20240829T183000
DTEND;TZID=America/New_York:20240829T183000
DTSTAMP:20260419T180321
CREATED:20240501T005030Z
LAST-MODIFIED:20240501T005443Z
UID:10013489-1724956200-1724956200@norfolkcountryclub.com
SUMMARY:HOUSE /  THURSDAY NIGHT SPEAKER: Jeremy Barnum\, CFO JP Morgan Chase\, 30 Years of Shocks to the System: From LTCM to Silicon Valley Bank
DESCRIPTION:Aug 29 – Jeremy Barnum\, CFO JP Morgan Chase\, 30 Years of Shocks to the System: From LTCM to Silicon Valley Bank
URL:https://norfolkcountryclub.com/event1/house-thursday-night-speaker-biographer-and-historian-dr-amanda-foreman-the-history-of-women-from-the-apple-to-the-pill/
CATEGORIES:Social,Speaker
END:VEVENT
BEGIN:VEVENT
DTSTART;TZID=America/New_York:20240822T183000
DTEND;TZID=America/New_York:20240822T183000
DTSTAMP:20260419T180321
CREATED:20240501T005933Z
LAST-MODIFIED:20240501T005933Z
UID:10013493-1724351400-1724351400@norfolkcountryclub.com
SUMMARY:HOUSE /  THURSDAY NIGHT SPEAKER: Sean Sawyer\, Frederic Church’s Olana: Art\, Ecology and the Native Forest 
DESCRIPTION:Aug 22 – Sean Sawyer\, Frederic Church’s Olana: Art\, Ecology and the Native Forest
URL:https://norfolkcountryclub.com/event1/house-thursday-night-speaker-sean-sawyer-frederic-churchs-olana-art-ecology-and-the-native-forest/
CATEGORIES:Social,Speaker
END:VEVENT
BEGIN:VEVENT
DTSTART;TZID=America/New_York:20240815T183000
DTEND;TZID=America/New_York:20240815T183000
DTSTAMP:20260419T180321
CREATED:20240501T005757Z
LAST-MODIFIED:20240501T005757Z
UID:10013492-1723746600-1723746600@norfolkcountryclub.com
SUMMARY:HOUSE /  THURSDAY NIGHT SPEAKER: Broadway Tales with Tony-Award Winning Conductor Ted Sperling
DESCRIPTION:Aug 15 – Broadway Tales with Tony-Award Winning Conductor Ted Sperling
URL:https://norfolkcountryclub.com/event1/house-thursday-night-speaker-broadway-tales-with-tony-award-winning-conductor-ted-sperling/
CATEGORIES:Social,Speaker
END:VEVENT
BEGIN:VEVENT
DTSTART;TZID=America/New_York:20240808T183000
DTEND;TZID=America/New_York:20240808T183000
DTSTAMP:20260419T180321
CREATED:20240501T005048Z
LAST-MODIFIED:20240501T005150Z
UID:10013490-1723141800-1723141800@norfolkcountryclub.com
SUMMARY:HOUSE /  THURSDAY NIGHT SPEAKER:  Island Hopping with Marine Biologist Ian Enochs: The Future of Coral Reefs
DESCRIPTION:Aug 8 – Island Hopping with Marine Biologist Ian Enochs: The Future of Coral Reefs
URL:https://norfolkcountryclub.com/event1/house-thursday-night-speaker-island-hopping-with-marine-biologist-ian-enochs-the-future-of-coral-reefs/
CATEGORIES:Social,Speaker
END:VEVENT
BEGIN:VEVENT
DTSTART;TZID=America/New_York:20240801T183000
DTEND;TZID=America/New_York:20240801T183000
DTSTAMP:20260419T180321
CREATED:20240501T005712Z
LAST-MODIFIED:20240501T005712Z
UID:10013491-1722537000-1722537000@norfolkcountryclub.com
SUMMARY:HOUSE /  THURSDAY NIGHT SPEAKER: Biographer and Historian Dr Amanda Foreman\, The History of Women\, From the Apple to the Pill
DESCRIPTION:Aug 1 – Biographer and Historian Dr Amanda Foreman\, The History of Women\, From the Apple to the Pill
URL:https://norfolkcountryclub.com/event1/house-thursday-night-speaker-biographer-and-historian-dr-amanda-foreman-the-history-of-women-from-the-apple-to-the-pill-2/
CATEGORIES:Social,Speaker
END:VEVENT
BEGIN:VEVENT
DTSTART;TZID=America/New_York:20240725T183000
DTEND;TZID=America/New_York:20240725T183000
DTSTAMP:20260419T180321
CREATED:20240501T005012Z
LAST-MODIFIED:20240501T005217Z
UID:10013488-1721932200-1721932200@norfolkcountryclub.com
SUMMARY:HOUSE /  THURSDAY NIGHT SPEAKER:  An Evening of Chamber Music with Yale in Norfolk
DESCRIPTION:July 25 – An Evening of Chamber Music with Yale in Norfolk
URL:https://norfolkcountryclub.com/event1/house-thursday-night-speaker-an-evening-of-chamber-music-with-yale-in-norfolk/
CATEGORIES:Social,Speaker
END:VEVENT
BEGIN:VEVENT
DTSTART;TZID=America/New_York:20240718T183000
DTEND;TZID=America/New_York:20240718T183000
DTSTAMP:20260419T180321
CREATED:20240501T004941Z
LAST-MODIFIED:20240501T005248Z
UID:10013487-1721327400-1721327400@norfolkcountryclub.com
SUMMARY:HOUSE /  THURSDAY NIGHT SPEAKER:  Former Editor of the Washington Post Marty Baron\, Interviewed by John Coston
DESCRIPTION:July 18 – Former Editor of the Washington Post Marty Baron\, Interviewed by John Coston
URL:https://norfolkcountryclub.com/event1/house-thursday-night-speaker-former-editor-of-the-washington-post-marty-baron-interviewed-by-john-coston/
CATEGORIES:Social,Speaker
END:VEVENT
BEGIN:VEVENT
DTSTART;TZID=America/New_York:20240711T183000
DTEND;TZID=America/New_York:20240711T183000
DTSTAMP:20260419T180321
CREATED:20240501T004916Z
LAST-MODIFIED:20240501T004916Z
UID:10013486-1720722600-1720722600@norfolkcountryclub.com
SUMMARY:HOUSE /  THURSDAY NIGHT SPEAKER: A Wine Dinner with Jim Nejaime\, Owner\, Spirited Wines\, Pittsfield
DESCRIPTION:July 11 – A Wine Dinner with Jim Nejaime\, Owner\, Spirited Wines\, Pittsfield
URL:https://norfolkcountryclub.com/event1/house-thursday-night-speaker-a-wine-dinner-with-jim-nejaime-owner-spirited-wines-pittsfield/
CATEGORIES:Social,Speaker
END:VEVENT
BEGIN:VEVENT
DTSTART;TZID=America/New_York:20240627T180000
DTEND;TZID=America/New_York:20240627T220000
DTSTAMP:20260419T180321
CREATED:20240501T004650Z
LAST-MODIFIED:20240501T004650Z
UID:10013485-1719511200-1719525600@norfolkcountryclub.com
SUMMARY:HOUSE /  Opening Thursday Night Speakers Event: Nat Geo Doc. Filmmaker Michael Churton\, Earthquakes and Avalanches: Challenges of Filming on Everest
DESCRIPTION:June 27: Opening Thursday Night Speakers Event:  \nNat Geo Doc. Filmmaker Michael Churton\, Earthquakes and Avalanches: Challenges of Filming on Everest \n  \n 
URL:https://norfolkcountryclub.com/event1/house-opening-thursday-night-speakers-event-nat-geo-doc-filmmaker-michael-churton-earthquakes-and-avalanches-challenges-of-filming-on-everest/
CATEGORIES:Social,Speaker
END:VEVENT
END:VCALENDAR