BEGIN:VCALENDAR
VERSION:2.0
PRODID:-//Norfolk Country Club - ECPv6.15.16//NONSGML v1.0//EN
CALSCALE:GREGORIAN
METHOD:PUBLISH
X-WR-CALNAME:Norfolk Country Club
X-ORIGINAL-URL:https://norfolkcountryclub.com
X-WR-CALDESC:Events for Norfolk Country Club
REFRESH-INTERVAL;VALUE=DURATION:PT1H
X-Robots-Tag:noindex
X-PUBLISHED-TTL:PT1H
BEGIN:VTIMEZONE
TZID:America/New_York
BEGIN:DAYLIGHT
TZOFFSETFROM:-0500
TZOFFSETTO:-0400
TZNAME:EDT
DTSTART:20230312T070000
END:DAYLIGHT
BEGIN:STANDARD
TZOFFSETFROM:-0400
TZOFFSETTO:-0500
TZNAME:EST
DTSTART:20231105T060000
END:STANDARD
BEGIN:DAYLIGHT
TZOFFSETFROM:-0500
TZOFFSETTO:-0400
TZNAME:EDT
DTSTART:20240310T070000
END:DAYLIGHT
BEGIN:STANDARD
TZOFFSETFROM:-0400
TZOFFSETTO:-0500
TZNAME:EST
DTSTART:20241103T060000
END:STANDARD
BEGIN:DAYLIGHT
TZOFFSETFROM:-0500
TZOFFSETTO:-0400
TZNAME:EDT
DTSTART:20250309T070000
END:DAYLIGHT
BEGIN:STANDARD
TZOFFSETFROM:-0400
TZOFFSETTO:-0500
TZNAME:EST
DTSTART:20251102T060000
END:STANDARD
BEGIN:DAYLIGHT
TZOFFSETFROM:-0500
TZOFFSETTO:-0400
TZNAME:EDT
DTSTART:20260308T070000
END:DAYLIGHT
BEGIN:STANDARD
TZOFFSETFROM:-0400
TZOFFSETTO:-0500
TZNAME:EST
DTSTART:20261101T060000
END:STANDARD
END:VTIMEZONE
BEGIN:VEVENT
DTSTART;VALUE=DATE:20241219
DTEND;VALUE=DATE:20241220
DTSTAMP:20260422T182256
CREATED:20240430T175150Z
LAST-MODIFIED:20240430T175254Z
UID:10013230-1734566400-1734652799@norfolkcountryclub.com
SUMMARY:CLUBHOUSE CLOSED
DESCRIPTION:Clubhouse closed for the season. \nSee you in 2025 \n 
URL:https://norfolkcountryclub.com/event1/clubhouse-closed-7/2024-12-19/
CATEGORIES:Social
END:VEVENT
BEGIN:VEVENT
DTSTART;VALUE=DATE:20241220
DTEND;VALUE=DATE:20241221
DTSTAMP:20260422T182256
CREATED:20240430T175150Z
LAST-MODIFIED:20240430T175254Z
UID:10013231-1734652800-1734739199@norfolkcountryclub.com
SUMMARY:CLUBHOUSE CLOSED
DESCRIPTION:Clubhouse closed for the season. \nSee you in 2025 \n 
URL:https://norfolkcountryclub.com/event1/clubhouse-closed-7/2024-12-20/
CATEGORIES:Social
END:VEVENT
BEGIN:VEVENT
DTSTART;VALUE=DATE:20241221
DTEND;VALUE=DATE:20241222
DTSTAMP:20260422T182256
CREATED:20240430T175150Z
LAST-MODIFIED:20240430T175254Z
UID:10013232-1734739200-1734825599@norfolkcountryclub.com
SUMMARY:CLUBHOUSE CLOSED
DESCRIPTION:Clubhouse closed for the season. \nSee you in 2025 \n 
URL:https://norfolkcountryclub.com/event1/clubhouse-closed-7/2024-12-21/
CATEGORIES:Social
END:VEVENT
BEGIN:VEVENT
DTSTART;VALUE=DATE:20241222
DTEND;VALUE=DATE:20241223
DTSTAMP:20260422T182256
CREATED:20240430T175150Z
LAST-MODIFIED:20240430T175254Z
UID:10013233-1734825600-1734911999@norfolkcountryclub.com
SUMMARY:CLUBHOUSE CLOSED
DESCRIPTION:Clubhouse closed for the season. \nSee you in 2025 \n 
URL:https://norfolkcountryclub.com/event1/clubhouse-closed-7/2024-12-22/
CATEGORIES:Social
END:VEVENT
BEGIN:VEVENT
DTSTART;VALUE=DATE:20241223
DTEND;VALUE=DATE:20241224
DTSTAMP:20260422T182256
CREATED:20240430T175150Z
LAST-MODIFIED:20240430T175254Z
UID:10013234-1734912000-1734998399@norfolkcountryclub.com
SUMMARY:CLUBHOUSE CLOSED
DESCRIPTION:Clubhouse closed for the season. \nSee you in 2025 \n 
URL:https://norfolkcountryclub.com/event1/clubhouse-closed-7/2024-12-23/
CATEGORIES:Social
END:VEVENT
BEGIN:VEVENT
DTSTART;VALUE=DATE:20241224
DTEND;VALUE=DATE:20241225
DTSTAMP:20260422T182256
CREATED:20240430T175150Z
LAST-MODIFIED:20240430T175254Z
UID:10013235-1734998400-1735084799@norfolkcountryclub.com
SUMMARY:CLUBHOUSE CLOSED
DESCRIPTION:Clubhouse closed for the season. \nSee you in 2025 \n 
URL:https://norfolkcountryclub.com/event1/clubhouse-closed-7/2024-12-24/
CATEGORIES:Social
END:VEVENT
BEGIN:VEVENT
DTSTART;VALUE=DATE:20241225
DTEND;VALUE=DATE:20241226
DTSTAMP:20260422T182256
CREATED:20240430T175150Z
LAST-MODIFIED:20240430T175254Z
UID:10013236-1735084800-1735171199@norfolkcountryclub.com
SUMMARY:CLUBHOUSE CLOSED
DESCRIPTION:Clubhouse closed for the season. \nSee you in 2025 \n 
URL:https://norfolkcountryclub.com/event1/clubhouse-closed-7/2024-12-25/
CATEGORIES:Social
END:VEVENT
BEGIN:VEVENT
DTSTART;VALUE=DATE:20241226
DTEND;VALUE=DATE:20241227
DTSTAMP:20260422T182256
CREATED:20240430T175150Z
LAST-MODIFIED:20240430T175254Z
UID:10013237-1735171200-1735257599@norfolkcountryclub.com
SUMMARY:CLUBHOUSE CLOSED
DESCRIPTION:Clubhouse closed for the season. \nSee you in 2025 \n 
URL:https://norfolkcountryclub.com/event1/clubhouse-closed-7/2024-12-26/
CATEGORIES:Social
END:VEVENT
BEGIN:VEVENT
DTSTART;VALUE=DATE:20241227
DTEND;VALUE=DATE:20241228
DTSTAMP:20260422T182256
CREATED:20240430T175150Z
LAST-MODIFIED:20240430T175254Z
UID:10013238-1735257600-1735343999@norfolkcountryclub.com
SUMMARY:CLUBHOUSE CLOSED
DESCRIPTION:Clubhouse closed for the season. \nSee you in 2025 \n 
URL:https://norfolkcountryclub.com/event1/clubhouse-closed-7/2024-12-27/
CATEGORIES:Social
END:VEVENT
BEGIN:VEVENT
DTSTART;VALUE=DATE:20241228
DTEND;VALUE=DATE:20241229
DTSTAMP:20260422T182256
CREATED:20240430T175150Z
LAST-MODIFIED:20240430T175254Z
UID:10013239-1735344000-1735430399@norfolkcountryclub.com
SUMMARY:CLUBHOUSE CLOSED
DESCRIPTION:Clubhouse closed for the season. \nSee you in 2025 \n 
URL:https://norfolkcountryclub.com/event1/clubhouse-closed-7/2024-12-28/
CATEGORIES:Social
END:VEVENT
BEGIN:VEVENT
DTSTART;VALUE=DATE:20241229
DTEND;VALUE=DATE:20241230
DTSTAMP:20260422T182256
CREATED:20240430T175150Z
LAST-MODIFIED:20240430T175254Z
UID:10013240-1735430400-1735516799@norfolkcountryclub.com
SUMMARY:CLUBHOUSE CLOSED
DESCRIPTION:Clubhouse closed for the season. \nSee you in 2025 \n 
URL:https://norfolkcountryclub.com/event1/clubhouse-closed-7/2024-12-29/
CATEGORIES:Social
END:VEVENT
BEGIN:VEVENT
DTSTART;VALUE=DATE:20241230
DTEND;VALUE=DATE:20241231
DTSTAMP:20260422T182256
CREATED:20240430T175150Z
LAST-MODIFIED:20240430T175254Z
UID:10013241-1735516800-1735603199@norfolkcountryclub.com
SUMMARY:CLUBHOUSE CLOSED
DESCRIPTION:Clubhouse closed for the season. \nSee you in 2025 \n 
URL:https://norfolkcountryclub.com/event1/clubhouse-closed-7/2024-12-30/
CATEGORIES:Social
END:VEVENT
BEGIN:VEVENT
DTSTART;VALUE=DATE:20241231
DTEND;VALUE=DATE:20250101
DTSTAMP:20260422T182257
CREATED:20240430T175150Z
LAST-MODIFIED:20240430T175254Z
UID:10013242-1735603200-1735689599@norfolkcountryclub.com
SUMMARY:CLUBHOUSE CLOSED
DESCRIPTION:Clubhouse closed for the season. \nSee you in 2025 \n 
URL:https://norfolkcountryclub.com/event1/clubhouse-closed-7/2024-12-31/
CATEGORIES:Social
END:VEVENT
BEGIN:VEVENT
DTSTART;VALUE=DATE:20250101
DTEND;VALUE=DATE:20250102
DTSTAMP:20260422T182257
CREATED:20240430T175150Z
LAST-MODIFIED:20240430T175254Z
UID:10013243-1735689600-1735775999@norfolkcountryclub.com
SUMMARY:CLUBHOUSE CLOSED
DESCRIPTION:Clubhouse closed for the season. \nSee you in 2025 \n 
URL:https://norfolkcountryclub.com/event1/clubhouse-closed-7/2025-01-01/
CATEGORIES:Social
END:VEVENT
BEGIN:VEVENT
DTSTART;VALUE=DATE:20250102
DTEND;VALUE=DATE:20250103
DTSTAMP:20260422T182257
CREATED:20240430T175150Z
LAST-MODIFIED:20240430T175254Z
UID:10013244-1735776000-1735862399@norfolkcountryclub.com
SUMMARY:CLUBHOUSE CLOSED
DESCRIPTION:Clubhouse closed for the season. \nSee you in 2025 \n 
URL:https://norfolkcountryclub.com/event1/clubhouse-closed-7/2025-01-02/
CATEGORIES:Social
END:VEVENT
BEGIN:VEVENT
DTSTART;VALUE=DATE:20250103
DTEND;VALUE=DATE:20250104
DTSTAMP:20260422T182257
CREATED:20240430T175150Z
LAST-MODIFIED:20240430T175254Z
UID:10013245-1735862400-1735948799@norfolkcountryclub.com
SUMMARY:CLUBHOUSE CLOSED
DESCRIPTION:Clubhouse closed for the season. \nSee you in 2025 \n 
URL:https://norfolkcountryclub.com/event1/clubhouse-closed-7/2025-01-03/
CATEGORIES:Social
END:VEVENT
BEGIN:VEVENT
DTSTART;VALUE=DATE:20250104
DTEND;VALUE=DATE:20250105
DTSTAMP:20260422T182257
CREATED:20240430T175150Z
LAST-MODIFIED:20240430T175254Z
UID:10013246-1735948800-1736035199@norfolkcountryclub.com
SUMMARY:CLUBHOUSE CLOSED
DESCRIPTION:Clubhouse closed for the season. \nSee you in 2025 \n 
URL:https://norfolkcountryclub.com/event1/clubhouse-closed-7/2025-01-04/
CATEGORIES:Social
END:VEVENT
BEGIN:VEVENT
DTSTART;VALUE=DATE:20250105
DTEND;VALUE=DATE:20250106
DTSTAMP:20260422T182257
CREATED:20240430T175150Z
LAST-MODIFIED:20240430T175254Z
UID:10013247-1736035200-1736121599@norfolkcountryclub.com
SUMMARY:CLUBHOUSE CLOSED
DESCRIPTION:Clubhouse closed for the season. \nSee you in 2025 \n 
URL:https://norfolkcountryclub.com/event1/clubhouse-closed-7/2025-01-05/
CATEGORIES:Social
END:VEVENT
BEGIN:VEVENT
DTSTART;VALUE=DATE:20250106
DTEND;VALUE=DATE:20250107
DTSTAMP:20260422T182257
CREATED:20240430T175150Z
LAST-MODIFIED:20240430T175254Z
UID:10013248-1736121600-1736207999@norfolkcountryclub.com
SUMMARY:CLUBHOUSE CLOSED
DESCRIPTION:Clubhouse closed for the season. \nSee you in 2025 \n 
URL:https://norfolkcountryclub.com/event1/clubhouse-closed-7/2025-01-06/
CATEGORIES:Social
END:VEVENT
BEGIN:VEVENT
DTSTART;VALUE=DATE:20250107
DTEND;VALUE=DATE:20250108
DTSTAMP:20260422T182257
CREATED:20240430T175150Z
LAST-MODIFIED:20240430T175254Z
UID:10013249-1736208000-1736294399@norfolkcountryclub.com
SUMMARY:CLUBHOUSE CLOSED
DESCRIPTION:Clubhouse closed for the season. \nSee you in 2025 \n 
URL:https://norfolkcountryclub.com/event1/clubhouse-closed-7/2025-01-07/
CATEGORIES:Social
END:VEVENT
BEGIN:VEVENT
DTSTART;VALUE=DATE:20250108
DTEND;VALUE=DATE:20250109
DTSTAMP:20260422T182257
CREATED:20240430T175150Z
LAST-MODIFIED:20240430T175254Z
UID:10013250-1736294400-1736380799@norfolkcountryclub.com
SUMMARY:CLUBHOUSE CLOSED
DESCRIPTION:Clubhouse closed for the season. \nSee you in 2025 \n 
URL:https://norfolkcountryclub.com/event1/clubhouse-closed-7/2025-01-08/
CATEGORIES:Social
END:VEVENT
BEGIN:VEVENT
DTSTART;VALUE=DATE:20250109
DTEND;VALUE=DATE:20250110
DTSTAMP:20260422T182257
CREATED:20240430T175150Z
LAST-MODIFIED:20240430T175254Z
UID:10013251-1736380800-1736467199@norfolkcountryclub.com
SUMMARY:CLUBHOUSE CLOSED
DESCRIPTION:Clubhouse closed for the season. \nSee you in 2025 \n 
URL:https://norfolkcountryclub.com/event1/clubhouse-closed-7/2025-01-09/
CATEGORIES:Social
END:VEVENT
BEGIN:VEVENT
DTSTART;VALUE=DATE:20250110
DTEND;VALUE=DATE:20250111
DTSTAMP:20260422T182257
CREATED:20240430T175150Z
LAST-MODIFIED:20240430T175254Z
UID:10013252-1736467200-1736553599@norfolkcountryclub.com
SUMMARY:CLUBHOUSE CLOSED
DESCRIPTION:Clubhouse closed for the season. \nSee you in 2025 \n 
URL:https://norfolkcountryclub.com/event1/clubhouse-closed-7/2025-01-10/
CATEGORIES:Social
END:VEVENT
BEGIN:VEVENT
DTSTART;VALUE=DATE:20250111
DTEND;VALUE=DATE:20250112
DTSTAMP:20260422T182257
CREATED:20240430T175150Z
LAST-MODIFIED:20240430T175254Z
UID:10013253-1736553600-1736639999@norfolkcountryclub.com
SUMMARY:CLUBHOUSE CLOSED
DESCRIPTION:Clubhouse closed for the season. \nSee you in 2025 \n 
URL:https://norfolkcountryclub.com/event1/clubhouse-closed-7/2025-01-11/
CATEGORIES:Social
END:VEVENT
BEGIN:VEVENT
DTSTART;VALUE=DATE:20250112
DTEND;VALUE=DATE:20250113
DTSTAMP:20260422T182257
CREATED:20240430T175150Z
LAST-MODIFIED:20240430T175254Z
UID:10013254-1736640000-1736726399@norfolkcountryclub.com
SUMMARY:CLUBHOUSE CLOSED
DESCRIPTION:Clubhouse closed for the season. \nSee you in 2025 \n 
URL:https://norfolkcountryclub.com/event1/clubhouse-closed-7/2025-01-12/
CATEGORIES:Social
END:VEVENT
BEGIN:VEVENT
DTSTART;VALUE=DATE:20250113
DTEND;VALUE=DATE:20250114
DTSTAMP:20260422T182257
CREATED:20240430T175150Z
LAST-MODIFIED:20240430T175254Z
UID:10013255-1736726400-1736812799@norfolkcountryclub.com
SUMMARY:CLUBHOUSE CLOSED
DESCRIPTION:Clubhouse closed for the season. \nSee you in 2025 \n 
URL:https://norfolkcountryclub.com/event1/clubhouse-closed-7/2025-01-13/
CATEGORIES:Social
END:VEVENT
BEGIN:VEVENT
DTSTART;VALUE=DATE:20250114
DTEND;VALUE=DATE:20250115
DTSTAMP:20260422T182257
CREATED:20240430T175150Z
LAST-MODIFIED:20240430T175254Z
UID:10013256-1736812800-1736899199@norfolkcountryclub.com
SUMMARY:CLUBHOUSE CLOSED
DESCRIPTION:Clubhouse closed for the season. \nSee you in 2025 \n 
URL:https://norfolkcountryclub.com/event1/clubhouse-closed-7/2025-01-14/
CATEGORIES:Social
END:VEVENT
BEGIN:VEVENT
DTSTART;VALUE=DATE:20250115
DTEND;VALUE=DATE:20250116
DTSTAMP:20260422T182257
CREATED:20240430T175150Z
LAST-MODIFIED:20240430T175254Z
UID:10013257-1736899200-1736985599@norfolkcountryclub.com
SUMMARY:CLUBHOUSE CLOSED
DESCRIPTION:Clubhouse closed for the season. \nSee you in 2025 \n 
URL:https://norfolkcountryclub.com/event1/clubhouse-closed-7/2025-01-15/
CATEGORIES:Social
END:VEVENT
BEGIN:VEVENT
DTSTART;VALUE=DATE:20250116
DTEND;VALUE=DATE:20250117
DTSTAMP:20260422T182257
CREATED:20240430T175150Z
LAST-MODIFIED:20240430T175254Z
UID:10013258-1736985600-1737071999@norfolkcountryclub.com
SUMMARY:CLUBHOUSE CLOSED
DESCRIPTION:Clubhouse closed for the season. \nSee you in 2025 \n 
URL:https://norfolkcountryclub.com/event1/clubhouse-closed-7/2025-01-16/
CATEGORIES:Social
END:VEVENT
BEGIN:VEVENT
DTSTART;VALUE=DATE:20250117
DTEND;VALUE=DATE:20250118
DTSTAMP:20260422T182257
CREATED:20240430T175150Z
LAST-MODIFIED:20240430T175254Z
UID:10013259-1737072000-1737158399@norfolkcountryclub.com
SUMMARY:CLUBHOUSE CLOSED
DESCRIPTION:Clubhouse closed for the season. \nSee you in 2025 \n 
URL:https://norfolkcountryclub.com/event1/clubhouse-closed-7/2025-01-17/
CATEGORIES:Social
END:VEVENT
END:VCALENDAR