BEGIN:VCALENDAR
VERSION:2.0
PRODID:-//Norfolk Country Club - ECPv6.15.16//NONSGML v1.0//EN
CALSCALE:GREGORIAN
METHOD:PUBLISH
X-ORIGINAL-URL:https://norfolkcountryclub.com
X-WR-CALDESC:Events for Norfolk Country Club
REFRESH-INTERVAL;VALUE=DURATION:PT1H
X-Robots-Tag:noindex
X-PUBLISHED-TTL:PT1H
BEGIN:VTIMEZONE
TZID:America/New_York
BEGIN:DAYLIGHT
TZOFFSETFROM:-0500
TZOFFSETTO:-0400
TZNAME:EDT
DTSTART:20240310T070000
END:DAYLIGHT
BEGIN:STANDARD
TZOFFSETFROM:-0400
TZOFFSETTO:-0500
TZNAME:EST
DTSTART:20241103T060000
END:STANDARD
BEGIN:DAYLIGHT
TZOFFSETFROM:-0500
TZOFFSETTO:-0400
TZNAME:EDT
DTSTART:20250309T070000
END:DAYLIGHT
BEGIN:STANDARD
TZOFFSETFROM:-0400
TZOFFSETTO:-0500
TZNAME:EST
DTSTART:20251102T060000
END:STANDARD
BEGIN:DAYLIGHT
TZOFFSETFROM:-0500
TZOFFSETTO:-0400
TZNAME:EDT
DTSTART:20260308T070000
END:DAYLIGHT
BEGIN:STANDARD
TZOFFSETFROM:-0400
TZOFFSETTO:-0500
TZNAME:EST
DTSTART:20261101T060000
END:STANDARD
END:VTIMEZONE
BEGIN:VEVENT
DTSTART;TZID=America/New_York:20250904T113000
DTEND;TZID=America/New_York:20250904T143000
DTSTAMP:20260421T205547
CREATED:20250406T192859Z
LAST-MODIFIED:20250408T200129Z
UID:10015640-1756985400-1756996200@norfolkcountryclub.com
SUMMARY:HOUSE / Lunch Service
DESCRIPTION:Lunch service available \nPlease consult the weekly members email for the week’s menu.
URL:https://norfolkcountryclub.com/event1/house-lunch-service-8/2025-09-04/
CATEGORIES:Restaurant,Social
END:VEVENT
BEGIN:VEVENT
DTSTART;TZID=America/New_York:20250905T113000
DTEND;TZID=America/New_York:20250905T143000
DTSTAMP:20260421T205547
CREATED:20250406T192859Z
LAST-MODIFIED:20250408T200129Z
UID:10015078-1757071800-1757082600@norfolkcountryclub.com
SUMMARY:HOUSE / Lunch Service
DESCRIPTION:Lunch service available \nPlease consult the weekly members email for the week’s menu.
URL:https://norfolkcountryclub.com/event1/house-lunch-service-8/2025-09-05/
CATEGORIES:Restaurant,Social
END:VEVENT
BEGIN:VEVENT
DTSTART;TZID=America/New_York:20250905T173000
DTEND;TZID=America/New_York:20250905T210000
DTSTAMP:20260421T205547
CREATED:20250406T195122Z
LAST-MODIFIED:20250408T200442Z
UID:10015126-1757093400-1757106000@norfolkcountryclub.com
SUMMARY:HOUSE / Weekend Dinner Service
DESCRIPTION:Dinner service available \nPlease consult the weekly members email for the week’s menu.
URL:https://norfolkcountryclub.com/event1/house-weekend-dinner-service-3/2025-09-05/
CATEGORIES:Restaurant,Social
END:VEVENT
BEGIN:VEVENT
DTSTART;TZID=America/New_York:20250906T113000
DTEND;TZID=America/New_York:20250906T143000
DTSTAMP:20260421T205547
CREATED:20250406T192859Z
LAST-MODIFIED:20250408T200129Z
UID:10015079-1757158200-1757169000@norfolkcountryclub.com
SUMMARY:HOUSE / Lunch Service
DESCRIPTION:Lunch service available \nPlease consult the weekly members email for the week’s menu.
URL:https://norfolkcountryclub.com/event1/house-lunch-service-8/2025-09-06/
CATEGORIES:Restaurant,Social
END:VEVENT
BEGIN:VEVENT
DTSTART;TZID=America/New_York:20250906T173000
DTEND;TZID=America/New_York:20250906T210000
DTSTAMP:20260421T205547
CREATED:20250406T195122Z
LAST-MODIFIED:20250408T200442Z
UID:10015127-1757179800-1757192400@norfolkcountryclub.com
SUMMARY:HOUSE / Weekend Dinner Service
DESCRIPTION:Dinner service available \nPlease consult the weekly members email for the week’s menu.
URL:https://norfolkcountryclub.com/event1/house-weekend-dinner-service-3/2025-09-06/
CATEGORIES:Restaurant,Social
END:VEVENT
BEGIN:VEVENT
DTSTART;TZID=America/New_York:20250907T113000
DTEND;TZID=America/New_York:20250907T143000
DTSTAMP:20260421T205547
CREATED:20250406T192859Z
LAST-MODIFIED:20250408T200129Z
UID:10015080-1757244600-1757255400@norfolkcountryclub.com
SUMMARY:HOUSE / Lunch Service
DESCRIPTION:Lunch service available \nPlease consult the weekly members email for the week’s menu.
URL:https://norfolkcountryclub.com/event1/house-lunch-service-8/2025-09-07/
CATEGORIES:Restaurant,Social
END:VEVENT
BEGIN:VEVENT
DTSTART;VALUE=DATE:20250908
DTEND;VALUE=DATE:20250909
DTSTAMP:20260421T205547
CREATED:20250205T191530Z
LAST-MODIFIED:20250406T202446Z
UID:10014015-1757289600-1757375999@norfolkcountryclub.com
SUMMARY:Clubhouse Closed Mondays
DESCRIPTION:Clubhouse Closed
URL:https://norfolkcountryclub.com/event1/clubhouse-closed-mondays/2025-09-08/
CATEGORIES:Restaurant,Social
END:VEVENT
BEGIN:VEVENT
DTSTART;TZID=America/New_York:20250908T113000
DTEND;TZID=America/New_York:20250908T143000
DTSTAMP:20260421T205547
CREATED:20250406T192859Z
LAST-MODIFIED:20250408T200129Z
UID:10015641-1757331000-1757341800@norfolkcountryclub.com
SUMMARY:HOUSE / Lunch Service
DESCRIPTION:Lunch service available \nPlease consult the weekly members email for the week’s menu.
URL:https://norfolkcountryclub.com/event1/house-lunch-service-8/2025-09-08/
CATEGORIES:Restaurant,Social
END:VEVENT
BEGIN:VEVENT
DTSTART;VALUE=DATE:20250909
DTEND;VALUE=DATE:20250910
DTSTAMP:20260421T205547
CREATED:20250406T202231Z
LAST-MODIFIED:20250406T202321Z
UID:10015157-1757376000-1757462399@norfolkcountryclub.com
SUMMARY:Clubhouse Closed
DESCRIPTION:Clubhouse Closed
URL:https://norfolkcountryclub.com/event1/clubhouse-closed-8/2025-09-09/
CATEGORIES:Restaurant,Social
END:VEVENT
BEGIN:VEVENT
DTSTART;TZID=America/New_York:20250909T113000
DTEND;TZID=America/New_York:20250909T143000
DTSTAMP:20260421T205547
CREATED:20250406T192859Z
LAST-MODIFIED:20250408T200129Z
UID:10015642-1757417400-1757428200@norfolkcountryclub.com
SUMMARY:HOUSE / Lunch Service
DESCRIPTION:Lunch service available \nPlease consult the weekly members email for the week’s menu.
URL:https://norfolkcountryclub.com/event1/house-lunch-service-8/2025-09-09/
CATEGORIES:Restaurant,Social
END:VEVENT
BEGIN:VEVENT
DTSTART;TZID=America/New_York:20250910T113000
DTEND;TZID=America/New_York:20250910T143000
DTSTAMP:20260421T205547
CREATED:20250406T192859Z
LAST-MODIFIED:20250408T200129Z
UID:10015081-1757503800-1757514600@norfolkcountryclub.com
SUMMARY:HOUSE / Lunch Service
DESCRIPTION:Lunch service available \nPlease consult the weekly members email for the week’s menu.
URL:https://norfolkcountryclub.com/event1/house-lunch-service-8/2025-09-10/
CATEGORIES:Restaurant,Social
END:VEVENT
BEGIN:VEVENT
DTSTART;TZID=America/New_York:20250910T173000
DTEND;TZID=America/New_York:20250910T203000
DTSTAMP:20260421T205547
CREATED:20250205T191100Z
LAST-MODIFIED:20250406T203000Z
UID:10013812-1757525400-1757536200@norfolkcountryclub.com
SUMMARY:HOUSE / Wednesday Dinner Service
DESCRIPTION:Dinner service available \nPlease consult the weekly members email for the week’s menu.
URL:https://norfolkcountryclub.com/event1/house-wednesday-dinner-service-3/2025-09-10/
CATEGORIES:Restaurant,Social
END:VEVENT
BEGIN:VEVENT
DTSTART;VALUE=DATE:20250911
DTEND;VALUE=DATE:20250912
DTSTAMP:20260421T205547
CREATED:20250406T202231Z
LAST-MODIFIED:20250406T202321Z
UID:10015158-1757548800-1757635199@norfolkcountryclub.com
SUMMARY:Clubhouse Closed
DESCRIPTION:Clubhouse Closed
URL:https://norfolkcountryclub.com/event1/clubhouse-closed-8/2025-09-11/
CATEGORIES:Restaurant,Social
END:VEVENT
BEGIN:VEVENT
DTSTART;TZID=America/New_York:20250911T113000
DTEND;TZID=America/New_York:20250911T143000
DTSTAMP:20260421T205547
CREATED:20250406T192859Z
LAST-MODIFIED:20250408T200129Z
UID:10015643-1757590200-1757601000@norfolkcountryclub.com
SUMMARY:HOUSE / Lunch Service
DESCRIPTION:Lunch service available \nPlease consult the weekly members email for the week’s menu.
URL:https://norfolkcountryclub.com/event1/house-lunch-service-8/2025-09-11/
CATEGORIES:Restaurant,Social
END:VEVENT
BEGIN:VEVENT
DTSTART;TZID=America/New_York:20250912T113000
DTEND;TZID=America/New_York:20250912T143000
DTSTAMP:20260421T205547
CREATED:20250406T192859Z
LAST-MODIFIED:20250408T200129Z
UID:10015082-1757676600-1757687400@norfolkcountryclub.com
SUMMARY:HOUSE / Lunch Service
DESCRIPTION:Lunch service available \nPlease consult the weekly members email for the week’s menu.
URL:https://norfolkcountryclub.com/event1/house-lunch-service-8/2025-09-12/
CATEGORIES:Restaurant,Social
END:VEVENT
BEGIN:VEVENT
DTSTART;TZID=America/New_York:20250912T173000
DTEND;TZID=America/New_York:20250912T210000
DTSTAMP:20260421T205547
CREATED:20250406T195122Z
LAST-MODIFIED:20250408T200442Z
UID:10015128-1757698200-1757710800@norfolkcountryclub.com
SUMMARY:HOUSE / Weekend Dinner Service
DESCRIPTION:Dinner service available \nPlease consult the weekly members email for the week’s menu.
URL:https://norfolkcountryclub.com/event1/house-weekend-dinner-service-3/2025-09-12/
CATEGORIES:Restaurant,Social
END:VEVENT
BEGIN:VEVENT
DTSTART;TZID=America/New_York:20250913T113000
DTEND;TZID=America/New_York:20250913T143000
DTSTAMP:20260421T205547
CREATED:20250406T192859Z
LAST-MODIFIED:20250408T200129Z
UID:10015083-1757763000-1757773800@norfolkcountryclub.com
SUMMARY:HOUSE / Lunch Service
DESCRIPTION:Lunch service available \nPlease consult the weekly members email for the week’s menu.
URL:https://norfolkcountryclub.com/event1/house-lunch-service-8/2025-09-13/
CATEGORIES:Restaurant,Social
END:VEVENT
BEGIN:VEVENT
DTSTART;TZID=America/New_York:20250913T173000
DTEND;TZID=America/New_York:20250913T210000
DTSTAMP:20260421T205547
CREATED:20250406T195122Z
LAST-MODIFIED:20250408T200442Z
UID:10015129-1757784600-1757797200@norfolkcountryclub.com
SUMMARY:HOUSE / Weekend Dinner Service
DESCRIPTION:Dinner service available \nPlease consult the weekly members email for the week’s menu.
URL:https://norfolkcountryclub.com/event1/house-weekend-dinner-service-3/2025-09-13/
CATEGORIES:Restaurant,Social
END:VEVENT
BEGIN:VEVENT
DTSTART;TZID=America/New_York:20250914T113000
DTEND;TZID=America/New_York:20250914T143000
DTSTAMP:20260421T205547
CREATED:20250406T192859Z
LAST-MODIFIED:20250408T200129Z
UID:10015084-1757849400-1757860200@norfolkcountryclub.com
SUMMARY:HOUSE / Lunch Service
DESCRIPTION:Lunch service available \nPlease consult the weekly members email for the week’s menu.
URL:https://norfolkcountryclub.com/event1/house-lunch-service-8/2025-09-14/
CATEGORIES:Restaurant,Social
END:VEVENT
BEGIN:VEVENT
DTSTART;VALUE=DATE:20250915
DTEND;VALUE=DATE:20250916
DTSTAMP:20260421T205547
CREATED:20250205T191530Z
LAST-MODIFIED:20250406T202446Z
UID:10014016-1757894400-1757980799@norfolkcountryclub.com
SUMMARY:Clubhouse Closed Mondays
DESCRIPTION:Clubhouse Closed
URL:https://norfolkcountryclub.com/event1/clubhouse-closed-mondays/2025-09-15/
CATEGORIES:Restaurant,Social
END:VEVENT
BEGIN:VEVENT
DTSTART;TZID=America/New_York:20250915T113000
DTEND;TZID=America/New_York:20250915T143000
DTSTAMP:20260421T205547
CREATED:20250406T192859Z
LAST-MODIFIED:20250408T200129Z
UID:10015644-1757935800-1757946600@norfolkcountryclub.com
SUMMARY:HOUSE / Lunch Service
DESCRIPTION:Lunch service available \nPlease consult the weekly members email for the week’s menu.
URL:https://norfolkcountryclub.com/event1/house-lunch-service-8/2025-09-15/
CATEGORIES:Restaurant,Social
END:VEVENT
BEGIN:VEVENT
DTSTART;VALUE=DATE:20250916
DTEND;VALUE=DATE:20250917
DTSTAMP:20260421T205547
CREATED:20250406T202231Z
LAST-MODIFIED:20250406T202321Z
UID:10015159-1757980800-1758067199@norfolkcountryclub.com
SUMMARY:Clubhouse Closed
DESCRIPTION:Clubhouse Closed
URL:https://norfolkcountryclub.com/event1/clubhouse-closed-8/2025-09-16/
CATEGORIES:Restaurant,Social
END:VEVENT
BEGIN:VEVENT
DTSTART;TZID=America/New_York:20250916T113000
DTEND;TZID=America/New_York:20250916T143000
DTSTAMP:20260421T205547
CREATED:20250406T192859Z
LAST-MODIFIED:20250408T200129Z
UID:10015645-1758022200-1758033000@norfolkcountryclub.com
SUMMARY:HOUSE / Lunch Service
DESCRIPTION:Lunch service available \nPlease consult the weekly members email for the week’s menu.
URL:https://norfolkcountryclub.com/event1/house-lunch-service-8/2025-09-16/
CATEGORIES:Restaurant,Social
END:VEVENT
BEGIN:VEVENT
DTSTART;TZID=America/New_York:20250917T113000
DTEND;TZID=America/New_York:20250917T143000
DTSTAMP:20260421T205547
CREATED:20250406T192859Z
LAST-MODIFIED:20250408T200129Z
UID:10015085-1758108600-1758119400@norfolkcountryclub.com
SUMMARY:HOUSE / Lunch Service
DESCRIPTION:Lunch service available \nPlease consult the weekly members email for the week’s menu.
URL:https://norfolkcountryclub.com/event1/house-lunch-service-8/2025-09-17/
CATEGORIES:Restaurant,Social
END:VEVENT
BEGIN:VEVENT
DTSTART;TZID=America/New_York:20250917T173000
DTEND;TZID=America/New_York:20250917T203000
DTSTAMP:20260421T205547
CREATED:20250205T191100Z
LAST-MODIFIED:20250406T203000Z
UID:10013813-1758130200-1758141000@norfolkcountryclub.com
SUMMARY:HOUSE / Wednesday Dinner Service
DESCRIPTION:Dinner service available \nPlease consult the weekly members email for the week’s menu.
URL:https://norfolkcountryclub.com/event1/house-wednesday-dinner-service-3/2025-09-17/
CATEGORIES:Restaurant,Social
END:VEVENT
BEGIN:VEVENT
DTSTART;VALUE=DATE:20250918
DTEND;VALUE=DATE:20250919
DTSTAMP:20260421T205547
CREATED:20250406T202231Z
LAST-MODIFIED:20250406T202321Z
UID:10015160-1758153600-1758239999@norfolkcountryclub.com
SUMMARY:Clubhouse Closed
DESCRIPTION:Clubhouse Closed
URL:https://norfolkcountryclub.com/event1/clubhouse-closed-8/2025-09-18/
CATEGORIES:Restaurant,Social
END:VEVENT
BEGIN:VEVENT
DTSTART;TZID=America/New_York:20250918T113000
DTEND;TZID=America/New_York:20250918T143000
DTSTAMP:20260421T205547
CREATED:20250406T192859Z
LAST-MODIFIED:20250408T200129Z
UID:10015646-1758195000-1758205800@norfolkcountryclub.com
SUMMARY:HOUSE / Lunch Service
DESCRIPTION:Lunch service available \nPlease consult the weekly members email for the week’s menu.
URL:https://norfolkcountryclub.com/event1/house-lunch-service-8/2025-09-18/
CATEGORIES:Restaurant,Social
END:VEVENT
BEGIN:VEVENT
DTSTART;TZID=America/New_York:20250919T113000
DTEND;TZID=America/New_York:20250919T143000
DTSTAMP:20260421T205547
CREATED:20250406T192859Z
LAST-MODIFIED:20250408T200129Z
UID:10015086-1758281400-1758292200@norfolkcountryclub.com
SUMMARY:HOUSE / Lunch Service
DESCRIPTION:Lunch service available \nPlease consult the weekly members email for the week’s menu.
URL:https://norfolkcountryclub.com/event1/house-lunch-service-8/2025-09-19/
CATEGORIES:Restaurant,Social
END:VEVENT
BEGIN:VEVENT
DTSTART;TZID=America/New_York:20250919T173000
DTEND;TZID=America/New_York:20250919T210000
DTSTAMP:20260421T205547
CREATED:20250406T195122Z
LAST-MODIFIED:20250408T200442Z
UID:10015130-1758303000-1758315600@norfolkcountryclub.com
SUMMARY:HOUSE / Weekend Dinner Service
DESCRIPTION:Dinner service available \nPlease consult the weekly members email for the week’s menu.
URL:https://norfolkcountryclub.com/event1/house-weekend-dinner-service-3/2025-09-19/
CATEGORIES:Restaurant,Social
END:VEVENT
BEGIN:VEVENT
DTSTART;TZID=America/New_York:20250920T113000
DTEND;TZID=America/New_York:20250920T143000
DTSTAMP:20260421T205547
CREATED:20250406T192859Z
LAST-MODIFIED:20250408T200129Z
UID:10015087-1758367800-1758378600@norfolkcountryclub.com
SUMMARY:HOUSE / Lunch Service
DESCRIPTION:Lunch service available \nPlease consult the weekly members email for the week’s menu.
URL:https://norfolkcountryclub.com/event1/house-lunch-service-8/2025-09-20/
CATEGORIES:Restaurant,Social
END:VEVENT
END:VCALENDAR