BEGIN:VCALENDAR
VERSION:2.0
PRODID:-//Norfolk Country Club - ECPv6.15.16//NONSGML v1.0//EN
CALSCALE:GREGORIAN
METHOD:PUBLISH
X-ORIGINAL-URL:https://norfolkcountryclub.com
X-WR-CALDESC:Events for Norfolk Country Club
REFRESH-INTERVAL;VALUE=DURATION:PT1H
X-Robots-Tag:noindex
X-PUBLISHED-TTL:PT1H
BEGIN:VTIMEZONE
TZID:America/New_York
BEGIN:DAYLIGHT
TZOFFSETFROM:-0500
TZOFFSETTO:-0400
TZNAME:EDT
DTSTART:20240310T070000
END:DAYLIGHT
BEGIN:STANDARD
TZOFFSETFROM:-0400
TZOFFSETTO:-0500
TZNAME:EST
DTSTART:20241103T060000
END:STANDARD
BEGIN:DAYLIGHT
TZOFFSETFROM:-0500
TZOFFSETTO:-0400
TZNAME:EDT
DTSTART:20250309T070000
END:DAYLIGHT
BEGIN:STANDARD
TZOFFSETFROM:-0400
TZOFFSETTO:-0500
TZNAME:EST
DTSTART:20251102T060000
END:STANDARD
BEGIN:DAYLIGHT
TZOFFSETFROM:-0500
TZOFFSETTO:-0400
TZNAME:EDT
DTSTART:20260308T070000
END:DAYLIGHT
BEGIN:STANDARD
TZOFFSETFROM:-0400
TZOFFSETTO:-0500
TZNAME:EST
DTSTART:20261101T060000
END:STANDARD
END:VTIMEZONE
BEGIN:VTIMEZONE
TZID:UTC
BEGIN:STANDARD
TZOFFSETFROM:+0000
TZOFFSETTO:+0000
TZNAME:UTC
DTSTART:20240101T000000
END:STANDARD
END:VTIMEZONE
BEGIN:VEVENT
DTSTART;TZID=America/New_York:20250701T190000
DTEND;TZID=America/New_York:20250701T190000
DTSTAMP:20260421T223919
CREATED:20250205T191915Z
LAST-MODIFIED:20250205T191915Z
UID:10014062-1751396400-1751396400@norfolkcountryclub.com
SUMMARY:HOUSE / BRIDGE
DESCRIPTION:Games begin promptly at 7:00 pm and everyone is encouraged to come to the dinner buffet at 6:00pm. \nGuests: Guests are welcome to attend with a sponsoring member and may play unlimited games throughout the season. \nThe guest fee for just bridge play is $10.00 (chit basis) per evening.
URL:https://norfolkcountryclub.com/event1/house-bridge-2/2025-07-01/
CATEGORIES:Bridge,Social
END:VEVENT
BEGIN:VEVENT
DTSTART;TZID=America/New_York:20250702T113000
DTEND;TZID=America/New_York:20250702T143000
DTSTAMP:20260421T223919
CREATED:20250406T192311Z
LAST-MODIFIED:20250406T195840Z
UID:10015015-1751455800-1751466600@norfolkcountryclub.com
SUMMARY:HOUSE / Lunch Service
DESCRIPTION:Lunch service available \nPlease consult the weekly members email for the week’s menu.
URL:https://norfolkcountryclub.com/event1/house-lunch-service-7/2025-07-02/
CATEGORIES:Restaurant,Social
END:VEVENT
BEGIN:VEVENT
DTSTART;TZID=America/New_York:20250702T173000
DTEND;TZID=America/New_York:20250702T203000
DTSTAMP:20260421T223919
CREATED:20250205T191100Z
LAST-MODIFIED:20250406T203000Z
UID:10013802-1751477400-1751488200@norfolkcountryclub.com
SUMMARY:HOUSE / Wednesday Dinner Service
DESCRIPTION:Dinner service available \nPlease consult the weekly members email for the week’s menu.
URL:https://norfolkcountryclub.com/event1/house-wednesday-dinner-service-3/2025-07-02/
CATEGORIES:Restaurant,Social
END:VEVENT
BEGIN:VEVENT
DTSTART;TZID=America/New_York:20250703T113000
DTEND;TZID=America/New_York:20250703T143000
DTSTAMP:20260421T223919
CREATED:20250406T192311Z
LAST-MODIFIED:20250406T195840Z
UID:10015016-1751542200-1751553000@norfolkcountryclub.com
SUMMARY:HOUSE / Lunch Service
DESCRIPTION:Lunch service available \nPlease consult the weekly members email for the week’s menu.
URL:https://norfolkcountryclub.com/event1/house-lunch-service-7/2025-07-03/
CATEGORIES:Restaurant,Social
END:VEVENT
BEGIN:VEVENT
DTSTART;TZID=America/New_York:20250703T183000
DTEND;TZID=America/New_York:20250703T183000
DTSTAMP:20260421T223919
CREATED:20250407T200938Z
LAST-MODIFIED:20250407T200938Z
UID:10014527-1751567400-1751567400@norfolkcountryclub.com
SUMMARY:HOUSE /  THURSDAY NIGHT SPEAKER: John Orloff\, Screenwriter
DESCRIPTION:John Orloff\, Screenwriter of Band of Brothers and Masters of the Air: Bringing World War Two to the Small Screen
URL:https://norfolkcountryclub.com/event1/house-thursday-night-speaker-john-orloff-screenwriter-2/
CATEGORIES:Social,Speaker
END:VEVENT
BEGIN:VEVENT
DTSTART;TZID=America/New_York:20250704T113000
DTEND;TZID=America/New_York:20250704T143000
DTSTAMP:20260421T223919
CREATED:20250406T192311Z
LAST-MODIFIED:20250406T195840Z
UID:10015017-1751628600-1751639400@norfolkcountryclub.com
SUMMARY:HOUSE / Lunch Service
DESCRIPTION:Lunch service available \nPlease consult the weekly members email for the week’s menu.
URL:https://norfolkcountryclub.com/event1/house-lunch-service-7/2025-07-04/
CATEGORIES:Restaurant,Social
END:VEVENT
BEGIN:VEVENT
DTSTART;TZID=UTC:20250704T170000
DTEND;TZID=UTC:20250704T210000
DTSTAMP:20260421T223919
CREATED:20250407T211421Z
LAST-MODIFIED:20250408T183833Z
UID:10015216-1751648400-1751662800@norfolkcountryclub.com
SUMMARY:HOUSE / July 4th BBQ Buffet & Live Music
DESCRIPTION:5:00pm Cocktails \n5:30 – 8:30pm Buffet Dinner \n6:00 – 9:00pm The Mudges & Friends Band \n 
URL:https://norfolkcountryclub.com/event1/house-july-4th-bbq-live-music-2/
CATEGORIES:Social
END:VEVENT
BEGIN:VEVENT
DTSTART;TZID=America/New_York:20250705T113000
DTEND;TZID=America/New_York:20250705T143000
DTSTAMP:20260421T223919
CREATED:20250406T192311Z
LAST-MODIFIED:20250406T195840Z
UID:10015018-1751715000-1751725800@norfolkcountryclub.com
SUMMARY:HOUSE / Lunch Service
DESCRIPTION:Lunch service available \nPlease consult the weekly members email for the week’s menu.
URL:https://norfolkcountryclub.com/event1/house-lunch-service-7/2025-07-05/
CATEGORIES:Restaurant,Social
END:VEVENT
BEGIN:VEVENT
DTSTART;TZID=America/New_York:20250706T113000
DTEND;TZID=America/New_York:20250706T143000
DTSTAMP:20260421T223919
CREATED:20250406T192311Z
LAST-MODIFIED:20250406T195840Z
UID:10015019-1751801400-1751812200@norfolkcountryclub.com
SUMMARY:HOUSE / Lunch Service
DESCRIPTION:Lunch service available \nPlease consult the weekly members email for the week’s menu.
URL:https://norfolkcountryclub.com/event1/house-lunch-service-7/2025-07-06/
CATEGORIES:Restaurant,Social
END:VEVENT
BEGIN:VEVENT
DTSTART;VALUE=DATE:20250707
DTEND;VALUE=DATE:20250708
DTSTAMP:20260421T223919
CREATED:20250205T191530Z
LAST-MODIFIED:20250406T202446Z
UID:10014007-1751846400-1751932799@norfolkcountryclub.com
SUMMARY:Clubhouse Closed Mondays
DESCRIPTION:Clubhouse Closed
URL:https://norfolkcountryclub.com/event1/clubhouse-closed-mondays/2025-07-07/
CATEGORIES:Restaurant,Social
END:VEVENT
BEGIN:VEVENT
DTSTART;TZID=America/New_York:20250708T113000
DTEND;TZID=America/New_York:20250708T143000
DTSTAMP:20260421T223919
CREATED:20250406T192311Z
LAST-MODIFIED:20250406T195840Z
UID:10015021-1751974200-1751985000@norfolkcountryclub.com
SUMMARY:HOUSE / Lunch Service
DESCRIPTION:Lunch service available \nPlease consult the weekly members email for the week’s menu.
URL:https://norfolkcountryclub.com/event1/house-lunch-service-7/2025-07-08/
CATEGORIES:Restaurant,Social
END:VEVENT
BEGIN:VEVENT
DTSTART;TZID=America/New_York:20250708T180000
DTEND;TZID=America/New_York:20250708T200000
DTSTAMP:20260421T223919
CREATED:20250205T191756Z
LAST-MODIFIED:20250205T191812Z
UID:10014050-1751997600-1752004800@norfolkcountryclub.com
SUMMARY:HOUSE / Buffet Dinner Service
DESCRIPTION:Dinner is open to all club members\, not just bridge players. \nPlease make your reservations by Tuesday at noon.
URL:https://norfolkcountryclub.com/event1/house-buffet-dinner-service-2/2025-07-08/
CATEGORIES:Bridge,Restaurant,Social
END:VEVENT
BEGIN:VEVENT
DTSTART;TZID=America/New_York:20250708T190000
DTEND;TZID=America/New_York:20250708T190000
DTSTAMP:20260421T223919
CREATED:20250205T191915Z
LAST-MODIFIED:20250205T191915Z
UID:10014063-1752001200-1752001200@norfolkcountryclub.com
SUMMARY:HOUSE / BRIDGE
DESCRIPTION:Games begin promptly at 7:00 pm and everyone is encouraged to come to the dinner buffet at 6:00pm. \nGuests: Guests are welcome to attend with a sponsoring member and may play unlimited games throughout the season. \nThe guest fee for just bridge play is $10.00 (chit basis) per evening.
URL:https://norfolkcountryclub.com/event1/house-bridge-2/2025-07-08/
CATEGORIES:Bridge,Social
END:VEVENT
BEGIN:VEVENT
DTSTART;TZID=America/New_York:20250709T113000
DTEND;TZID=America/New_York:20250709T143000
DTSTAMP:20260421T223919
CREATED:20250406T192311Z
LAST-MODIFIED:20250406T195840Z
UID:10015022-1752060600-1752071400@norfolkcountryclub.com
SUMMARY:HOUSE / Lunch Service
DESCRIPTION:Lunch service available \nPlease consult the weekly members email for the week’s menu.
URL:https://norfolkcountryclub.com/event1/house-lunch-service-7/2025-07-09/
CATEGORIES:Restaurant,Social
END:VEVENT
BEGIN:VEVENT
DTSTART;TZID=America/New_York:20250709T173000
DTEND;TZID=America/New_York:20250709T203000
DTSTAMP:20260421T223919
CREATED:20250205T191100Z
LAST-MODIFIED:20250406T203000Z
UID:10013803-1752082200-1752093000@norfolkcountryclub.com
SUMMARY:HOUSE / Wednesday Dinner Service
DESCRIPTION:Dinner service available \nPlease consult the weekly members email for the week’s menu.
URL:https://norfolkcountryclub.com/event1/house-wednesday-dinner-service-3/2025-07-09/
CATEGORIES:Restaurant,Social
END:VEVENT
BEGIN:VEVENT
DTSTART;TZID=America/New_York:20250710T113000
DTEND;TZID=America/New_York:20250710T143000
DTSTAMP:20260421T223919
CREATED:20250406T192311Z
LAST-MODIFIED:20250406T195840Z
UID:10015023-1752147000-1752157800@norfolkcountryclub.com
SUMMARY:HOUSE / Lunch Service
DESCRIPTION:Lunch service available \nPlease consult the weekly members email for the week’s menu.
URL:https://norfolkcountryclub.com/event1/house-lunch-service-7/2025-07-10/
CATEGORIES:Restaurant,Social
END:VEVENT
BEGIN:VEVENT
DTSTART;TZID=America/New_York:20250710T183000
DTEND;TZID=America/New_York:20250710T183000
DTSTAMP:20260421T223919
CREATED:20250407T200345Z
LAST-MODIFIED:20250407T200345Z
UID:10014536-1752172200-1752172200@norfolkcountryclub.com
SUMMARY:HOUSE /  THURSDAY NIGHT SPEAKER: A Wine Dinner w/ Neal Rosenthal
DESCRIPTION:Neal Rosenthal’s Greatest Hits: A wine dinner with the Importer Extraordinaire.
URL:https://norfolkcountryclub.com/event1/house-thursday-night-speaker-a-wine-dinner-w-neal-rosenthal/
CATEGORIES:Social,Speaker
END:VEVENT
BEGIN:VEVENT
DTSTART;TZID=America/New_York:20250711T113000
DTEND;TZID=America/New_York:20250711T143000
DTSTAMP:20260421T223919
CREATED:20250406T192311Z
LAST-MODIFIED:20250406T195840Z
UID:10015024-1752233400-1752244200@norfolkcountryclub.com
SUMMARY:HOUSE / Lunch Service
DESCRIPTION:Lunch service available \nPlease consult the weekly members email for the week’s menu.
URL:https://norfolkcountryclub.com/event1/house-lunch-service-7/2025-07-11/
CATEGORIES:Restaurant,Social
END:VEVENT
BEGIN:VEVENT
DTSTART;TZID=America/New_York:20250711T160000
DTEND;TZID=America/New_York:20250711T180000
DTSTAMP:20260421T223919
CREATED:20250205T192107Z
LAST-MODIFIED:20250408T184101Z
UID:10014089-1752249600-1752256800@norfolkcountryclub.com
SUMMARY:HOUSE / Barroom Bridge (members only)
DESCRIPTION:Barroom Bridge is Members only play.
URL:https://norfolkcountryclub.com/event1/house-barroom-bridge-members-only-2/2025-07-11/
CATEGORIES:Bridge,Social
END:VEVENT
BEGIN:VEVENT
DTSTART;TZID=America/New_York:20250711T173000
DTEND;TZID=America/New_York:20250711T210000
DTSTAMP:20260421T223919
CREATED:20250406T195122Z
LAST-MODIFIED:20250408T200442Z
UID:10015114-1752255000-1752267600@norfolkcountryclub.com
SUMMARY:HOUSE / Weekend Dinner Service
DESCRIPTION:Dinner service available \nPlease consult the weekly members email for the week’s menu.
URL:https://norfolkcountryclub.com/event1/house-weekend-dinner-service-3/2025-07-11/
CATEGORIES:Restaurant,Social
END:VEVENT
BEGIN:VEVENT
DTSTART;TZID=America/New_York:20250712T113000
DTEND;TZID=America/New_York:20250712T143000
DTSTAMP:20260421T223919
CREATED:20250406T192311Z
LAST-MODIFIED:20250406T195840Z
UID:10015025-1752319800-1752330600@norfolkcountryclub.com
SUMMARY:HOUSE / Lunch Service
DESCRIPTION:Lunch service available \nPlease consult the weekly members email for the week’s menu.
URL:https://norfolkcountryclub.com/event1/house-lunch-service-7/2025-07-12/
CATEGORIES:Restaurant,Social
END:VEVENT
BEGIN:VEVENT
DTSTART;TZID=America/New_York:20250712T173000
DTEND;TZID=America/New_York:20250712T210000
DTSTAMP:20260421T223919
CREATED:20250406T195122Z
LAST-MODIFIED:20250408T200442Z
UID:10015115-1752341400-1752354000@norfolkcountryclub.com
SUMMARY:HOUSE / Weekend Dinner Service
DESCRIPTION:Dinner service available \nPlease consult the weekly members email for the week’s menu.
URL:https://norfolkcountryclub.com/event1/house-weekend-dinner-service-3/2025-07-12/
CATEGORIES:Restaurant,Social
END:VEVENT
BEGIN:VEVENT
DTSTART;TZID=America/New_York:20250712T190000
DTEND;TZID=America/New_York:20250712T190000
DTSTAMP:20260421T223919
CREATED:20250407T204655Z
LAST-MODIFIED:20250407T204655Z
UID:10015205-1752346800-1752346800@norfolkcountryclub.com
SUMMARY:HOUSE / Movie Night
DESCRIPTION:Movie TBD
URL:https://norfolkcountryclub.com/event1/house-movie-night/
CATEGORIES:Social
END:VEVENT
BEGIN:VEVENT
DTSTART;TZID=America/New_York:20250713T113000
DTEND;TZID=America/New_York:20250713T143000
DTSTAMP:20260421T223919
CREATED:20250406T192311Z
LAST-MODIFIED:20250406T195840Z
UID:10015026-1752406200-1752417000@norfolkcountryclub.com
SUMMARY:HOUSE / Lunch Service
DESCRIPTION:Lunch service available \nPlease consult the weekly members email for the week’s menu.
URL:https://norfolkcountryclub.com/event1/house-lunch-service-7/2025-07-13/
CATEGORIES:Restaurant,Social
END:VEVENT
BEGIN:VEVENT
DTSTART;VALUE=DATE:20250714
DTEND;VALUE=DATE:20250715
DTSTAMP:20260421T223919
CREATED:20250205T191530Z
LAST-MODIFIED:20250406T202446Z
UID:10014008-1752451200-1752537599@norfolkcountryclub.com
SUMMARY:Clubhouse Closed Mondays
DESCRIPTION:Clubhouse Closed
URL:https://norfolkcountryclub.com/event1/clubhouse-closed-mondays/2025-07-14/
CATEGORIES:Restaurant,Social
END:VEVENT
BEGIN:VEVENT
DTSTART;TZID=America/New_York:20250715T113000
DTEND;TZID=America/New_York:20250715T143000
DTSTAMP:20260421T223919
CREATED:20250406T192311Z
LAST-MODIFIED:20250406T195840Z
UID:10015028-1752579000-1752589800@norfolkcountryclub.com
SUMMARY:HOUSE / Lunch Service
DESCRIPTION:Lunch service available \nPlease consult the weekly members email for the week’s menu.
URL:https://norfolkcountryclub.com/event1/house-lunch-service-7/2025-07-15/
CATEGORIES:Restaurant,Social
END:VEVENT
BEGIN:VEVENT
DTSTART;TZID=America/New_York:20250715T180000
DTEND;TZID=America/New_York:20250715T200000
DTSTAMP:20260421T223919
CREATED:20250205T191756Z
LAST-MODIFIED:20250205T191812Z
UID:10014051-1752602400-1752609600@norfolkcountryclub.com
SUMMARY:HOUSE / Buffet Dinner Service
DESCRIPTION:Dinner is open to all club members\, not just bridge players. \nPlease make your reservations by Tuesday at noon.
URL:https://norfolkcountryclub.com/event1/house-buffet-dinner-service-2/2025-07-15/
CATEGORIES:Bridge,Restaurant,Social
END:VEVENT
BEGIN:VEVENT
DTSTART;TZID=America/New_York:20250715T190000
DTEND;TZID=America/New_York:20250715T190000
DTSTAMP:20260421T223919
CREATED:20250205T191915Z
LAST-MODIFIED:20250205T191915Z
UID:10014064-1752606000-1752606000@norfolkcountryclub.com
SUMMARY:HOUSE / BRIDGE
DESCRIPTION:Games begin promptly at 7:00 pm and everyone is encouraged to come to the dinner buffet at 6:00pm. \nGuests: Guests are welcome to attend with a sponsoring member and may play unlimited games throughout the season. \nThe guest fee for just bridge play is $10.00 (chit basis) per evening.
URL:https://norfolkcountryclub.com/event1/house-bridge-2/2025-07-15/
CATEGORIES:Bridge,Social
END:VEVENT
BEGIN:VEVENT
DTSTART;TZID=America/New_York:20250716T113000
DTEND;TZID=America/New_York:20250716T143000
DTSTAMP:20260421T223919
CREATED:20250406T192311Z
LAST-MODIFIED:20250406T195840Z
UID:10015029-1752665400-1752676200@norfolkcountryclub.com
SUMMARY:HOUSE / Lunch Service
DESCRIPTION:Lunch service available \nPlease consult the weekly members email for the week’s menu.
URL:https://norfolkcountryclub.com/event1/house-lunch-service-7/2025-07-16/
CATEGORIES:Restaurant,Social
END:VEVENT
BEGIN:VEVENT
DTSTART;TZID=America/New_York:20250716T173000
DTEND;TZID=America/New_York:20250716T203000
DTSTAMP:20260421T223919
CREATED:20250205T191100Z
LAST-MODIFIED:20250406T203000Z
UID:10013804-1752687000-1752697800@norfolkcountryclub.com
SUMMARY:HOUSE / Wednesday Dinner Service
DESCRIPTION:Dinner service available \nPlease consult the weekly members email for the week’s menu.
URL:https://norfolkcountryclub.com/event1/house-wednesday-dinner-service-3/2025-07-16/
CATEGORIES:Restaurant,Social
END:VEVENT
END:VCALENDAR