BEGIN:VCALENDAR
VERSION:2.0
PRODID:-//Norfolk Country Club - ECPv6.15.16//NONSGML v1.0//EN
CALSCALE:GREGORIAN
METHOD:PUBLISH
X-WR-CALNAME:Norfolk Country Club
X-ORIGINAL-URL:https://norfolkcountryclub.com
X-WR-CALDESC:Events for Norfolk Country Club
REFRESH-INTERVAL;VALUE=DURATION:PT1H
X-Robots-Tag:noindex
X-PUBLISHED-TTL:PT1H
BEGIN:VTIMEZONE
TZID:UTC
BEGIN:STANDARD
TZOFFSETFROM:+0000
TZOFFSETTO:+0000
TZNAME:UTC
DTSTART:20230101T000000
END:STANDARD
END:VTIMEZONE
BEGIN:VTIMEZONE
TZID:America/New_York
BEGIN:DAYLIGHT
TZOFFSETFROM:-0500
TZOFFSETTO:-0400
TZNAME:EDT
DTSTART:20230312T070000
END:DAYLIGHT
BEGIN:STANDARD
TZOFFSETFROM:-0400
TZOFFSETTO:-0500
TZNAME:EST
DTSTART:20231105T060000
END:STANDARD
BEGIN:DAYLIGHT
TZOFFSETFROM:-0500
TZOFFSETTO:-0400
TZNAME:EDT
DTSTART:20240310T070000
END:DAYLIGHT
BEGIN:STANDARD
TZOFFSETFROM:-0400
TZOFFSETTO:-0500
TZNAME:EST
DTSTART:20241103T060000
END:STANDARD
BEGIN:DAYLIGHT
TZOFFSETFROM:-0500
TZOFFSETTO:-0400
TZNAME:EDT
DTSTART:20250309T070000
END:DAYLIGHT
BEGIN:STANDARD
TZOFFSETFROM:-0400
TZOFFSETTO:-0500
TZNAME:EST
DTSTART:20251102T060000
END:STANDARD
END:VTIMEZONE
BEGIN:VEVENT
DTSTART;TZID=UTC:20240831T173000
DTEND;TZID=UTC:20240831T223000
DTSTAMP:20260422T180329
CREATED:20240311T183347Z
LAST-MODIFIED:20240311T183347Z
UID:10009659-1725125400-1725143400@norfolkcountryclub.com
SUMMARY:HOUSE / Labor Day Dinner Dance
DESCRIPTION:6:00 – 7:00 Arrival & cocktails \n7:00 – 8:00 Dinner \n8-11 Dancing  \n  \nEntertainment by The Empire Beats \nGlamorous jazz chanteuses and gutsy blues shouters front Empire Beats as they explore an expanding book of old-school Rhythm & Blues\, Rock & Roll\, Jazz\, and Pop music – familiar and forgotten hits from the past and funky new original sounds. Empire Beats’ non-stop showcase draws from the best of 1952 to 2023 – from pioneers Etta James and Big Mama Thornton to Maxine Nightingale and Ann Peebles\, with crowd pleasing numbers by the likes of Stevie Wonder\, Amy Winehouse\, Chaka Khan\, and Prince – plus much\, much more. Their energetic revue recalls another era but is firmly rooted in the right now. \nSince 2011\, drummer Mark Boquist’s sharply dressed five to seven piece band has been playing behind some of New York City’s most talented singers like A’shanti Tyree\, Jessica Harp\, Chloe Thompson\, Johnique Edwards\, and Kamal Morales presenting their real live show at nightclubs\, theaters\, lounges\, dive bars\, and dance halls as well as at weddings\, fairs\, fundraisers\, festivals\, private events\, and public parties throughout the boroughs of New York City\, the Hudson Valley\, the Berkshires\, the Hamptons\, New Jersey\, Connecticut\, and Pennsylvania. Residencies at venerable Manhattan music halls and lounges as well as distinguished Brooklyn bars and saloons have solidified Empire Beats’ esteemed reputation as a rocking dance band interpreting songs with spirit\, style\, and soul. \nBandleader Mark Boquist has been working for over 35 years in the entertainment business playing all kinds of music on stages large and small\, on recordings and broadcasts with bands and solo artists\, on tours around the United States and Europe\, and in slick private clubs and public dives. Beginning in Minneapolis in the early 1980s\, with forays to Kansas City and then Seattle in the 1990s\, he made the move to Manhattan in 1997. The son of a Big Band Jazz man\, his affinity for real American music led him to start up his own band after an inspiring series of shows playing as a side man behind legendary Northern Soul artists as part of the Dig Deeper Dance Party in Brooklyn. His Empire Beats deliver an authentic and exciting sound with songs from every side of the love equation that’ll keep you dancing in your seats and on your feets.
URL:https://norfolkcountryclub.com/event1/house-labor-day-dinner-dance/
CATEGORIES:Social
END:VEVENT
BEGIN:VEVENT
DTSTART;TZID=America/New_York:20240901T113000
DTEND;TZID=America/New_York:20240901T143000
DTSTAMP:20260422T180329
CREATED:20240430T174509Z
LAST-MODIFIED:20240430T174827Z
UID:10012589-1725190200-1725201000@norfolkcountryclub.com
SUMMARY:HOUSE / September Lunch Service
DESCRIPTION:Lunch service available \nPlease consult the weekly members email for the week’s menu.
URL:https://norfolkcountryclub.com/event1/house-september-lunch-service/2024-09-01/
CATEGORIES:Restaurant,Social
END:VEVENT
BEGIN:VEVENT
DTSTART;TZID=America/New_York:20240902T130000
DTEND;TZID=America/New_York:20240902T140000
DTSTAMP:20260422T180329
CREATED:20240311T183706Z
LAST-MODIFIED:20240311T183706Z
UID:10009662-1725282000-1725285600@norfolkcountryclub.com
SUMMARY:NCC Annual Member Meeting
DESCRIPTION:12:00pm Buffet \n1:00pm Awards ceremony \n1:30 Annual Member Meeting \n 
URL:https://norfolkcountryclub.com/event1/ncc-annual-member-meeting-2/
CATEGORIES:Social
END:VEVENT
BEGIN:VEVENT
DTSTART;TZID=America/New_York:20240904T113000
DTEND;TZID=America/New_York:20240904T143000
DTSTAMP:20260422T180329
CREATED:20240430T174509Z
LAST-MODIFIED:20240430T174827Z
UID:10012591-1725449400-1725460200@norfolkcountryclub.com
SUMMARY:HOUSE / September Lunch Service
DESCRIPTION:Lunch service available \nPlease consult the weekly members email for the week’s menu.
URL:https://norfolkcountryclub.com/event1/house-september-lunch-service/2024-09-04/
CATEGORIES:Restaurant,Social
END:VEVENT
BEGIN:VEVENT
DTSTART;TZID=America/New_York:20240904T173000
DTEND;TZID=America/New_York:20240904T203000
DTSTAMP:20260422T180329
CREATED:20240430T172858Z
LAST-MODIFIED:20240430T173113Z
UID:10012054-1725471000-1725481800@norfolkcountryclub.com
SUMMARY:HOUSE / Wednesday Dinner Service
DESCRIPTION:Dinner service available \nPlease consult the weekly members email for the week’s menu.
URL:https://norfolkcountryclub.com/event1/house-wednesday-dinner-service/2024-09-04/
CATEGORIES:Restaurant,Social
END:VEVENT
BEGIN:VEVENT
DTSTART;TZID=America/New_York:20240906T113000
DTEND;TZID=America/New_York:20240906T143000
DTSTAMP:20260422T180329
CREATED:20240430T174509Z
LAST-MODIFIED:20240430T174827Z
UID:10012593-1725622200-1725633000@norfolkcountryclub.com
SUMMARY:HOUSE / September Lunch Service
DESCRIPTION:Lunch service available \nPlease consult the weekly members email for the week’s menu.
URL:https://norfolkcountryclub.com/event1/house-september-lunch-service/2024-09-06/
CATEGORIES:Restaurant,Social
END:VEVENT
BEGIN:VEVENT
DTSTART;TZID=America/New_York:20240906T173000
DTEND;TZID=America/New_York:20240906T210000
DTSTAMP:20260422T180329
CREATED:20240430T172648Z
LAST-MODIFIED:20240430T173052Z
UID:10012000-1725643800-1725656400@norfolkcountryclub.com
SUMMARY:HOUSE / Weekend Dinner Service
DESCRIPTION:Dinner service available \nPlease consult the weekly members email for the week’s menu.
URL:https://norfolkcountryclub.com/event1/house-dinner-service-2/2024-09-06/
CATEGORIES:Restaurant,Social
END:VEVENT
BEGIN:VEVENT
DTSTART;TZID=America/New_York:20240907T113000
DTEND;TZID=America/New_York:20240907T143000
DTSTAMP:20260422T180329
CREATED:20240430T174509Z
LAST-MODIFIED:20240430T174827Z
UID:10012594-1725708600-1725719400@norfolkcountryclub.com
SUMMARY:HOUSE / September Lunch Service
DESCRIPTION:Lunch service available \nPlease consult the weekly members email for the week’s menu.
URL:https://norfolkcountryclub.com/event1/house-september-lunch-service/2024-09-07/
CATEGORIES:Restaurant,Social
END:VEVENT
BEGIN:VEVENT
DTSTART;TZID=America/New_York:20240907T173000
DTEND;TZID=America/New_York:20240907T210000
DTSTAMP:20260422T180329
CREATED:20240430T172648Z
LAST-MODIFIED:20240430T173052Z
UID:10012015-1725730200-1725742800@norfolkcountryclub.com
SUMMARY:HOUSE / Weekend Dinner Service
DESCRIPTION:Dinner service available \nPlease consult the weekly members email for the week’s menu.
URL:https://norfolkcountryclub.com/event1/house-dinner-service-2/2024-09-07/
CATEGORIES:Restaurant,Social
END:VEVENT
BEGIN:VEVENT
DTSTART;TZID=America/New_York:20240908T113000
DTEND;TZID=America/New_York:20240908T143000
DTSTAMP:20260422T180329
CREATED:20240430T174509Z
LAST-MODIFIED:20240430T174827Z
UID:10012595-1725795000-1725805800@norfolkcountryclub.com
SUMMARY:HOUSE / September Lunch Service
DESCRIPTION:Lunch service available \nPlease consult the weekly members email for the week’s menu.
URL:https://norfolkcountryclub.com/event1/house-september-lunch-service/2024-09-08/
CATEGORIES:Restaurant,Social
END:VEVENT
BEGIN:VEVENT
DTSTART;TZID=America/New_York:20240911T113000
DTEND;TZID=America/New_York:20240911T143000
DTSTAMP:20260422T180329
CREATED:20240430T174509Z
LAST-MODIFIED:20240430T174827Z
UID:10012597-1726054200-1726065000@norfolkcountryclub.com
SUMMARY:HOUSE / September Lunch Service
DESCRIPTION:Lunch service available \nPlease consult the weekly members email for the week’s menu.
URL:https://norfolkcountryclub.com/event1/house-september-lunch-service/2024-09-11/
CATEGORIES:Restaurant,Social
END:VEVENT
BEGIN:VEVENT
DTSTART;TZID=America/New_York:20240911T173000
DTEND;TZID=America/New_York:20240911T203000
DTSTAMP:20260422T180329
CREATED:20240430T172858Z
LAST-MODIFIED:20240430T173113Z
UID:10012055-1726075800-1726086600@norfolkcountryclub.com
SUMMARY:HOUSE / Wednesday Dinner Service
DESCRIPTION:Dinner service available \nPlease consult the weekly members email for the week’s menu.
URL:https://norfolkcountryclub.com/event1/house-wednesday-dinner-service/2024-09-11/
CATEGORIES:Restaurant,Social
END:VEVENT
BEGIN:VEVENT
DTSTART;TZID=America/New_York:20240913T113000
DTEND;TZID=America/New_York:20240913T143000
DTSTAMP:20260422T180329
CREATED:20240430T174509Z
LAST-MODIFIED:20240430T174827Z
UID:10012599-1726227000-1726237800@norfolkcountryclub.com
SUMMARY:HOUSE / September Lunch Service
DESCRIPTION:Lunch service available \nPlease consult the weekly members email for the week’s menu.
URL:https://norfolkcountryclub.com/event1/house-september-lunch-service/2024-09-13/
CATEGORIES:Restaurant,Social
END:VEVENT
BEGIN:VEVENT
DTSTART;TZID=America/New_York:20240913T173000
DTEND;TZID=America/New_York:20240913T210000
DTSTAMP:20260422T180329
CREATED:20240430T172648Z
LAST-MODIFIED:20240430T173052Z
UID:10012001-1726248600-1726261200@norfolkcountryclub.com
SUMMARY:HOUSE / Weekend Dinner Service
DESCRIPTION:Dinner service available \nPlease consult the weekly members email for the week’s menu.
URL:https://norfolkcountryclub.com/event1/house-dinner-service-2/2024-09-13/
CATEGORIES:Restaurant,Social
END:VEVENT
BEGIN:VEVENT
DTSTART;TZID=America/New_York:20240914T113000
DTEND;TZID=America/New_York:20240914T143000
DTSTAMP:20260422T180329
CREATED:20240430T174509Z
LAST-MODIFIED:20240430T174827Z
UID:10012600-1726313400-1726324200@norfolkcountryclub.com
SUMMARY:HOUSE / September Lunch Service
DESCRIPTION:Lunch service available \nPlease consult the weekly members email for the week’s menu.
URL:https://norfolkcountryclub.com/event1/house-september-lunch-service/2024-09-14/
CATEGORIES:Restaurant,Social
END:VEVENT
BEGIN:VEVENT
DTSTART;TZID=America/New_York:20240914T173000
DTEND;TZID=America/New_York:20240914T210000
DTSTAMP:20260422T180329
CREATED:20240430T172648Z
LAST-MODIFIED:20240430T173052Z
UID:10012016-1726335000-1726347600@norfolkcountryclub.com
SUMMARY:HOUSE / Weekend Dinner Service
DESCRIPTION:Dinner service available \nPlease consult the weekly members email for the week’s menu.
URL:https://norfolkcountryclub.com/event1/house-dinner-service-2/2024-09-14/
CATEGORIES:Restaurant,Social
END:VEVENT
BEGIN:VEVENT
DTSTART;TZID=America/New_York:20240915T113000
DTEND;TZID=America/New_York:20240915T143000
DTSTAMP:20260422T180329
CREATED:20240430T174509Z
LAST-MODIFIED:20240430T174827Z
UID:10012601-1726399800-1726410600@norfolkcountryclub.com
SUMMARY:HOUSE / September Lunch Service
DESCRIPTION:Lunch service available \nPlease consult the weekly members email for the week’s menu.
URL:https://norfolkcountryclub.com/event1/house-september-lunch-service/2024-09-15/
CATEGORIES:Restaurant,Social
END:VEVENT
BEGIN:VEVENT
DTSTART;TZID=America/New_York:20240918T113000
DTEND;TZID=America/New_York:20240918T143000
DTSTAMP:20260422T180329
CREATED:20240430T174509Z
LAST-MODIFIED:20240430T174827Z
UID:10012603-1726659000-1726669800@norfolkcountryclub.com
SUMMARY:HOUSE / September Lunch Service
DESCRIPTION:Lunch service available \nPlease consult the weekly members email for the week’s menu.
URL:https://norfolkcountryclub.com/event1/house-september-lunch-service/2024-09-18/
CATEGORIES:Restaurant,Social
END:VEVENT
BEGIN:VEVENT
DTSTART;TZID=America/New_York:20240918T173000
DTEND;TZID=America/New_York:20240918T203000
DTSTAMP:20260422T180329
CREATED:20240430T172858Z
LAST-MODIFIED:20240430T173113Z
UID:10012056-1726680600-1726691400@norfolkcountryclub.com
SUMMARY:HOUSE / Wednesday Dinner Service
DESCRIPTION:Dinner service available \nPlease consult the weekly members email for the week’s menu.
URL:https://norfolkcountryclub.com/event1/house-wednesday-dinner-service/2024-09-18/
CATEGORIES:Restaurant,Social
END:VEVENT
BEGIN:VEVENT
DTSTART;TZID=America/New_York:20240920T113000
DTEND;TZID=America/New_York:20240920T143000
DTSTAMP:20260422T180329
CREATED:20240430T174509Z
LAST-MODIFIED:20240430T174827Z
UID:10012605-1726831800-1726842600@norfolkcountryclub.com
SUMMARY:HOUSE / September Lunch Service
DESCRIPTION:Lunch service available \nPlease consult the weekly members email for the week’s menu.
URL:https://norfolkcountryclub.com/event1/house-september-lunch-service/2024-09-20/
CATEGORIES:Restaurant,Social
END:VEVENT
BEGIN:VEVENT
DTSTART;TZID=America/New_York:20240920T173000
DTEND;TZID=America/New_York:20240920T210000
DTSTAMP:20260422T180329
CREATED:20240430T172648Z
LAST-MODIFIED:20240430T173052Z
UID:10012002-1726853400-1726866000@norfolkcountryclub.com
SUMMARY:HOUSE / Weekend Dinner Service
DESCRIPTION:Dinner service available \nPlease consult the weekly members email for the week’s menu.
URL:https://norfolkcountryclub.com/event1/house-dinner-service-2/2024-09-20/
CATEGORIES:Restaurant,Social
END:VEVENT
BEGIN:VEVENT
DTSTART;TZID=America/New_York:20240921T113000
DTEND;TZID=America/New_York:20240921T143000
DTSTAMP:20260422T180330
CREATED:20240430T174509Z
LAST-MODIFIED:20240430T174827Z
UID:10012606-1726918200-1726929000@norfolkcountryclub.com
SUMMARY:HOUSE / September Lunch Service
DESCRIPTION:Lunch service available \nPlease consult the weekly members email for the week’s menu.
URL:https://norfolkcountryclub.com/event1/house-september-lunch-service/2024-09-21/
CATEGORIES:Restaurant,Social
END:VEVENT
BEGIN:VEVENT
DTSTART;TZID=America/New_York:20240921T173000
DTEND;TZID=America/New_York:20240921T210000
DTSTAMP:20260422T180330
CREATED:20240430T172648Z
LAST-MODIFIED:20240430T173052Z
UID:10012017-1726939800-1726952400@norfolkcountryclub.com
SUMMARY:HOUSE / Weekend Dinner Service
DESCRIPTION:Dinner service available \nPlease consult the weekly members email for the week’s menu.
URL:https://norfolkcountryclub.com/event1/house-dinner-service-2/2024-09-21/
CATEGORIES:Restaurant,Social
END:VEVENT
BEGIN:VEVENT
DTSTART;TZID=America/New_York:20240922T113000
DTEND;TZID=America/New_York:20240922T143000
DTSTAMP:20260422T180330
CREATED:20240430T174509Z
LAST-MODIFIED:20240430T174827Z
UID:10012607-1727004600-1727015400@norfolkcountryclub.com
SUMMARY:HOUSE / September Lunch Service
DESCRIPTION:Lunch service available \nPlease consult the weekly members email for the week’s menu.
URL:https://norfolkcountryclub.com/event1/house-september-lunch-service/2024-09-22/
CATEGORIES:Restaurant,Social
END:VEVENT
BEGIN:VEVENT
DTSTART;TZID=America/New_York:20240925T113000
DTEND;TZID=America/New_York:20240925T143000
DTSTAMP:20260422T180330
CREATED:20240430T174509Z
LAST-MODIFIED:20240430T174827Z
UID:10012609-1727263800-1727274600@norfolkcountryclub.com
SUMMARY:HOUSE / September Lunch Service
DESCRIPTION:Lunch service available \nPlease consult the weekly members email for the week’s menu.
URL:https://norfolkcountryclub.com/event1/house-september-lunch-service/2024-09-25/
CATEGORIES:Restaurant,Social
END:VEVENT
BEGIN:VEVENT
DTSTART;TZID=America/New_York:20240925T173000
DTEND;TZID=America/New_York:20240925T203000
DTSTAMP:20260422T180330
CREATED:20240430T172858Z
LAST-MODIFIED:20240430T173113Z
UID:10012057-1727285400-1727296200@norfolkcountryclub.com
SUMMARY:HOUSE / Wednesday Dinner Service
DESCRIPTION:Dinner service available \nPlease consult the weekly members email for the week’s menu.
URL:https://norfolkcountryclub.com/event1/house-wednesday-dinner-service/2024-09-25/
CATEGORIES:Restaurant,Social
END:VEVENT
BEGIN:VEVENT
DTSTART;TZID=America/New_York:20240927T113000
DTEND;TZID=America/New_York:20240927T143000
DTSTAMP:20260422T180330
CREATED:20240430T174509Z
LAST-MODIFIED:20240430T174827Z
UID:10012611-1727436600-1727447400@norfolkcountryclub.com
SUMMARY:HOUSE / September Lunch Service
DESCRIPTION:Lunch service available \nPlease consult the weekly members email for the week’s menu.
URL:https://norfolkcountryclub.com/event1/house-september-lunch-service/2024-09-27/
CATEGORIES:Restaurant,Social
END:VEVENT
BEGIN:VEVENT
DTSTART;TZID=America/New_York:20240927T173000
DTEND;TZID=America/New_York:20240927T210000
DTSTAMP:20260422T180330
CREATED:20240430T172648Z
LAST-MODIFIED:20240430T173052Z
UID:10012003-1727458200-1727470800@norfolkcountryclub.com
SUMMARY:HOUSE / Weekend Dinner Service
DESCRIPTION:Dinner service available \nPlease consult the weekly members email for the week’s menu.
URL:https://norfolkcountryclub.com/event1/house-dinner-service-2/2024-09-27/
CATEGORIES:Restaurant,Social
END:VEVENT
BEGIN:VEVENT
DTSTART;TZID=America/New_York:20240928T113000
DTEND;TZID=America/New_York:20240928T143000
DTSTAMP:20260422T180330
CREATED:20240430T174509Z
LAST-MODIFIED:20240430T174827Z
UID:10012612-1727523000-1727533800@norfolkcountryclub.com
SUMMARY:HOUSE / September Lunch Service
DESCRIPTION:Lunch service available \nPlease consult the weekly members email for the week’s menu.
URL:https://norfolkcountryclub.com/event1/house-september-lunch-service/2024-09-28/
CATEGORIES:Restaurant,Social
END:VEVENT
BEGIN:VEVENT
DTSTART;TZID=America/New_York:20240928T173000
DTEND;TZID=America/New_York:20240928T210000
DTSTAMP:20260422T180330
CREATED:20240430T172648Z
LAST-MODIFIED:20240430T173052Z
UID:10012018-1727544600-1727557200@norfolkcountryclub.com
SUMMARY:HOUSE / Weekend Dinner Service
DESCRIPTION:Dinner service available \nPlease consult the weekly members email for the week’s menu.
URL:https://norfolkcountryclub.com/event1/house-dinner-service-2/2024-09-28/
CATEGORIES:Restaurant,Social
END:VEVENT
END:VCALENDAR