BEGIN:VCALENDAR
VERSION:2.0
PRODID:-//Norfolk Country Club - ECPv6.15.16//NONSGML v1.0//EN
CALSCALE:GREGORIAN
METHOD:PUBLISH
X-ORIGINAL-URL:https://norfolkcountryclub.com
X-WR-CALDESC:Events for Norfolk Country Club
REFRESH-INTERVAL;VALUE=DURATION:PT1H
X-Robots-Tag:noindex
X-PUBLISHED-TTL:PT1H
BEGIN:VTIMEZONE
TZID:America/New_York
BEGIN:DAYLIGHT
TZOFFSETFROM:-0500
TZOFFSETTO:-0400
TZNAME:EDT
DTSTART:20230312T070000
END:DAYLIGHT
BEGIN:STANDARD
TZOFFSETFROM:-0400
TZOFFSETTO:-0500
TZNAME:EST
DTSTART:20231105T060000
END:STANDARD
BEGIN:DAYLIGHT
TZOFFSETFROM:-0500
TZOFFSETTO:-0400
TZNAME:EDT
DTSTART:20240310T070000
END:DAYLIGHT
BEGIN:STANDARD
TZOFFSETFROM:-0400
TZOFFSETTO:-0500
TZNAME:EST
DTSTART:20241103T060000
END:STANDARD
BEGIN:DAYLIGHT
TZOFFSETFROM:-0500
TZOFFSETTO:-0400
TZNAME:EDT
DTSTART:20250309T070000
END:DAYLIGHT
BEGIN:STANDARD
TZOFFSETFROM:-0400
TZOFFSETTO:-0500
TZNAME:EST
DTSTART:20251102T060000
END:STANDARD
END:VTIMEZONE
BEGIN:VTIMEZONE
TZID:UTC
BEGIN:STANDARD
TZOFFSETFROM:+0000
TZOFFSETTO:+0000
TZNAME:UTC
DTSTART:20230101T000000
END:STANDARD
END:VTIMEZONE
BEGIN:VEVENT
DTSTART;TZID=America/New_York:20240725T183000
DTEND;TZID=America/New_York:20240725T183000
DTSTAMP:20260422T180720
CREATED:20240501T005012Z
LAST-MODIFIED:20240501T005217Z
UID:10013488-1721932200-1721932200@norfolkcountryclub.com
SUMMARY:HOUSE /  THURSDAY NIGHT SPEAKER:  An Evening of Chamber Music with Yale in Norfolk
DESCRIPTION:July 25 – An Evening of Chamber Music with Yale in Norfolk
URL:https://norfolkcountryclub.com/event1/house-thursday-night-speaker-an-evening-of-chamber-music-with-yale-in-norfolk/
CATEGORIES:Social,Speaker
END:VEVENT
BEGIN:VEVENT
DTSTART;TZID=America/New_York:20240726T113000
DTEND;TZID=America/New_York:20240726T143000
DTSTAMP:20260422T180720
CREATED:20240430T174032Z
LAST-MODIFIED:20240430T174749Z
UID:10012182-1721993400-1722004200@norfolkcountryclub.com
SUMMARY:HOUSE / Lunch Service
DESCRIPTION:Lunch service available \nPlease consult the weekly members email for the week’s menu.
URL:https://norfolkcountryclub.com/event1/house-lunch-service-6/2024-07-26/
CATEGORIES:Restaurant,Social
END:VEVENT
BEGIN:VEVENT
DTSTART;TZID=America/New_York:20240726T160000
DTEND;TZID=America/New_York:20240726T180000
DTSTAMP:20260422T180720
CREATED:20240501T010911Z
LAST-MODIFIED:20240501T010919Z
UID:10013542-1722009600-1722016800@norfolkcountryclub.com
SUMMARY:HOUSE / Barroom Bridge (members only)
DESCRIPTION:Barroom Bridge is Members only play.
URL:https://norfolkcountryclub.com/event1/house-barroom-bridge-members-only/2024-07-26/
CATEGORIES:Bridge,Social
END:VEVENT
BEGIN:VEVENT
DTSTART;TZID=America/New_York:20240726T173000
DTEND;TZID=America/New_York:20240726T210000
DTSTAMP:20260422T180720
CREATED:20240430T172648Z
LAST-MODIFIED:20240430T173052Z
UID:10011994-1722015000-1722027600@norfolkcountryclub.com
SUMMARY:HOUSE / Weekend Dinner Service
DESCRIPTION:Dinner service available \nPlease consult the weekly members email for the week’s menu.
URL:https://norfolkcountryclub.com/event1/house-dinner-service-2/2024-07-26/
CATEGORIES:Restaurant,Social
END:VEVENT
BEGIN:VEVENT
DTSTART;TZID=America/New_York:20240727T173000
DTEND;TZID=America/New_York:20240727T210000
DTSTAMP:20260422T180720
CREATED:20240430T172648Z
LAST-MODIFIED:20240430T173052Z
UID:10012012-1722101400-1722114000@norfolkcountryclub.com
SUMMARY:HOUSE / Weekend Dinner Service
DESCRIPTION:Dinner service available \nPlease consult the weekly members email for the week’s menu.
URL:https://norfolkcountryclub.com/event1/house-dinner-service-2/2024-07-27/
CATEGORIES:Restaurant,Social
END:VEVENT
BEGIN:VEVENT
DTSTART;TZID=America/New_York:20240728T113000
DTEND;TZID=America/New_York:20240728T143000
DTSTAMP:20260422T180720
CREATED:20240430T174032Z
LAST-MODIFIED:20240430T174749Z
UID:10012183-1722166200-1722177000@norfolkcountryclub.com
SUMMARY:HOUSE / Lunch Service
DESCRIPTION:Lunch service available \nPlease consult the weekly members email for the week’s menu.
URL:https://norfolkcountryclub.com/event1/house-lunch-service-6/2024-07-28/
CATEGORIES:Restaurant,Social
END:VEVENT
BEGIN:VEVENT
DTSTART;TZID=America/New_York:20240730T113000
DTEND;TZID=America/New_York:20240730T143000
DTSTAMP:20260422T180720
CREATED:20240430T174032Z
LAST-MODIFIED:20240430T174749Z
UID:10012184-1722339000-1722349800@norfolkcountryclub.com
SUMMARY:HOUSE / Lunch Service
DESCRIPTION:Lunch service available \nPlease consult the weekly members email for the week’s menu.
URL:https://norfolkcountryclub.com/event1/house-lunch-service-6/2024-07-30/
CATEGORIES:Restaurant,Social
END:VEVENT
BEGIN:VEVENT
DTSTART;TZID=America/New_York:20240730T180000
DTEND;TZID=America/New_York:20240730T200000
DTSTAMP:20260422T180720
CREATED:20240501T010758Z
LAST-MODIFIED:20240501T010811Z
UID:10013517-1722362400-1722369600@norfolkcountryclub.com
SUMMARY:HOUSE / Buffet Dinner Service
DESCRIPTION:Dinner is open to all club members\, not just bridge players. \nPlease make your reservations by Tuesday at noon.
URL:https://norfolkcountryclub.com/event1/house-buffet-dinner-service/2024-07-30/
CATEGORIES:Bridge,Restaurant,Social
END:VEVENT
BEGIN:VEVENT
DTSTART;TZID=America/New_York:20240730T190000
DTEND;TZID=America/New_York:20240730T190000
DTSTAMP:20260422T180720
CREATED:20240311T182049Z
LAST-MODIFIED:20240311T182049Z
UID:10009588-1722366000-1722366000@norfolkcountryclub.com
SUMMARY:HOUSE / BRIDGE
DESCRIPTION:Games begin promptly at 7:00 pm and everyone is encouraged to come to the dinner buffet at 6:00pm. \nGuests: Guests are welcome to attend with a sponsoring member and may play unlimited games throughout the season. \nThe guest fee for just bridge play is $10.00 (chit basis) per evening.
URL:https://norfolkcountryclub.com/event1/house-bridge/2024-07-30/
CATEGORIES:Bridge,Social
END:VEVENT
BEGIN:VEVENT
DTSTART;TZID=America/New_York:20240731T113000
DTEND;TZID=America/New_York:20240731T143000
DTSTAMP:20260422T180720
CREATED:20240430T174032Z
LAST-MODIFIED:20240430T174749Z
UID:10012185-1722425400-1722436200@norfolkcountryclub.com
SUMMARY:HOUSE / Lunch Service
DESCRIPTION:Lunch service available \nPlease consult the weekly members email for the week’s menu.
URL:https://norfolkcountryclub.com/event1/house-lunch-service-6/2024-07-31/
CATEGORIES:Restaurant,Social
END:VEVENT
BEGIN:VEVENT
DTSTART;TZID=America/New_York:20240731T173000
DTEND;TZID=America/New_York:20240731T203000
DTSTAMP:20260422T180720
CREATED:20240430T172858Z
LAST-MODIFIED:20240430T173113Z
UID:10012049-1722447000-1722457800@norfolkcountryclub.com
SUMMARY:HOUSE / Wednesday Dinner Service
DESCRIPTION:Dinner service available \nPlease consult the weekly members email for the week’s menu.
URL:https://norfolkcountryclub.com/event1/house-wednesday-dinner-service/2024-07-31/
CATEGORIES:Restaurant,Social
END:VEVENT
BEGIN:VEVENT
DTSTART;TZID=America/New_York:20240801T113000
DTEND;TZID=America/New_York:20240801T143000
DTSTAMP:20260422T180720
CREATED:20240430T174032Z
LAST-MODIFIED:20240430T174749Z
UID:10012186-1722511800-1722522600@norfolkcountryclub.com
SUMMARY:HOUSE / Lunch Service
DESCRIPTION:Lunch service available \nPlease consult the weekly members email for the week’s menu.
URL:https://norfolkcountryclub.com/event1/house-lunch-service-6/2024-08-01/
CATEGORIES:Restaurant,Social
END:VEVENT
BEGIN:VEVENT
DTSTART;TZID=America/New_York:20240801T183000
DTEND;TZID=America/New_York:20240801T183000
DTSTAMP:20260422T180720
CREATED:20240501T005712Z
LAST-MODIFIED:20240501T005712Z
UID:10013491-1722537000-1722537000@norfolkcountryclub.com
SUMMARY:HOUSE /  THURSDAY NIGHT SPEAKER: Biographer and Historian Dr Amanda Foreman\, The History of Women\, From the Apple to the Pill
DESCRIPTION:Aug 1 – Biographer and Historian Dr Amanda Foreman\, The History of Women\, From the Apple to the Pill
URL:https://norfolkcountryclub.com/event1/house-thursday-night-speaker-biographer-and-historian-dr-amanda-foreman-the-history-of-women-from-the-apple-to-the-pill-2/
CATEGORIES:Social,Speaker
END:VEVENT
BEGIN:VEVENT
DTSTART;TZID=America/New_York:20240802T113000
DTEND;TZID=America/New_York:20240802T143000
DTSTAMP:20260422T180720
CREATED:20240430T174032Z
LAST-MODIFIED:20240430T174749Z
UID:10012187-1722598200-1722609000@norfolkcountryclub.com
SUMMARY:HOUSE / Lunch Service
DESCRIPTION:Lunch service available \nPlease consult the weekly members email for the week’s menu.
URL:https://norfolkcountryclub.com/event1/house-lunch-service-6/2024-08-02/
CATEGORIES:Restaurant,Social
END:VEVENT
BEGIN:VEVENT
DTSTART;TZID=America/New_York:20240802T160000
DTEND;TZID=America/New_York:20240802T180000
DTSTAMP:20260422T180720
CREATED:20240501T010911Z
LAST-MODIFIED:20240501T010919Z
UID:10013543-1722614400-1722621600@norfolkcountryclub.com
SUMMARY:HOUSE / Barroom Bridge (members only)
DESCRIPTION:Barroom Bridge is Members only play.
URL:https://norfolkcountryclub.com/event1/house-barroom-bridge-members-only/2024-08-02/
CATEGORIES:Bridge,Social
END:VEVENT
BEGIN:VEVENT
DTSTART;TZID=America/New_York:20240802T173000
DTEND;TZID=America/New_York:20240802T210000
DTSTAMP:20260422T180720
CREATED:20240430T172648Z
LAST-MODIFIED:20240430T173052Z
UID:10011995-1722619800-1722632400@norfolkcountryclub.com
SUMMARY:HOUSE / Weekend Dinner Service
DESCRIPTION:Dinner service available \nPlease consult the weekly members email for the week’s menu.
URL:https://norfolkcountryclub.com/event1/house-dinner-service-2/2024-08-02/
CATEGORIES:Restaurant,Social
END:VEVENT
BEGIN:VEVENT
DTSTART;TZID=UTC:20240803T183000
DTEND;TZID=UTC:20240803T220000
DTSTAMP:20260422T180720
CREATED:20240311T182734Z
LAST-MODIFIED:20240311T182811Z
UID:10009657-1722709800-1722722400@norfolkcountryclub.com
SUMMARY:HOUSE / Square Dance
DESCRIPTION:Featuring Cliff Brodeur and his 7 piece Country Band \nHoe Down/Square Dance \n\n\n\n6pm Buffet Dinner \n7pm-10pm Dancing
URL:https://norfolkcountryclub.com/event1/house-square-dance/
CATEGORIES:Social
END:VEVENT
BEGIN:VEVENT
DTSTART;TZID=America/New_York:20240804T113000
DTEND;TZID=America/New_York:20240804T143000
DTSTAMP:20260422T180720
CREATED:20240430T174032Z
LAST-MODIFIED:20240430T174749Z
UID:10012188-1722771000-1722781800@norfolkcountryclub.com
SUMMARY:HOUSE / Lunch Service
DESCRIPTION:Lunch service available \nPlease consult the weekly members email for the week’s menu.
URL:https://norfolkcountryclub.com/event1/house-lunch-service-6/2024-08-04/
CATEGORIES:Restaurant,Social
END:VEVENT
BEGIN:VEVENT
DTSTART;TZID=America/New_York:20240806T113000
DTEND;TZID=America/New_York:20240806T143000
DTSTAMP:20260422T180720
CREATED:20240430T174032Z
LAST-MODIFIED:20240430T174749Z
UID:10012189-1722943800-1722954600@norfolkcountryclub.com
SUMMARY:HOUSE / Lunch Service
DESCRIPTION:Lunch service available \nPlease consult the weekly members email for the week’s menu.
URL:https://norfolkcountryclub.com/event1/house-lunch-service-6/2024-08-06/
CATEGORIES:Restaurant,Social
END:VEVENT
BEGIN:VEVENT
DTSTART;TZID=America/New_York:20240806T180000
DTEND;TZID=America/New_York:20240806T200000
DTSTAMP:20260422T180720
CREATED:20240501T010758Z
LAST-MODIFIED:20240501T010811Z
UID:10013518-1722967200-1722974400@norfolkcountryclub.com
SUMMARY:HOUSE / Buffet Dinner Service
DESCRIPTION:Dinner is open to all club members\, not just bridge players. \nPlease make your reservations by Tuesday at noon.
URL:https://norfolkcountryclub.com/event1/house-buffet-dinner-service/2024-08-06/
CATEGORIES:Bridge,Restaurant,Social
END:VEVENT
BEGIN:VEVENT
DTSTART;TZID=America/New_York:20240806T190000
DTEND;TZID=America/New_York:20240806T190000
DTSTAMP:20260422T180720
CREATED:20240311T182049Z
LAST-MODIFIED:20240311T182049Z
UID:10009589-1722970800-1722970800@norfolkcountryclub.com
SUMMARY:HOUSE / BRIDGE
DESCRIPTION:Games begin promptly at 7:00 pm and everyone is encouraged to come to the dinner buffet at 6:00pm. \nGuests: Guests are welcome to attend with a sponsoring member and may play unlimited games throughout the season. \nThe guest fee for just bridge play is $10.00 (chit basis) per evening.
URL:https://norfolkcountryclub.com/event1/house-bridge/2024-08-06/
CATEGORIES:Bridge,Social
END:VEVENT
BEGIN:VEVENT
DTSTART;TZID=America/New_York:20240807T113000
DTEND;TZID=America/New_York:20240807T143000
DTSTAMP:20260422T180720
CREATED:20240430T174032Z
LAST-MODIFIED:20240430T174749Z
UID:10012190-1723030200-1723041000@norfolkcountryclub.com
SUMMARY:HOUSE / Lunch Service
DESCRIPTION:Lunch service available \nPlease consult the weekly members email for the week’s menu.
URL:https://norfolkcountryclub.com/event1/house-lunch-service-6/2024-08-07/
CATEGORIES:Restaurant,Social
END:VEVENT
BEGIN:VEVENT
DTSTART;TZID=America/New_York:20240807T173000
DTEND;TZID=America/New_York:20240807T203000
DTSTAMP:20260422T180720
CREATED:20240430T172858Z
LAST-MODIFIED:20240430T173113Z
UID:10012050-1723051800-1723062600@norfolkcountryclub.com
SUMMARY:HOUSE / Wednesday Dinner Service
DESCRIPTION:Dinner service available \nPlease consult the weekly members email for the week’s menu.
URL:https://norfolkcountryclub.com/event1/house-wednesday-dinner-service/2024-08-07/
CATEGORIES:Restaurant,Social
END:VEVENT
BEGIN:VEVENT
DTSTART;TZID=America/New_York:20240808T113000
DTEND;TZID=America/New_York:20240808T143000
DTSTAMP:20260422T180720
CREATED:20240430T174032Z
LAST-MODIFIED:20240430T174749Z
UID:10012191-1723116600-1723127400@norfolkcountryclub.com
SUMMARY:HOUSE / Lunch Service
DESCRIPTION:Lunch service available \nPlease consult the weekly members email for the week’s menu.
URL:https://norfolkcountryclub.com/event1/house-lunch-service-6/2024-08-08/
CATEGORIES:Restaurant,Social
END:VEVENT
BEGIN:VEVENT
DTSTART;TZID=America/New_York:20240808T183000
DTEND;TZID=America/New_York:20240808T183000
DTSTAMP:20260422T180720
CREATED:20240501T005048Z
LAST-MODIFIED:20240501T005150Z
UID:10013490-1723141800-1723141800@norfolkcountryclub.com
SUMMARY:HOUSE /  THURSDAY NIGHT SPEAKER:  Island Hopping with Marine Biologist Ian Enochs: The Future of Coral Reefs
DESCRIPTION:Aug 8 – Island Hopping with Marine Biologist Ian Enochs: The Future of Coral Reefs
URL:https://norfolkcountryclub.com/event1/house-thursday-night-speaker-island-hopping-with-marine-biologist-ian-enochs-the-future-of-coral-reefs/
CATEGORIES:Social,Speaker
END:VEVENT
BEGIN:VEVENT
DTSTART;TZID=America/New_York:20240809T113000
DTEND;TZID=America/New_York:20240809T143000
DTSTAMP:20260422T180720
CREATED:20240430T174032Z
LAST-MODIFIED:20240430T174749Z
UID:10012192-1723203000-1723213800@norfolkcountryclub.com
SUMMARY:HOUSE / Lunch Service
DESCRIPTION:Lunch service available \nPlease consult the weekly members email for the week’s menu.
URL:https://norfolkcountryclub.com/event1/house-lunch-service-6/2024-08-09/
CATEGORIES:Restaurant,Social
END:VEVENT
BEGIN:VEVENT
DTSTART;TZID=America/New_York:20240809T160000
DTEND;TZID=America/New_York:20240809T180000
DTSTAMP:20260422T180720
CREATED:20240501T010911Z
LAST-MODIFIED:20240501T010919Z
UID:10013544-1723219200-1723226400@norfolkcountryclub.com
SUMMARY:HOUSE / Barroom Bridge (members only)
DESCRIPTION:Barroom Bridge is Members only play.
URL:https://norfolkcountryclub.com/event1/house-barroom-bridge-members-only/2024-08-09/
CATEGORIES:Bridge,Social
END:VEVENT
BEGIN:VEVENT
DTSTART;TZID=America/New_York:20240809T173000
DTEND;TZID=America/New_York:20240809T210000
DTSTAMP:20260422T180720
CREATED:20240430T172648Z
LAST-MODIFIED:20240430T173052Z
UID:10011996-1723224600-1723237200@norfolkcountryclub.com
SUMMARY:HOUSE / Weekend Dinner Service
DESCRIPTION:Dinner service available \nPlease consult the weekly members email for the week’s menu.
URL:https://norfolkcountryclub.com/event1/house-dinner-service-2/2024-08-09/
CATEGORIES:Restaurant,Social
END:VEVENT
BEGIN:VEVENT
DTSTART;TZID=America/New_York:20240810T173000
DTEND;TZID=America/New_York:20240810T210000
DTSTAMP:20260422T180720
CREATED:20240430T172648Z
LAST-MODIFIED:20240430T173052Z
UID:10012013-1723311000-1723323600@norfolkcountryclub.com
SUMMARY:HOUSE / Weekend Dinner Service
DESCRIPTION:Dinner service available \nPlease consult the weekly members email for the week’s menu.
URL:https://norfolkcountryclub.com/event1/house-dinner-service-2/2024-08-10/
CATEGORIES:Restaurant,Social
END:VEVENT
BEGIN:VEVENT
DTSTART;TZID=America/New_York:20240810T180000
DTEND;TZID=America/New_York:20240810T180000
DTSTAMP:20260422T180720
CREATED:20240311T183417Z
LAST-MODIFIED:20240430T174228Z
UID:10009660-1723312800-1723312800@norfolkcountryclub.com
SUMMARY:HOUSE / Trivia
DESCRIPTION:Cocktails: 6:00pm \nTrivia: 7:oopm
URL:https://norfolkcountryclub.com/event1/house-trivia-2/
CATEGORIES:Social
END:VEVENT
END:VCALENDAR