BEGIN:VCALENDAR
VERSION:2.0
PRODID:-//Norfolk Country Club - ECPv6.15.16//NONSGML v1.0//EN
CALSCALE:GREGORIAN
METHOD:PUBLISH
X-ORIGINAL-URL:https://norfolkcountryclub.com
X-WR-CALDESC:Events for Norfolk Country Club
REFRESH-INTERVAL;VALUE=DURATION:PT1H
X-Robots-Tag:noindex
X-PUBLISHED-TTL:PT1H
BEGIN:VTIMEZONE
TZID:America/New_York
BEGIN:DAYLIGHT
TZOFFSETFROM:-0500
TZOFFSETTO:-0400
TZNAME:EDT
DTSTART:20230312T070000
END:DAYLIGHT
BEGIN:STANDARD
TZOFFSETFROM:-0400
TZOFFSETTO:-0500
TZNAME:EST
DTSTART:20231105T060000
END:STANDARD
BEGIN:DAYLIGHT
TZOFFSETFROM:-0500
TZOFFSETTO:-0400
TZNAME:EDT
DTSTART:20240310T070000
END:DAYLIGHT
BEGIN:STANDARD
TZOFFSETFROM:-0400
TZOFFSETTO:-0500
TZNAME:EST
DTSTART:20241103T060000
END:STANDARD
BEGIN:DAYLIGHT
TZOFFSETFROM:-0500
TZOFFSETTO:-0400
TZNAME:EDT
DTSTART:20250309T070000
END:DAYLIGHT
BEGIN:STANDARD
TZOFFSETFROM:-0400
TZOFFSETTO:-0500
TZNAME:EST
DTSTART:20251102T060000
END:STANDARD
END:VTIMEZONE
BEGIN:VTIMEZONE
TZID:UTC
BEGIN:STANDARD
TZOFFSETFROM:+0000
TZOFFSETTO:+0000
TZNAME:UTC
DTSTART:20230101T000000
END:STANDARD
END:VTIMEZONE
BEGIN:VEVENT
DTSTART;TZID=America/New_York:20240618T180000
DTEND;TZID=America/New_York:20240618T200000
DTSTAMP:20260422T185803
CREATED:20240501T010758Z
LAST-MODIFIED:20240501T010811Z
UID:10013511-1718733600-1718740800@norfolkcountryclub.com
SUMMARY:HOUSE / Buffet Dinner Service
DESCRIPTION:Dinner is open to all club members\, not just bridge players. \nPlease make your reservations by Tuesday at noon.
URL:https://norfolkcountryclub.com/event1/house-buffet-dinner-service/2024-06-18/
CATEGORIES:Bridge,Restaurant,Social
END:VEVENT
BEGIN:VEVENT
DTSTART;TZID=America/New_York:20240618T190000
DTEND;TZID=America/New_York:20240618T190000
DTSTAMP:20260422T185803
CREATED:20240311T182049Z
LAST-MODIFIED:20240311T182049Z
UID:10009582-1718737200-1718737200@norfolkcountryclub.com
SUMMARY:HOUSE / BRIDGE
DESCRIPTION:Games begin promptly at 7:00 pm and everyone is encouraged to come to the dinner buffet at 6:00pm. \nGuests: Guests are welcome to attend with a sponsoring member and may play unlimited games throughout the season. \nThe guest fee for just bridge play is $10.00 (chit basis) per evening.
URL:https://norfolkcountryclub.com/event1/house-bridge/2024-06-18/
CATEGORIES:Bridge,Social
END:VEVENT
BEGIN:VEVENT
DTSTART;TZID=America/New_York:20240619T113000
DTEND;TZID=America/New_York:20240619T143000
DTSTAMP:20260422T185803
CREATED:20240430T174032Z
LAST-MODIFIED:20240430T174749Z
UID:10012155-1718796600-1718807400@norfolkcountryclub.com
SUMMARY:HOUSE / Lunch Service
DESCRIPTION:Lunch service available \nPlease consult the weekly members email for the week’s menu.
URL:https://norfolkcountryclub.com/event1/house-lunch-service-6/2024-06-19/
CATEGORIES:Restaurant,Social
END:VEVENT
BEGIN:VEVENT
DTSTART;TZID=America/New_York:20240619T173000
DTEND;TZID=America/New_York:20240619T203000
DTSTAMP:20260422T185803
CREATED:20240430T172858Z
LAST-MODIFIED:20240430T173113Z
UID:10012043-1718818200-1718829000@norfolkcountryclub.com
SUMMARY:HOUSE / Wednesday Dinner Service
DESCRIPTION:Dinner service available \nPlease consult the weekly members email for the week’s menu.
URL:https://norfolkcountryclub.com/event1/house-wednesday-dinner-service/2024-06-19/
CATEGORIES:Restaurant,Social
END:VEVENT
BEGIN:VEVENT
DTSTART;TZID=America/New_York:20240620T113000
DTEND;TZID=America/New_York:20240620T143000
DTSTAMP:20260422T185803
CREATED:20240430T174032Z
LAST-MODIFIED:20240430T174749Z
UID:10012156-1718883000-1718893800@norfolkcountryclub.com
SUMMARY:HOUSE / Lunch Service
DESCRIPTION:Lunch service available \nPlease consult the weekly members email for the week’s menu.
URL:https://norfolkcountryclub.com/event1/house-lunch-service-6/2024-06-20/
CATEGORIES:Restaurant,Social
END:VEVENT
BEGIN:VEVENT
DTSTART;TZID=America/New_York:20240621T113000
DTEND;TZID=America/New_York:20240621T143000
DTSTAMP:20260422T185803
CREATED:20240430T174032Z
LAST-MODIFIED:20240430T174749Z
UID:10012157-1718969400-1718980200@norfolkcountryclub.com
SUMMARY:HOUSE / Lunch Service
DESCRIPTION:Lunch service available \nPlease consult the weekly members email for the week’s menu.
URL:https://norfolkcountryclub.com/event1/house-lunch-service-6/2024-06-21/
CATEGORIES:Restaurant,Social
END:VEVENT
BEGIN:VEVENT
DTSTART;TZID=America/New_York:20240621T160000
DTEND;TZID=America/New_York:20240621T180000
DTSTAMP:20260422T185803
CREATED:20240501T010911Z
LAST-MODIFIED:20240501T010919Z
UID:10013537-1718985600-1718992800@norfolkcountryclub.com
SUMMARY:HOUSE / Barroom Bridge (members only)
DESCRIPTION:Barroom Bridge is Members only play.
URL:https://norfolkcountryclub.com/event1/house-barroom-bridge-members-only/2024-06-21/
CATEGORIES:Bridge,Social
END:VEVENT
BEGIN:VEVENT
DTSTART;TZID=America/New_York:20240621T173000
DTEND;TZID=America/New_York:20240621T210000
DTSTAMP:20260422T185803
CREATED:20240430T172648Z
LAST-MODIFIED:20240430T173052Z
UID:10011989-1718991000-1719003600@norfolkcountryclub.com
SUMMARY:HOUSE / Weekend Dinner Service
DESCRIPTION:Dinner service available \nPlease consult the weekly members email for the week’s menu.
URL:https://norfolkcountryclub.com/event1/house-dinner-service-2/2024-06-21/
CATEGORIES:Restaurant,Social
END:VEVENT
BEGIN:VEVENT
DTSTART;TZID=America/New_York:20240622T173000
DTEND;TZID=America/New_York:20240622T210000
DTSTAMP:20260422T185803
CREATED:20240430T172648Z
LAST-MODIFIED:20240430T173052Z
UID:10012009-1719077400-1719090000@norfolkcountryclub.com
SUMMARY:HOUSE / Weekend Dinner Service
DESCRIPTION:Dinner service available \nPlease consult the weekly members email for the week’s menu.
URL:https://norfolkcountryclub.com/event1/house-dinner-service-2/2024-06-22/
CATEGORIES:Restaurant,Social
END:VEVENT
BEGIN:VEVENT
DTSTART;TZID=America/New_York:20240622T190000
DTEND;TZID=America/New_York:20240622T190000
DTSTAMP:20260422T185803
CREATED:20240311T181448Z
LAST-MODIFIED:20240430T174213Z
UID:10009565-1719082800-1719082800@norfolkcountryclub.com
SUMMARY:HOUSE / Trivia
DESCRIPTION:Cocktails: 6:00pm \nTrivia: 7:oopm
URL:https://norfolkcountryclub.com/event1/house-trivia/
CATEGORIES:Social
END:VEVENT
BEGIN:VEVENT
DTSTART;TZID=America/New_York:20240623T113000
DTEND;TZID=America/New_York:20240623T143000
DTSTAMP:20260422T185803
CREATED:20240430T174032Z
LAST-MODIFIED:20240430T174749Z
UID:10012158-1719142200-1719153000@norfolkcountryclub.com
SUMMARY:HOUSE / Lunch Service
DESCRIPTION:Lunch service available \nPlease consult the weekly members email for the week’s menu.
URL:https://norfolkcountryclub.com/event1/house-lunch-service-6/2024-06-23/
CATEGORIES:Restaurant,Social
END:VEVENT
BEGIN:VEVENT
DTSTART;TZID=America/New_York:20240625T113000
DTEND;TZID=America/New_York:20240625T143000
DTSTAMP:20260422T185803
CREATED:20240430T174032Z
LAST-MODIFIED:20240430T174749Z
UID:10012159-1719315000-1719325800@norfolkcountryclub.com
SUMMARY:HOUSE / Lunch Service
DESCRIPTION:Lunch service available \nPlease consult the weekly members email for the week’s menu.
URL:https://norfolkcountryclub.com/event1/house-lunch-service-6/2024-06-25/
CATEGORIES:Restaurant,Social
END:VEVENT
BEGIN:VEVENT
DTSTART;TZID=America/New_York:20240625T180000
DTEND;TZID=America/New_York:20240625T200000
DTSTAMP:20260422T185803
CREATED:20240501T010758Z
LAST-MODIFIED:20240501T010811Z
UID:10013512-1719338400-1719345600@norfolkcountryclub.com
SUMMARY:HOUSE / Buffet Dinner Service
DESCRIPTION:Dinner is open to all club members\, not just bridge players. \nPlease make your reservations by Tuesday at noon.
URL:https://norfolkcountryclub.com/event1/house-buffet-dinner-service/2024-06-25/
CATEGORIES:Bridge,Restaurant,Social
END:VEVENT
BEGIN:VEVENT
DTSTART;TZID=America/New_York:20240625T190000
DTEND;TZID=America/New_York:20240625T190000
DTSTAMP:20260422T185803
CREATED:20240311T182049Z
LAST-MODIFIED:20240311T182049Z
UID:10009583-1719342000-1719342000@norfolkcountryclub.com
SUMMARY:HOUSE / BRIDGE
DESCRIPTION:Games begin promptly at 7:00 pm and everyone is encouraged to come to the dinner buffet at 6:00pm. \nGuests: Guests are welcome to attend with a sponsoring member and may play unlimited games throughout the season. \nThe guest fee for just bridge play is $10.00 (chit basis) per evening.
URL:https://norfolkcountryclub.com/event1/house-bridge/2024-06-25/
CATEGORIES:Bridge,Social
END:VEVENT
BEGIN:VEVENT
DTSTART;TZID=America/New_York:20240626T113000
DTEND;TZID=America/New_York:20240626T143000
DTSTAMP:20260422T185803
CREATED:20240430T174032Z
LAST-MODIFIED:20240430T174749Z
UID:10012160-1719401400-1719412200@norfolkcountryclub.com
SUMMARY:HOUSE / Lunch Service
DESCRIPTION:Lunch service available \nPlease consult the weekly members email for the week’s menu.
URL:https://norfolkcountryclub.com/event1/house-lunch-service-6/2024-06-26/
CATEGORIES:Restaurant,Social
END:VEVENT
BEGIN:VEVENT
DTSTART;TZID=America/New_York:20240626T173000
DTEND;TZID=America/New_York:20240626T203000
DTSTAMP:20260422T185803
CREATED:20240430T172858Z
LAST-MODIFIED:20240430T173113Z
UID:10012044-1719423000-1719433800@norfolkcountryclub.com
SUMMARY:HOUSE / Wednesday Dinner Service
DESCRIPTION:Dinner service available \nPlease consult the weekly members email for the week’s menu.
URL:https://norfolkcountryclub.com/event1/house-wednesday-dinner-service/2024-06-26/
CATEGORIES:Restaurant,Social
END:VEVENT
BEGIN:VEVENT
DTSTART;TZID=America/New_York:20240627T113000
DTEND;TZID=America/New_York:20240627T143000
DTSTAMP:20260422T185803
CREATED:20240430T174032Z
LAST-MODIFIED:20240430T174749Z
UID:10012161-1719487800-1719498600@norfolkcountryclub.com
SUMMARY:HOUSE / Lunch Service
DESCRIPTION:Lunch service available \nPlease consult the weekly members email for the week’s menu.
URL:https://norfolkcountryclub.com/event1/house-lunch-service-6/2024-06-27/
CATEGORIES:Restaurant,Social
END:VEVENT
BEGIN:VEVENT
DTSTART;TZID=America/New_York:20240627T180000
DTEND;TZID=America/New_York:20240627T220000
DTSTAMP:20260422T185803
CREATED:20240501T004650Z
LAST-MODIFIED:20240501T004650Z
UID:10013485-1719511200-1719525600@norfolkcountryclub.com
SUMMARY:HOUSE /  Opening Thursday Night Speakers Event: Nat Geo Doc. Filmmaker Michael Churton\, Earthquakes and Avalanches: Challenges of Filming on Everest
DESCRIPTION:June 27: Opening Thursday Night Speakers Event:  \nNat Geo Doc. Filmmaker Michael Churton\, Earthquakes and Avalanches: Challenges of Filming on Everest \n  \n 
URL:https://norfolkcountryclub.com/event1/house-opening-thursday-night-speakers-event-nat-geo-doc-filmmaker-michael-churton-earthquakes-and-avalanches-challenges-of-filming-on-everest/
CATEGORIES:Social,Speaker
END:VEVENT
BEGIN:VEVENT
DTSTART;TZID=America/New_York:20240628T113000
DTEND;TZID=America/New_York:20240628T143000
DTSTAMP:20260422T185803
CREATED:20240430T174032Z
LAST-MODIFIED:20240430T174749Z
UID:10012162-1719574200-1719585000@norfolkcountryclub.com
SUMMARY:HOUSE / Lunch Service
DESCRIPTION:Lunch service available \nPlease consult the weekly members email for the week’s menu.
URL:https://norfolkcountryclub.com/event1/house-lunch-service-6/2024-06-28/
CATEGORIES:Restaurant,Social
END:VEVENT
BEGIN:VEVENT
DTSTART;TZID=America/New_York:20240628T160000
DTEND;TZID=America/New_York:20240628T180000
DTSTAMP:20260422T185803
CREATED:20240501T010911Z
LAST-MODIFIED:20240501T010919Z
UID:10013538-1719590400-1719597600@norfolkcountryclub.com
SUMMARY:HOUSE / Barroom Bridge (members only)
DESCRIPTION:Barroom Bridge is Members only play.
URL:https://norfolkcountryclub.com/event1/house-barroom-bridge-members-only/2024-06-28/
CATEGORIES:Bridge,Social
END:VEVENT
BEGIN:VEVENT
DTSTART;TZID=America/New_York:20240628T173000
DTEND;TZID=America/New_York:20240628T210000
DTSTAMP:20260422T185803
CREATED:20240430T172648Z
LAST-MODIFIED:20240430T173052Z
UID:10011990-1719595800-1719608400@norfolkcountryclub.com
SUMMARY:HOUSE / Weekend Dinner Service
DESCRIPTION:Dinner service available \nPlease consult the weekly members email for the week’s menu.
URL:https://norfolkcountryclub.com/event1/house-dinner-service-2/2024-06-28/
CATEGORIES:Restaurant,Social
END:VEVENT
BEGIN:VEVENT
DTSTART;TZID=America/New_York:20240630T113000
DTEND;TZID=America/New_York:20240630T143000
DTSTAMP:20260422T185803
CREATED:20240430T174032Z
LAST-MODIFIED:20240430T174749Z
UID:10012163-1719747000-1719757800@norfolkcountryclub.com
SUMMARY:HOUSE / Lunch Service
DESCRIPTION:Lunch service available \nPlease consult the weekly members email for the week’s menu.
URL:https://norfolkcountryclub.com/event1/house-lunch-service-6/2024-06-30/
CATEGORIES:Restaurant,Social
END:VEVENT
BEGIN:VEVENT
DTSTART;TZID=America/New_York:20240702T113000
DTEND;TZID=America/New_York:20240702T143000
DTSTAMP:20260422T185804
CREATED:20240430T174032Z
LAST-MODIFIED:20240430T174749Z
UID:10012164-1719919800-1719930600@norfolkcountryclub.com
SUMMARY:HOUSE / Lunch Service
DESCRIPTION:Lunch service available \nPlease consult the weekly members email for the week’s menu.
URL:https://norfolkcountryclub.com/event1/house-lunch-service-6/2024-07-02/
CATEGORIES:Restaurant,Social
END:VEVENT
BEGIN:VEVENT
DTSTART;TZID=America/New_York:20240702T180000
DTEND;TZID=America/New_York:20240702T200000
DTSTAMP:20260422T185804
CREATED:20240501T010758Z
LAST-MODIFIED:20240501T010811Z
UID:10013513-1719943200-1719950400@norfolkcountryclub.com
SUMMARY:HOUSE / Buffet Dinner Service
DESCRIPTION:Dinner is open to all club members\, not just bridge players. \nPlease make your reservations by Tuesday at noon.
URL:https://norfolkcountryclub.com/event1/house-buffet-dinner-service/2024-07-02/
CATEGORIES:Bridge,Restaurant,Social
END:VEVENT
BEGIN:VEVENT
DTSTART;TZID=America/New_York:20240702T190000
DTEND;TZID=America/New_York:20240702T190000
DTSTAMP:20260422T185804
CREATED:20240311T182049Z
LAST-MODIFIED:20240311T182049Z
UID:10009584-1719946800-1719946800@norfolkcountryclub.com
SUMMARY:HOUSE / BRIDGE
DESCRIPTION:Games begin promptly at 7:00 pm and everyone is encouraged to come to the dinner buffet at 6:00pm. \nGuests: Guests are welcome to attend with a sponsoring member and may play unlimited games throughout the season. \nThe guest fee for just bridge play is $10.00 (chit basis) per evening.
URL:https://norfolkcountryclub.com/event1/house-bridge/2024-07-02/
CATEGORIES:Bridge,Social
END:VEVENT
BEGIN:VEVENT
DTSTART;TZID=America/New_York:20240703T113000
DTEND;TZID=America/New_York:20240703T143000
DTSTAMP:20260422T185804
CREATED:20240430T174032Z
LAST-MODIFIED:20240430T174749Z
UID:10012165-1720006200-1720017000@norfolkcountryclub.com
SUMMARY:HOUSE / Lunch Service
DESCRIPTION:Lunch service available \nPlease consult the weekly members email for the week’s menu.
URL:https://norfolkcountryclub.com/event1/house-lunch-service-6/2024-07-03/
CATEGORIES:Restaurant,Social
END:VEVENT
BEGIN:VEVENT
DTSTART;TZID=America/New_York:20240703T173000
DTEND;TZID=America/New_York:20240703T203000
DTSTAMP:20260422T185804
CREATED:20240430T172858Z
LAST-MODIFIED:20240430T173113Z
UID:10012045-1720027800-1720038600@norfolkcountryclub.com
SUMMARY:HOUSE / Wednesday Dinner Service
DESCRIPTION:Dinner service available \nPlease consult the weekly members email for the week’s menu.
URL:https://norfolkcountryclub.com/event1/house-wednesday-dinner-service/2024-07-03/
CATEGORIES:Restaurant,Social
END:VEVENT
BEGIN:VEVENT
DTSTART;TZID=America/New_York:20240704T113000
DTEND;TZID=America/New_York:20240704T143000
DTSTAMP:20260422T185804
CREATED:20240430T174032Z
LAST-MODIFIED:20240430T174749Z
UID:10012166-1720092600-1720103400@norfolkcountryclub.com
SUMMARY:HOUSE / Lunch Service
DESCRIPTION:Lunch service available \nPlease consult the weekly members email for the week’s menu.
URL:https://norfolkcountryclub.com/event1/house-lunch-service-6/2024-07-04/
CATEGORIES:Restaurant,Social
END:VEVENT
BEGIN:VEVENT
DTSTART;TZID=UTC:20240704T170000
DTEND;TZID=UTC:20240704T210000
DTSTAMP:20260422T185804
CREATED:20240311T184106Z
LAST-MODIFIED:20240311T184106Z
UID:10009664-1720112400-1720126800@norfolkcountryclub.com
SUMMARY:HOUSE / July 4th BBQ & Live Music
DESCRIPTION:BBQ and Live Music with/ The Grantville Dawgs \nTiming TBD
URL:https://norfolkcountryclub.com/event1/house-july-4th-bbq-live-music/
CATEGORIES:Social
END:VEVENT
BEGIN:VEVENT
DTSTART;TZID=America/New_York:20240705T113000
DTEND;TZID=America/New_York:20240705T143000
DTSTAMP:20260422T185804
CREATED:20240430T174032Z
LAST-MODIFIED:20240430T174749Z
UID:10012167-1720179000-1720189800@norfolkcountryclub.com
SUMMARY:HOUSE / Lunch Service
DESCRIPTION:Lunch service available \nPlease consult the weekly members email for the week’s menu.
URL:https://norfolkcountryclub.com/event1/house-lunch-service-6/2024-07-05/
CATEGORIES:Restaurant,Social
END:VEVENT
END:VCALENDAR