BEGIN:VCALENDAR
VERSION:2.0
PRODID:-//Norfolk Country Club - ECPv6.15.16//NONSGML v1.0//EN
CALSCALE:GREGORIAN
METHOD:PUBLISH
X-WR-CALNAME:Norfolk Country Club
X-ORIGINAL-URL:https://norfolkcountryclub.com
X-WR-CALDESC:Events for Norfolk Country Club
REFRESH-INTERVAL;VALUE=DURATION:PT1H
X-Robots-Tag:noindex
X-PUBLISHED-TTL:PT1H
BEGIN:VTIMEZONE
TZID:America/New_York
BEGIN:DAYLIGHT
TZOFFSETFROM:-0500
TZOFFSETTO:-0400
TZNAME:EDT
DTSTART:20230312T070000
END:DAYLIGHT
BEGIN:STANDARD
TZOFFSETFROM:-0400
TZOFFSETTO:-0500
TZNAME:EST
DTSTART:20231105T060000
END:STANDARD
BEGIN:DAYLIGHT
TZOFFSETFROM:-0500
TZOFFSETTO:-0400
TZNAME:EDT
DTSTART:20240310T070000
END:DAYLIGHT
BEGIN:STANDARD
TZOFFSETFROM:-0400
TZOFFSETTO:-0500
TZNAME:EST
DTSTART:20241103T060000
END:STANDARD
BEGIN:DAYLIGHT
TZOFFSETFROM:-0500
TZOFFSETTO:-0400
TZNAME:EDT
DTSTART:20250309T070000
END:DAYLIGHT
BEGIN:STANDARD
TZOFFSETFROM:-0400
TZOFFSETTO:-0500
TZNAME:EST
DTSTART:20251102T060000
END:STANDARD
END:VTIMEZONE
BEGIN:VTIMEZONE
TZID:UTC
BEGIN:STANDARD
TZOFFSETFROM:+0000
TZOFFSETTO:+0000
TZNAME:UTC
DTSTART:20230101T000000
END:STANDARD
END:VTIMEZONE
BEGIN:VEVENT
DTSTART;TZID=America/New_York:20240806T113000
DTEND;TZID=America/New_York:20240806T143000
DTSTAMP:20260422T162727
CREATED:20240430T174032Z
LAST-MODIFIED:20240430T174749Z
UID:10012189-1722943800-1722954600@norfolkcountryclub.com
SUMMARY:HOUSE / Lunch Service
DESCRIPTION:Lunch service available \nPlease consult the weekly members email for the week’s menu.
URL:https://norfolkcountryclub.com/event1/house-lunch-service-6/2024-08-06/
CATEGORIES:Restaurant,Social
END:VEVENT
BEGIN:VEVENT
DTSTART;TZID=America/New_York:20240806T180000
DTEND;TZID=America/New_York:20240806T200000
DTSTAMP:20260422T162727
CREATED:20240501T010758Z
LAST-MODIFIED:20240501T010811Z
UID:10013518-1722967200-1722974400@norfolkcountryclub.com
SUMMARY:HOUSE / Buffet Dinner Service
DESCRIPTION:Dinner is open to all club members\, not just bridge players. \nPlease make your reservations by Tuesday at noon.
URL:https://norfolkcountryclub.com/event1/house-buffet-dinner-service/2024-08-06/
CATEGORIES:Bridge,Restaurant,Social
END:VEVENT
BEGIN:VEVENT
DTSTART;TZID=America/New_York:20240806T190000
DTEND;TZID=America/New_York:20240806T190000
DTSTAMP:20260422T162727
CREATED:20240311T182049Z
LAST-MODIFIED:20240311T182049Z
UID:10009589-1722970800-1722970800@norfolkcountryclub.com
SUMMARY:HOUSE / BRIDGE
DESCRIPTION:Games begin promptly at 7:00 pm and everyone is encouraged to come to the dinner buffet at 6:00pm. \nGuests: Guests are welcome to attend with a sponsoring member and may play unlimited games throughout the season. \nThe guest fee for just bridge play is $10.00 (chit basis) per evening.
URL:https://norfolkcountryclub.com/event1/house-bridge/2024-08-06/
CATEGORIES:Bridge,Social
END:VEVENT
BEGIN:VEVENT
DTSTART;TZID=America/New_York:20240807T113000
DTEND;TZID=America/New_York:20240807T143000
DTSTAMP:20260422T162727
CREATED:20240430T174032Z
LAST-MODIFIED:20240430T174749Z
UID:10012190-1723030200-1723041000@norfolkcountryclub.com
SUMMARY:HOUSE / Lunch Service
DESCRIPTION:Lunch service available \nPlease consult the weekly members email for the week’s menu.
URL:https://norfolkcountryclub.com/event1/house-lunch-service-6/2024-08-07/
CATEGORIES:Restaurant,Social
END:VEVENT
BEGIN:VEVENT
DTSTART;TZID=America/New_York:20240807T173000
DTEND;TZID=America/New_York:20240807T203000
DTSTAMP:20260422T162727
CREATED:20240430T172858Z
LAST-MODIFIED:20240430T173113Z
UID:10012050-1723051800-1723062600@norfolkcountryclub.com
SUMMARY:HOUSE / Wednesday Dinner Service
DESCRIPTION:Dinner service available \nPlease consult the weekly members email for the week’s menu.
URL:https://norfolkcountryclub.com/event1/house-wednesday-dinner-service/2024-08-07/
CATEGORIES:Restaurant,Social
END:VEVENT
BEGIN:VEVENT
DTSTART;TZID=America/New_York:20240808T113000
DTEND;TZID=America/New_York:20240808T143000
DTSTAMP:20260422T162727
CREATED:20240430T174032Z
LAST-MODIFIED:20240430T174749Z
UID:10012191-1723116600-1723127400@norfolkcountryclub.com
SUMMARY:HOUSE / Lunch Service
DESCRIPTION:Lunch service available \nPlease consult the weekly members email for the week’s menu.
URL:https://norfolkcountryclub.com/event1/house-lunch-service-6/2024-08-08/
CATEGORIES:Restaurant,Social
END:VEVENT
BEGIN:VEVENT
DTSTART;TZID=America/New_York:20240808T183000
DTEND;TZID=America/New_York:20240808T183000
DTSTAMP:20260422T162727
CREATED:20240501T005048Z
LAST-MODIFIED:20240501T005150Z
UID:10013490-1723141800-1723141800@norfolkcountryclub.com
SUMMARY:HOUSE /  THURSDAY NIGHT SPEAKER:  Island Hopping with Marine Biologist Ian Enochs: The Future of Coral Reefs
DESCRIPTION:Aug 8 – Island Hopping with Marine Biologist Ian Enochs: The Future of Coral Reefs
URL:https://norfolkcountryclub.com/event1/house-thursday-night-speaker-island-hopping-with-marine-biologist-ian-enochs-the-future-of-coral-reefs/
CATEGORIES:Social,Speaker
END:VEVENT
BEGIN:VEVENT
DTSTART;TZID=America/New_York:20240809T113000
DTEND;TZID=America/New_York:20240809T143000
DTSTAMP:20260422T162727
CREATED:20240430T174032Z
LAST-MODIFIED:20240430T174749Z
UID:10012192-1723203000-1723213800@norfolkcountryclub.com
SUMMARY:HOUSE / Lunch Service
DESCRIPTION:Lunch service available \nPlease consult the weekly members email for the week’s menu.
URL:https://norfolkcountryclub.com/event1/house-lunch-service-6/2024-08-09/
CATEGORIES:Restaurant,Social
END:VEVENT
BEGIN:VEVENT
DTSTART;TZID=America/New_York:20240809T160000
DTEND;TZID=America/New_York:20240809T180000
DTSTAMP:20260422T162727
CREATED:20240501T010911Z
LAST-MODIFIED:20240501T010919Z
UID:10013544-1723219200-1723226400@norfolkcountryclub.com
SUMMARY:HOUSE / Barroom Bridge (members only)
DESCRIPTION:Barroom Bridge is Members only play.
URL:https://norfolkcountryclub.com/event1/house-barroom-bridge-members-only/2024-08-09/
CATEGORIES:Bridge,Social
END:VEVENT
BEGIN:VEVENT
DTSTART;TZID=America/New_York:20240809T173000
DTEND;TZID=America/New_York:20240809T210000
DTSTAMP:20260422T162727
CREATED:20240430T172648Z
LAST-MODIFIED:20240430T173052Z
UID:10011996-1723224600-1723237200@norfolkcountryclub.com
SUMMARY:HOUSE / Weekend Dinner Service
DESCRIPTION:Dinner service available \nPlease consult the weekly members email for the week’s menu.
URL:https://norfolkcountryclub.com/event1/house-dinner-service-2/2024-08-09/
CATEGORIES:Restaurant,Social
END:VEVENT
BEGIN:VEVENT
DTSTART;TZID=America/New_York:20240810T173000
DTEND;TZID=America/New_York:20240810T210000
DTSTAMP:20260422T162727
CREATED:20240430T172648Z
LAST-MODIFIED:20240430T173052Z
UID:10012013-1723311000-1723323600@norfolkcountryclub.com
SUMMARY:HOUSE / Weekend Dinner Service
DESCRIPTION:Dinner service available \nPlease consult the weekly members email for the week’s menu.
URL:https://norfolkcountryclub.com/event1/house-dinner-service-2/2024-08-10/
CATEGORIES:Restaurant,Social
END:VEVENT
BEGIN:VEVENT
DTSTART;TZID=America/New_York:20240810T180000
DTEND;TZID=America/New_York:20240810T180000
DTSTAMP:20260422T162727
CREATED:20240311T183417Z
LAST-MODIFIED:20240430T174228Z
UID:10009660-1723312800-1723312800@norfolkcountryclub.com
SUMMARY:HOUSE / Trivia
DESCRIPTION:Cocktails: 6:00pm \nTrivia: 7:oopm
URL:https://norfolkcountryclub.com/event1/house-trivia-2/
CATEGORIES:Social
END:VEVENT
BEGIN:VEVENT
DTSTART;TZID=America/New_York:20240811T113000
DTEND;TZID=America/New_York:20240811T143000
DTSTAMP:20260422T162727
CREATED:20240430T174032Z
LAST-MODIFIED:20240430T174749Z
UID:10012193-1723375800-1723386600@norfolkcountryclub.com
SUMMARY:HOUSE / Lunch Service
DESCRIPTION:Lunch service available \nPlease consult the weekly members email for the week’s menu.
URL:https://norfolkcountryclub.com/event1/house-lunch-service-6/2024-08-11/
CATEGORIES:Restaurant,Social
END:VEVENT
BEGIN:VEVENT
DTSTART;TZID=America/New_York:20240813T113000
DTEND;TZID=America/New_York:20240813T143000
DTSTAMP:20260422T162727
CREATED:20240430T174032Z
LAST-MODIFIED:20240430T174749Z
UID:10012194-1723548600-1723559400@norfolkcountryclub.com
SUMMARY:HOUSE / Lunch Service
DESCRIPTION:Lunch service available \nPlease consult the weekly members email for the week’s menu.
URL:https://norfolkcountryclub.com/event1/house-lunch-service-6/2024-08-13/
CATEGORIES:Restaurant,Social
END:VEVENT
BEGIN:VEVENT
DTSTART;TZID=America/New_York:20240813T180000
DTEND;TZID=America/New_York:20240813T200000
DTSTAMP:20260422T162727
CREATED:20240501T010758Z
LAST-MODIFIED:20240501T010811Z
UID:10013519-1723572000-1723579200@norfolkcountryclub.com
SUMMARY:HOUSE / Buffet Dinner Service
DESCRIPTION:Dinner is open to all club members\, not just bridge players. \nPlease make your reservations by Tuesday at noon.
URL:https://norfolkcountryclub.com/event1/house-buffet-dinner-service/2024-08-13/
CATEGORIES:Bridge,Restaurant,Social
END:VEVENT
BEGIN:VEVENT
DTSTART;TZID=America/New_York:20240813T190000
DTEND;TZID=America/New_York:20240813T190000
DTSTAMP:20260422T162727
CREATED:20240311T182049Z
LAST-MODIFIED:20240311T182049Z
UID:10009590-1723575600-1723575600@norfolkcountryclub.com
SUMMARY:HOUSE / BRIDGE
DESCRIPTION:Games begin promptly at 7:00 pm and everyone is encouraged to come to the dinner buffet at 6:00pm. \nGuests: Guests are welcome to attend with a sponsoring member and may play unlimited games throughout the season. \nThe guest fee for just bridge play is $10.00 (chit basis) per evening.
URL:https://norfolkcountryclub.com/event1/house-bridge/2024-08-13/
CATEGORIES:Bridge,Social
END:VEVENT
BEGIN:VEVENT
DTSTART;TZID=America/New_York:20240814T113000
DTEND;TZID=America/New_York:20240814T143000
DTSTAMP:20260422T162727
CREATED:20240430T174032Z
LAST-MODIFIED:20240430T174749Z
UID:10012195-1723635000-1723645800@norfolkcountryclub.com
SUMMARY:HOUSE / Lunch Service
DESCRIPTION:Lunch service available \nPlease consult the weekly members email for the week’s menu.
URL:https://norfolkcountryclub.com/event1/house-lunch-service-6/2024-08-14/
CATEGORIES:Restaurant,Social
END:VEVENT
BEGIN:VEVENT
DTSTART;TZID=America/New_York:20240814T173000
DTEND;TZID=America/New_York:20240814T203000
DTSTAMP:20260422T162727
CREATED:20240430T172858Z
LAST-MODIFIED:20240430T173113Z
UID:10012051-1723656600-1723667400@norfolkcountryclub.com
SUMMARY:HOUSE / Wednesday Dinner Service
DESCRIPTION:Dinner service available \nPlease consult the weekly members email for the week’s menu.
URL:https://norfolkcountryclub.com/event1/house-wednesday-dinner-service/2024-08-14/
CATEGORIES:Restaurant,Social
END:VEVENT
BEGIN:VEVENT
DTSTART;TZID=America/New_York:20240815T113000
DTEND;TZID=America/New_York:20240815T143000
DTSTAMP:20260422T162727
CREATED:20240430T174032Z
LAST-MODIFIED:20240430T174749Z
UID:10012196-1723721400-1723732200@norfolkcountryclub.com
SUMMARY:HOUSE / Lunch Service
DESCRIPTION:Lunch service available \nPlease consult the weekly members email for the week’s menu.
URL:https://norfolkcountryclub.com/event1/house-lunch-service-6/2024-08-15/
CATEGORIES:Restaurant,Social
END:VEVENT
BEGIN:VEVENT
DTSTART;TZID=America/New_York:20240815T183000
DTEND;TZID=America/New_York:20240815T183000
DTSTAMP:20260422T162727
CREATED:20240501T005757Z
LAST-MODIFIED:20240501T005757Z
UID:10013492-1723746600-1723746600@norfolkcountryclub.com
SUMMARY:HOUSE /  THURSDAY NIGHT SPEAKER: Broadway Tales with Tony-Award Winning Conductor Ted Sperling
DESCRIPTION:Aug 15 – Broadway Tales with Tony-Award Winning Conductor Ted Sperling
URL:https://norfolkcountryclub.com/event1/house-thursday-night-speaker-broadway-tales-with-tony-award-winning-conductor-ted-sperling/
CATEGORIES:Social,Speaker
END:VEVENT
BEGIN:VEVENT
DTSTART;TZID=America/New_York:20240816T113000
DTEND;TZID=America/New_York:20240816T143000
DTSTAMP:20260422T162727
CREATED:20240430T174032Z
LAST-MODIFIED:20240430T174749Z
UID:10012197-1723807800-1723818600@norfolkcountryclub.com
SUMMARY:HOUSE / Lunch Service
DESCRIPTION:Lunch service available \nPlease consult the weekly members email for the week’s menu.
URL:https://norfolkcountryclub.com/event1/house-lunch-service-6/2024-08-16/
CATEGORIES:Restaurant,Social
END:VEVENT
BEGIN:VEVENT
DTSTART;TZID=America/New_York:20240816T160000
DTEND;TZID=America/New_York:20240816T180000
DTSTAMP:20260422T162727
CREATED:20240501T010911Z
LAST-MODIFIED:20240501T010919Z
UID:10013545-1723824000-1723831200@norfolkcountryclub.com
SUMMARY:HOUSE / Barroom Bridge (members only)
DESCRIPTION:Barroom Bridge is Members only play.
URL:https://norfolkcountryclub.com/event1/house-barroom-bridge-members-only/2024-08-16/
CATEGORIES:Bridge,Social
END:VEVENT
BEGIN:VEVENT
DTSTART;TZID=America/New_York:20240816T173000
DTEND;TZID=America/New_York:20240816T210000
DTSTAMP:20260422T162727
CREATED:20240430T172648Z
LAST-MODIFIED:20240430T173052Z
UID:10011997-1723829400-1723842000@norfolkcountryclub.com
SUMMARY:HOUSE / Weekend Dinner Service
DESCRIPTION:Dinner service available \nPlease consult the weekly members email for the week’s menu.
URL:https://norfolkcountryclub.com/event1/house-dinner-service-2/2024-08-16/
CATEGORIES:Restaurant,Social
END:VEVENT
BEGIN:VEVENT
DTSTART;TZID=UTC:20240817T180000
DTEND;TZID=UTC:20240817T220000
DTSTAMP:20260422T162727
CREATED:20240311T183050Z
LAST-MODIFIED:20240311T183050Z
UID:10009658-1723917600-1723932000@norfolkcountryclub.com
SUMMARY:HOUSE / Dinner & Fireworks
DESCRIPTION:Special Buffet Dinner (details TBA) \n\n\n\n6:00 Drinks & Dinner \n8:45 Fireworks \n\nRain date: 8/24
URL:https://norfolkcountryclub.com/event1/house-dinner-fireworks/
CATEGORIES:Social
END:VEVENT
BEGIN:VEVENT
DTSTART;TZID=America/New_York:20240818T113000
DTEND;TZID=America/New_York:20240818T143000
DTSTAMP:20260422T162727
CREATED:20240430T174032Z
LAST-MODIFIED:20240430T174749Z
UID:10012198-1723980600-1723991400@norfolkcountryclub.com
SUMMARY:HOUSE / Lunch Service
DESCRIPTION:Lunch service available \nPlease consult the weekly members email for the week’s menu.
URL:https://norfolkcountryclub.com/event1/house-lunch-service-6/2024-08-18/
CATEGORIES:Restaurant,Social
END:VEVENT
BEGIN:VEVENT
DTSTART;TZID=America/New_York:20240820T113000
DTEND;TZID=America/New_York:20240820T143000
DTSTAMP:20260422T162727
CREATED:20240430T174032Z
LAST-MODIFIED:20240430T174749Z
UID:10012199-1724153400-1724164200@norfolkcountryclub.com
SUMMARY:HOUSE / Lunch Service
DESCRIPTION:Lunch service available \nPlease consult the weekly members email for the week’s menu.
URL:https://norfolkcountryclub.com/event1/house-lunch-service-6/2024-08-20/
CATEGORIES:Restaurant,Social
END:VEVENT
BEGIN:VEVENT
DTSTART;TZID=America/New_York:20240820T180000
DTEND;TZID=America/New_York:20240820T200000
DTSTAMP:20260422T162727
CREATED:20240501T010758Z
LAST-MODIFIED:20240501T010811Z
UID:10013520-1724176800-1724184000@norfolkcountryclub.com
SUMMARY:HOUSE / Buffet Dinner Service
DESCRIPTION:Dinner is open to all club members\, not just bridge players. \nPlease make your reservations by Tuesday at noon.
URL:https://norfolkcountryclub.com/event1/house-buffet-dinner-service/2024-08-20/
CATEGORIES:Bridge,Restaurant,Social
END:VEVENT
BEGIN:VEVENT
DTSTART;TZID=America/New_York:20240820T190000
DTEND;TZID=America/New_York:20240820T190000
DTSTAMP:20260422T162727
CREATED:20240311T182049Z
LAST-MODIFIED:20240311T182049Z
UID:10009591-1724180400-1724180400@norfolkcountryclub.com
SUMMARY:HOUSE / BRIDGE
DESCRIPTION:Games begin promptly at 7:00 pm and everyone is encouraged to come to the dinner buffet at 6:00pm. \nGuests: Guests are welcome to attend with a sponsoring member and may play unlimited games throughout the season. \nThe guest fee for just bridge play is $10.00 (chit basis) per evening.
URL:https://norfolkcountryclub.com/event1/house-bridge/2024-08-20/
CATEGORIES:Bridge,Social
END:VEVENT
BEGIN:VEVENT
DTSTART;TZID=America/New_York:20240821T113000
DTEND;TZID=America/New_York:20240821T143000
DTSTAMP:20260422T162727
CREATED:20240430T174032Z
LAST-MODIFIED:20240430T174749Z
UID:10012200-1724239800-1724250600@norfolkcountryclub.com
SUMMARY:HOUSE / Lunch Service
DESCRIPTION:Lunch service available \nPlease consult the weekly members email for the week’s menu.
URL:https://norfolkcountryclub.com/event1/house-lunch-service-6/2024-08-21/
CATEGORIES:Restaurant,Social
END:VEVENT
BEGIN:VEVENT
DTSTART;TZID=America/New_York:20240821T173000
DTEND;TZID=America/New_York:20240821T203000
DTSTAMP:20260422T162727
CREATED:20240430T172858Z
LAST-MODIFIED:20240430T173113Z
UID:10012052-1724261400-1724272200@norfolkcountryclub.com
SUMMARY:HOUSE / Wednesday Dinner Service
DESCRIPTION:Dinner service available \nPlease consult the weekly members email for the week’s menu.
URL:https://norfolkcountryclub.com/event1/house-wednesday-dinner-service/2024-08-21/
CATEGORIES:Restaurant,Social
END:VEVENT
END:VCALENDAR