BEGIN:VCALENDAR
VERSION:2.0
PRODID:-//Norfolk Country Club - ECPv6.15.16//NONSGML v1.0//EN
CALSCALE:GREGORIAN
METHOD:PUBLISH
X-ORIGINAL-URL:https://norfolkcountryclub.com
X-WR-CALDESC:Events for Norfolk Country Club
REFRESH-INTERVAL;VALUE=DURATION:PT1H
X-Robots-Tag:noindex
X-PUBLISHED-TTL:PT1H
BEGIN:VTIMEZONE
TZID:America/New_York
BEGIN:DAYLIGHT
TZOFFSETFROM:-0500
TZOFFSETTO:-0400
TZNAME:EDT
DTSTART:20240310T070000
END:DAYLIGHT
BEGIN:STANDARD
TZOFFSETFROM:-0400
TZOFFSETTO:-0500
TZNAME:EST
DTSTART:20241103T060000
END:STANDARD
BEGIN:DAYLIGHT
TZOFFSETFROM:-0500
TZOFFSETTO:-0400
TZNAME:EDT
DTSTART:20250309T070000
END:DAYLIGHT
BEGIN:STANDARD
TZOFFSETFROM:-0400
TZOFFSETTO:-0500
TZNAME:EST
DTSTART:20251102T060000
END:STANDARD
BEGIN:DAYLIGHT
TZOFFSETFROM:-0500
TZOFFSETTO:-0400
TZNAME:EDT
DTSTART:20260308T070000
END:DAYLIGHT
BEGIN:STANDARD
TZOFFSETFROM:-0400
TZOFFSETTO:-0500
TZNAME:EST
DTSTART:20261101T060000
END:STANDARD
END:VTIMEZONE
BEGIN:VTIMEZONE
TZID:UTC
BEGIN:STANDARD
TZOFFSETFROM:+0000
TZOFFSETTO:+0000
TZNAME:UTC
DTSTART:20240101T000000
END:STANDARD
END:VTIMEZONE
BEGIN:VEVENT
DTSTART;TZID=America/New_York:20250620T173000
DTEND;TZID=America/New_York:20250620T210000
DTSTAMP:20260421T192545
CREATED:20250406T195122Z
LAST-MODIFIED:20250408T200442Z
UID:10015111-1750440600-1750453200@norfolkcountryclub.com
SUMMARY:HOUSE / Weekend Dinner Service
DESCRIPTION:Dinner service available \nPlease consult the weekly members email for the week’s menu.
URL:https://norfolkcountryclub.com/event1/house-weekend-dinner-service-3/2025-06-20/
CATEGORIES:Restaurant,Social
END:VEVENT
BEGIN:VEVENT
DTSTART;TZID=America/New_York:20250620T180000
DTEND;TZID=America/New_York:20250620T190000
DTSTAMP:20260421T192545
CREATED:20250408T182120Z
LAST-MODIFIED:20250408T182120Z
UID:10015558-1750442400-1750446000@norfolkcountryclub.com
SUMMARY:HOUSE / President's New Memeber Welcome Party
DESCRIPTION:
URL:https://norfolkcountryclub.com/event1/house-presidents-new-memeber-welcome-party/
CATEGORIES:Social
END:VEVENT
BEGIN:VEVENT
DTSTART;TZID=America/New_York:20250621T113000
DTEND;TZID=America/New_York:20250621T143000
DTSTAMP:20260421T192545
CREATED:20250406T192311Z
LAST-MODIFIED:20250406T195840Z
UID:10015004-1750505400-1750516200@norfolkcountryclub.com
SUMMARY:HOUSE / Lunch Service
DESCRIPTION:Lunch service available \nPlease consult the weekly members email for the week’s menu.
URL:https://norfolkcountryclub.com/event1/house-lunch-service-7/2025-06-21/
CATEGORIES:Restaurant,Social
END:VEVENT
BEGIN:VEVENT
DTSTART;TZID=America/New_York:20250621T173000
DTEND;TZID=America/New_York:20250621T210000
DTSTAMP:20260421T192545
CREATED:20250406T195122Z
LAST-MODIFIED:20250408T200442Z
UID:10015559-1750527000-1750539600@norfolkcountryclub.com
SUMMARY:HOUSE / Weekend Dinner Service
DESCRIPTION:Dinner service available \nPlease consult the weekly members email for the week’s menu.
URL:https://norfolkcountryclub.com/event1/house-weekend-dinner-service-3/2025-06-21/
CATEGORIES:Restaurant,Social
END:VEVENT
BEGIN:VEVENT
DTSTART;TZID=America/New_York:20250622T113000
DTEND;TZID=America/New_York:20250622T143000
DTSTAMP:20260421T192545
CREATED:20250406T192311Z
LAST-MODIFIED:20250406T195840Z
UID:10015005-1750591800-1750602600@norfolkcountryclub.com
SUMMARY:HOUSE / Lunch Service
DESCRIPTION:Lunch service available \nPlease consult the weekly members email for the week’s menu.
URL:https://norfolkcountryclub.com/event1/house-lunch-service-7/2025-06-22/
CATEGORIES:Restaurant,Social
END:VEVENT
BEGIN:VEVENT
DTSTART;VALUE=DATE:20250623
DTEND;VALUE=DATE:20250624
DTSTAMP:20260421T192545
CREATED:20250205T191530Z
LAST-MODIFIED:20250406T202446Z
UID:10014005-1750636800-1750723199@norfolkcountryclub.com
SUMMARY:Clubhouse Closed Mondays
DESCRIPTION:Clubhouse Closed
URL:https://norfolkcountryclub.com/event1/clubhouse-closed-mondays/2025-06-23/
CATEGORIES:Restaurant,Social
END:VEVENT
BEGIN:VEVENT
DTSTART;TZID=America/New_York:20250624T113000
DTEND;TZID=America/New_York:20250624T143000
DTSTAMP:20260421T192545
CREATED:20250406T192311Z
LAST-MODIFIED:20250406T195840Z
UID:10015007-1750764600-1750775400@norfolkcountryclub.com
SUMMARY:HOUSE / Lunch Service
DESCRIPTION:Lunch service available \nPlease consult the weekly members email for the week’s menu.
URL:https://norfolkcountryclub.com/event1/house-lunch-service-7/2025-06-24/
CATEGORIES:Restaurant,Social
END:VEVENT
BEGIN:VEVENT
DTSTART;TZID=America/New_York:20250624T180000
DTEND;TZID=America/New_York:20250624T200000
DTSTAMP:20260421T192545
CREATED:20250205T191756Z
LAST-MODIFIED:20250205T191812Z
UID:10014048-1750788000-1750795200@norfolkcountryclub.com
SUMMARY:HOUSE / Buffet Dinner Service
DESCRIPTION:Dinner is open to all club members\, not just bridge players. \nPlease make your reservations by Tuesday at noon.
URL:https://norfolkcountryclub.com/event1/house-buffet-dinner-service-2/2025-06-24/
CATEGORIES:Bridge,Restaurant,Social
END:VEVENT
BEGIN:VEVENT
DTSTART;TZID=America/New_York:20250624T190000
DTEND;TZID=America/New_York:20250624T190000
DTSTAMP:20260421T192545
CREATED:20250205T191915Z
LAST-MODIFIED:20250205T191915Z
UID:10014061-1750791600-1750791600@norfolkcountryclub.com
SUMMARY:HOUSE / BRIDGE
DESCRIPTION:Games begin promptly at 7:00 pm and everyone is encouraged to come to the dinner buffet at 6:00pm. \nGuests: Guests are welcome to attend with a sponsoring member and may play unlimited games throughout the season. \nThe guest fee for just bridge play is $10.00 (chit basis) per evening.
URL:https://norfolkcountryclub.com/event1/house-bridge-2/2025-06-24/
CATEGORIES:Bridge,Social
END:VEVENT
BEGIN:VEVENT
DTSTART;TZID=America/New_York:20250625T113000
DTEND;TZID=America/New_York:20250625T143000
DTSTAMP:20260421T192545
CREATED:20250406T192311Z
LAST-MODIFIED:20250406T195840Z
UID:10015008-1750851000-1750861800@norfolkcountryclub.com
SUMMARY:HOUSE / Lunch Service
DESCRIPTION:Lunch service available \nPlease consult the weekly members email for the week’s menu.
URL:https://norfolkcountryclub.com/event1/house-lunch-service-7/2025-06-25/
CATEGORIES:Restaurant,Social
END:VEVENT
BEGIN:VEVENT
DTSTART;TZID=America/New_York:20250625T173000
DTEND;TZID=America/New_York:20250625T203000
DTSTAMP:20260421T192545
CREATED:20250205T191100Z
LAST-MODIFIED:20250406T203000Z
UID:10013801-1750872600-1750883400@norfolkcountryclub.com
SUMMARY:HOUSE / Wednesday Dinner Service
DESCRIPTION:Dinner service available \nPlease consult the weekly members email for the week’s menu.
URL:https://norfolkcountryclub.com/event1/house-wednesday-dinner-service-3/2025-06-25/
CATEGORIES:Restaurant,Social
END:VEVENT
BEGIN:VEVENT
DTSTART;TZID=America/New_York:20250626T113000
DTEND;TZID=America/New_York:20250626T143000
DTSTAMP:20260421T192545
CREATED:20250406T192311Z
LAST-MODIFIED:20250406T195840Z
UID:10015009-1750937400-1750948200@norfolkcountryclub.com
SUMMARY:HOUSE / Lunch Service
DESCRIPTION:Lunch service available \nPlease consult the weekly members email for the week’s menu.
URL:https://norfolkcountryclub.com/event1/house-lunch-service-7/2025-06-26/
CATEGORIES:Restaurant,Social
END:VEVENT
BEGIN:VEVENT
DTSTART;TZID=America/New_York:20250627T113000
DTEND;TZID=America/New_York:20250627T143000
DTSTAMP:20260421T192545
CREATED:20250406T192311Z
LAST-MODIFIED:20250406T195840Z
UID:10015010-1751023800-1751034600@norfolkcountryclub.com
SUMMARY:HOUSE / Lunch Service
DESCRIPTION:Lunch service available \nPlease consult the weekly members email for the week’s menu.
URL:https://norfolkcountryclub.com/event1/house-lunch-service-7/2025-06-27/
CATEGORIES:Restaurant,Social
END:VEVENT
BEGIN:VEVENT
DTSTART;TZID=America/New_York:20250627T160000
DTEND;TZID=America/New_York:20250627T180000
DTSTAMP:20260421T192545
CREATED:20250205T192107Z
LAST-MODIFIED:20250408T184101Z
UID:10014087-1751040000-1751047200@norfolkcountryclub.com
SUMMARY:HOUSE / Barroom Bridge (members only)
DESCRIPTION:Barroom Bridge is Members only play.
URL:https://norfolkcountryclub.com/event1/house-barroom-bridge-members-only-2/2025-06-27/
CATEGORIES:Bridge,Social
END:VEVENT
BEGIN:VEVENT
DTSTART;TZID=America/New_York:20250627T173000
DTEND;TZID=America/New_York:20250627T210000
DTSTAMP:20260421T192545
CREATED:20250406T195122Z
LAST-MODIFIED:20250408T200442Z
UID:10015112-1751045400-1751058000@norfolkcountryclub.com
SUMMARY:HOUSE / Weekend Dinner Service
DESCRIPTION:Dinner service available \nPlease consult the weekly members email for the week’s menu.
URL:https://norfolkcountryclub.com/event1/house-weekend-dinner-service-3/2025-06-27/
CATEGORIES:Restaurant,Social
END:VEVENT
BEGIN:VEVENT
DTSTART;TZID=America/New_York:20250628T113000
DTEND;TZID=America/New_York:20250628T143000
DTSTAMP:20260421T192545
CREATED:20250406T192311Z
LAST-MODIFIED:20250406T195840Z
UID:10015011-1751110200-1751121000@norfolkcountryclub.com
SUMMARY:HOUSE / Lunch Service
DESCRIPTION:Lunch service available \nPlease consult the weekly members email for the week’s menu.
URL:https://norfolkcountryclub.com/event1/house-lunch-service-7/2025-06-28/
CATEGORIES:Restaurant,Social
END:VEVENT
BEGIN:VEVENT
DTSTART;TZID=America/New_York:20250628T173000
DTEND;TZID=America/New_York:20250628T210000
DTSTAMP:20260421T192545
CREATED:20250406T195122Z
LAST-MODIFIED:20250408T200442Z
UID:10015113-1751131800-1751144400@norfolkcountryclub.com
SUMMARY:HOUSE / Weekend Dinner Service
DESCRIPTION:Dinner service available \nPlease consult the weekly members email for the week’s menu.
URL:https://norfolkcountryclub.com/event1/house-weekend-dinner-service-3/2025-06-28/
CATEGORIES:Restaurant,Social
END:VEVENT
BEGIN:VEVENT
DTSTART;TZID=America/New_York:20250628T190000
DTEND;TZID=America/New_York:20250628T190000
DTSTAMP:20260421T192545
CREATED:20250407T195904Z
LAST-MODIFIED:20250407T195927Z
UID:10015180-1751137200-1751137200@norfolkcountryclub.com
SUMMARY:HOUSE / Trivia Night w/ Berkshire Trivia
DESCRIPTION:Cocktails: 6:00pm \nTrivia: 7:oopm
URL:https://norfolkcountryclub.com/event1/house-trivia-night-w-berkshire-trivia/
CATEGORIES:Social
END:VEVENT
BEGIN:VEVENT
DTSTART;TZID=America/New_York:20250629T113000
DTEND;TZID=America/New_York:20250629T143000
DTSTAMP:20260421T192545
CREATED:20250406T192311Z
LAST-MODIFIED:20250406T195840Z
UID:10015012-1751196600-1751207400@norfolkcountryclub.com
SUMMARY:HOUSE / Lunch Service
DESCRIPTION:Lunch service available \nPlease consult the weekly members email for the week’s menu.
URL:https://norfolkcountryclub.com/event1/house-lunch-service-7/2025-06-29/
CATEGORIES:Restaurant,Social
END:VEVENT
BEGIN:VEVENT
DTSTART;VALUE=DATE:20250630
DTEND;VALUE=DATE:20250701
DTSTAMP:20260421T192545
CREATED:20250205T191530Z
LAST-MODIFIED:20250406T202446Z
UID:10014006-1751241600-1751327999@norfolkcountryclub.com
SUMMARY:Clubhouse Closed Mondays
DESCRIPTION:Clubhouse Closed
URL:https://norfolkcountryclub.com/event1/clubhouse-closed-mondays/2025-06-30/
CATEGORIES:Restaurant,Social
END:VEVENT
BEGIN:VEVENT
DTSTART;TZID=America/New_York:20250701T113000
DTEND;TZID=America/New_York:20250701T143000
DTSTAMP:20260421T192545
CREATED:20250406T192311Z
LAST-MODIFIED:20250406T195840Z
UID:10015014-1751369400-1751380200@norfolkcountryclub.com
SUMMARY:HOUSE / Lunch Service
DESCRIPTION:Lunch service available \nPlease consult the weekly members email for the week’s menu.
URL:https://norfolkcountryclub.com/event1/house-lunch-service-7/2025-07-01/
CATEGORIES:Restaurant,Social
END:VEVENT
BEGIN:VEVENT
DTSTART;TZID=America/New_York:20250701T180000
DTEND;TZID=America/New_York:20250701T200000
DTSTAMP:20260421T192545
CREATED:20250205T191756Z
LAST-MODIFIED:20250205T191812Z
UID:10014049-1751392800-1751400000@norfolkcountryclub.com
SUMMARY:HOUSE / Buffet Dinner Service
DESCRIPTION:Dinner is open to all club members\, not just bridge players. \nPlease make your reservations by Tuesday at noon.
URL:https://norfolkcountryclub.com/event1/house-buffet-dinner-service-2/2025-07-01/
CATEGORIES:Bridge,Restaurant,Social
END:VEVENT
BEGIN:VEVENT
DTSTART;TZID=America/New_York:20250701T190000
DTEND;TZID=America/New_York:20250701T190000
DTSTAMP:20260421T192545
CREATED:20250205T191915Z
LAST-MODIFIED:20250205T191915Z
UID:10014062-1751396400-1751396400@norfolkcountryclub.com
SUMMARY:HOUSE / BRIDGE
DESCRIPTION:Games begin promptly at 7:00 pm and everyone is encouraged to come to the dinner buffet at 6:00pm. \nGuests: Guests are welcome to attend with a sponsoring member and may play unlimited games throughout the season. \nThe guest fee for just bridge play is $10.00 (chit basis) per evening.
URL:https://norfolkcountryclub.com/event1/house-bridge-2/2025-07-01/
CATEGORIES:Bridge,Social
END:VEVENT
BEGIN:VEVENT
DTSTART;TZID=America/New_York:20250702T113000
DTEND;TZID=America/New_York:20250702T143000
DTSTAMP:20260421T192545
CREATED:20250406T192311Z
LAST-MODIFIED:20250406T195840Z
UID:10015015-1751455800-1751466600@norfolkcountryclub.com
SUMMARY:HOUSE / Lunch Service
DESCRIPTION:Lunch service available \nPlease consult the weekly members email for the week’s menu.
URL:https://norfolkcountryclub.com/event1/house-lunch-service-7/2025-07-02/
CATEGORIES:Restaurant,Social
END:VEVENT
BEGIN:VEVENT
DTSTART;TZID=America/New_York:20250702T173000
DTEND;TZID=America/New_York:20250702T203000
DTSTAMP:20260421T192545
CREATED:20250205T191100Z
LAST-MODIFIED:20250406T203000Z
UID:10013802-1751477400-1751488200@norfolkcountryclub.com
SUMMARY:HOUSE / Wednesday Dinner Service
DESCRIPTION:Dinner service available \nPlease consult the weekly members email for the week’s menu.
URL:https://norfolkcountryclub.com/event1/house-wednesday-dinner-service-3/2025-07-02/
CATEGORIES:Restaurant,Social
END:VEVENT
BEGIN:VEVENT
DTSTART;TZID=America/New_York:20250703T113000
DTEND;TZID=America/New_York:20250703T143000
DTSTAMP:20260421T192545
CREATED:20250406T192311Z
LAST-MODIFIED:20250406T195840Z
UID:10015016-1751542200-1751553000@norfolkcountryclub.com
SUMMARY:HOUSE / Lunch Service
DESCRIPTION:Lunch service available \nPlease consult the weekly members email for the week’s menu.
URL:https://norfolkcountryclub.com/event1/house-lunch-service-7/2025-07-03/
CATEGORIES:Restaurant,Social
END:VEVENT
BEGIN:VEVENT
DTSTART;TZID=America/New_York:20250703T183000
DTEND;TZID=America/New_York:20250703T183000
DTSTAMP:20260421T192545
CREATED:20250407T200938Z
LAST-MODIFIED:20250407T200938Z
UID:10014527-1751567400-1751567400@norfolkcountryclub.com
SUMMARY:HOUSE /  THURSDAY NIGHT SPEAKER: John Orloff\, Screenwriter
DESCRIPTION:John Orloff\, Screenwriter of Band of Brothers and Masters of the Air: Bringing World War Two to the Small Screen
URL:https://norfolkcountryclub.com/event1/house-thursday-night-speaker-john-orloff-screenwriter-2/
CATEGORIES:Social,Speaker
END:VEVENT
BEGIN:VEVENT
DTSTART;TZID=America/New_York:20250704T113000
DTEND;TZID=America/New_York:20250704T143000
DTSTAMP:20260421T192545
CREATED:20250406T192311Z
LAST-MODIFIED:20250406T195840Z
UID:10015017-1751628600-1751639400@norfolkcountryclub.com
SUMMARY:HOUSE / Lunch Service
DESCRIPTION:Lunch service available \nPlease consult the weekly members email for the week’s menu.
URL:https://norfolkcountryclub.com/event1/house-lunch-service-7/2025-07-04/
CATEGORIES:Restaurant,Social
END:VEVENT
BEGIN:VEVENT
DTSTART;TZID=UTC:20250704T170000
DTEND;TZID=UTC:20250704T210000
DTSTAMP:20260421T192545
CREATED:20250407T211421Z
LAST-MODIFIED:20250408T183833Z
UID:10015216-1751648400-1751662800@norfolkcountryclub.com
SUMMARY:HOUSE / July 4th BBQ Buffet & Live Music
DESCRIPTION:5:00pm Cocktails \n5:30 – 8:30pm Buffet Dinner \n6:00 – 9:00pm The Mudges & Friends Band \n 
URL:https://norfolkcountryclub.com/event1/house-july-4th-bbq-live-music-2/
CATEGORIES:Social
END:VEVENT
BEGIN:VEVENT
DTSTART;TZID=America/New_York:20250705T113000
DTEND;TZID=America/New_York:20250705T143000
DTSTAMP:20260421T192545
CREATED:20250406T192311Z
LAST-MODIFIED:20250406T195840Z
UID:10015018-1751715000-1751725800@norfolkcountryclub.com
SUMMARY:HOUSE / Lunch Service
DESCRIPTION:Lunch service available \nPlease consult the weekly members email for the week’s menu.
URL:https://norfolkcountryclub.com/event1/house-lunch-service-7/2025-07-05/
CATEGORIES:Restaurant,Social
END:VEVENT
END:VCALENDAR