BEGIN:VCALENDAR
VERSION:2.0
PRODID:-//Norfolk Country Club - ECPv6.15.16//NONSGML v1.0//EN
CALSCALE:GREGORIAN
METHOD:PUBLISH
X-ORIGINAL-URL:https://norfolkcountryclub.com
X-WR-CALDESC:Events for Norfolk Country Club
REFRESH-INTERVAL;VALUE=DURATION:PT1H
X-Robots-Tag:noindex
X-PUBLISHED-TTL:PT1H
BEGIN:VTIMEZONE
TZID:America/New_York
BEGIN:DAYLIGHT
TZOFFSETFROM:-0500
TZOFFSETTO:-0400
TZNAME:EDT
DTSTART:20240310T070000
END:DAYLIGHT
BEGIN:STANDARD
TZOFFSETFROM:-0400
TZOFFSETTO:-0500
TZNAME:EST
DTSTART:20241103T060000
END:STANDARD
BEGIN:DAYLIGHT
TZOFFSETFROM:-0500
TZOFFSETTO:-0400
TZNAME:EDT
DTSTART:20250309T070000
END:DAYLIGHT
BEGIN:STANDARD
TZOFFSETFROM:-0400
TZOFFSETTO:-0500
TZNAME:EST
DTSTART:20251102T060000
END:STANDARD
BEGIN:DAYLIGHT
TZOFFSETFROM:-0500
TZOFFSETTO:-0400
TZNAME:EDT
DTSTART:20260308T070000
END:DAYLIGHT
BEGIN:STANDARD
TZOFFSETFROM:-0400
TZOFFSETTO:-0500
TZNAME:EST
DTSTART:20261101T060000
END:STANDARD
END:VTIMEZONE
BEGIN:VTIMEZONE
TZID:UTC
BEGIN:STANDARD
TZOFFSETFROM:+0000
TZOFFSETTO:+0000
TZNAME:UTC
DTSTART:20240101T000000
END:STANDARD
END:VTIMEZONE
BEGIN:VEVENT
DTSTART;VALUE=DATE:20250512
DTEND;VALUE=DATE:20250513
DTSTAMP:20260421T225151
CREATED:20240430T175150Z
LAST-MODIFIED:20240430T175254Z
UID:10013374-1747008000-1747094399@norfolkcountryclub.com
SUMMARY:CLUBHOUSE CLOSED
DESCRIPTION:Clubhouse closed for the season. \nSee you in 2025 \n 
URL:https://norfolkcountryclub.com/event1/clubhouse-closed-7/2025-05-12/
CATEGORIES:Social
END:VEVENT
BEGIN:VEVENT
DTSTART;VALUE=DATE:20250513
DTEND;VALUE=DATE:20250514
DTSTAMP:20260421T225151
CREATED:20240430T175150Z
LAST-MODIFIED:20240430T175254Z
UID:10013375-1747094400-1747180799@norfolkcountryclub.com
SUMMARY:CLUBHOUSE CLOSED
DESCRIPTION:Clubhouse closed for the season. \nSee you in 2025 \n 
URL:https://norfolkcountryclub.com/event1/clubhouse-closed-7/2025-05-13/
CATEGORIES:Social
END:VEVENT
BEGIN:VEVENT
DTSTART;VALUE=DATE:20250514
DTEND;VALUE=DATE:20250515
DTSTAMP:20260421T225151
CREATED:20240430T175150Z
LAST-MODIFIED:20240430T175254Z
UID:10013376-1747180800-1747267199@norfolkcountryclub.com
SUMMARY:CLUBHOUSE CLOSED
DESCRIPTION:Clubhouse closed for the season. \nSee you in 2025 \n 
URL:https://norfolkcountryclub.com/event1/clubhouse-closed-7/2025-05-14/
CATEGORIES:Social
END:VEVENT
BEGIN:VEVENT
DTSTART;VALUE=DATE:20250515
DTEND;VALUE=DATE:20250516
DTSTAMP:20260421T225151
CREATED:20240430T175150Z
LAST-MODIFIED:20240430T175254Z
UID:10013377-1747267200-1747353599@norfolkcountryclub.com
SUMMARY:CLUBHOUSE CLOSED
DESCRIPTION:Clubhouse closed for the season. \nSee you in 2025 \n 
URL:https://norfolkcountryclub.com/event1/clubhouse-closed-7/2025-05-15/
CATEGORIES:Social
END:VEVENT
BEGIN:VEVENT
DTSTART;TZID=America/New_York:20250516T170000
DTEND;TZID=America/New_York:20250516T210000
DTSTAMP:20260421T225151
CREATED:20250406T183556Z
LAST-MODIFIED:20250406T183556Z
UID:10014798-1747414800-1747429200@norfolkcountryclub.com
SUMMARY:HOUSE / Dinner Service
DESCRIPTION:Dinner service available \nPlease consult the weekly members email for the week’s menu.
URL:https://norfolkcountryclub.com/event1/house-dinner-service/
CATEGORIES:Restaurant,Social
END:VEVENT
BEGIN:VEVENT
DTSTART;TZID=America/New_York:20250517T113000
DTEND;TZID=America/New_York:20250517T143000
DTSTAMP:20260421T225151
CREATED:20250406T181519Z
LAST-MODIFIED:20250406T182855Z
UID:10014785-1747481400-1747492200@norfolkcountryclub.com
SUMMARY:HOUSE / May Lunch Service
DESCRIPTION:Lunch service available \nPlease consult the weekly members email for the week’s menu.
URL:https://norfolkcountryclub.com/event1/house-may-lunch-service-2/2025-05-17/
CATEGORIES:Restaurant,Social
END:VEVENT
BEGIN:VEVENT
DTSTART;TZID=America/New_York:20250517T173000
DTEND;TZID=America/New_York:20250517T210000
DTSTAMP:20260421T225151
CREATED:20250205T170731Z
LAST-MODIFIED:20250406T185838Z
UID:10013625-1747503000-1747515600@norfolkcountryclub.com
SUMMARY:HOUSE / Weekend Dinner Service
DESCRIPTION:Dinner service available \nPlease consult the weekly members email for the week’s menu.
URL:https://norfolkcountryclub.com/event1/house-weekend-dinner-service/2025-05-17/
CATEGORIES:Restaurant,Social
END:VEVENT
BEGIN:VEVENT
DTSTART;TZID=America/New_York:20250518T113000
DTEND;TZID=America/New_York:20250518T143000
DTSTAMP:20260421T225151
CREATED:20250406T181519Z
LAST-MODIFIED:20250406T182855Z
UID:10014786-1747567800-1747578600@norfolkcountryclub.com
SUMMARY:HOUSE / May Lunch Service
DESCRIPTION:Lunch service available \nPlease consult the weekly members email for the week’s menu.
URL:https://norfolkcountryclub.com/event1/house-may-lunch-service-2/2025-05-18/
CATEGORIES:Restaurant,Social
END:VEVENT
BEGIN:VEVENT
DTSTART;VALUE=DATE:20250519
DTEND;VALUE=DATE:20250520
DTSTAMP:20260421T225151
CREATED:20250205T200346Z
LAST-MODIFIED:20250406T182049Z
UID:10014362-1747612800-1747699199@norfolkcountryclub.com
SUMMARY:CLUBHOUSE CLOSED
DESCRIPTION:No Clubhouse Access \n 
URL:https://norfolkcountryclub.com/event1/clubhouse-closed-9/2025-05-19/
CATEGORIES:Social
END:VEVENT
BEGIN:VEVENT
DTSTART;VALUE=DATE:20250520
DTEND;VALUE=DATE:20250521
DTSTAMP:20260421T225151
CREATED:20250205T200346Z
LAST-MODIFIED:20250406T182049Z
UID:10014409-1747728000-1747760400@norfolkcountryclub.com
SUMMARY:CLUBHOUSE CLOSED
DESCRIPTION:No Clubhouse Access \n 
URL:https://norfolkcountryclub.com/event1/clubhouse-closed-9/2025-05-20/
CATEGORIES:Social
END:VEVENT
BEGIN:VEVENT
DTSTART;TZID=America/New_York:20250521T113000
DTEND;TZID=America/New_York:20250521T143000
DTSTAMP:20260421T225151
CREATED:20250406T181519Z
LAST-MODIFIED:20250406T182855Z
UID:10014787-1747827000-1747837800@norfolkcountryclub.com
SUMMARY:HOUSE / May Lunch Service
DESCRIPTION:Lunch service available \nPlease consult the weekly members email for the week’s menu.
URL:https://norfolkcountryclub.com/event1/house-may-lunch-service-2/2025-05-21/
CATEGORIES:Restaurant,Social
END:VEVENT
BEGIN:VEVENT
DTSTART;TZID=America/New_York:20250521T173000
DTEND;TZID=America/New_York:20250521T203000
DTSTAMP:20260421T225151
CREATED:20250205T190811Z
LAST-MODIFIED:20250406T184155Z
UID:10014799-1747848600-1747859400@norfolkcountryclub.com
SUMMARY:HOUSE / Wednesday Dinner Service
DESCRIPTION:Dinner service available \nPlease consult the weekly members email for the week’s menu.
URL:https://norfolkcountryclub.com/event1/house-wednesday-dinner-service-2/2025-05-21/
CATEGORIES:Restaurant,Social
END:VEVENT
BEGIN:VEVENT
DTSTART;VALUE=DATE:20250522
DTEND;VALUE=DATE:20250523
DTSTAMP:20260421T225151
CREATED:20250205T200346Z
LAST-MODIFIED:20250406T182049Z
UID:10014794-1747900800-1747933200@norfolkcountryclub.com
SUMMARY:CLUBHOUSE CLOSED
DESCRIPTION:No Clubhouse Access \n 
URL:https://norfolkcountryclub.com/event1/clubhouse-closed-9/2025-05-22/
CATEGORIES:Social
END:VEVENT
BEGIN:VEVENT
DTSTART;TZID=America/New_York:20250523T113000
DTEND;TZID=America/New_York:20250523T143000
DTSTAMP:20260421T225151
CREATED:20250406T181519Z
LAST-MODIFIED:20250406T182855Z
UID:10014788-1747999800-1748010600@norfolkcountryclub.com
SUMMARY:HOUSE / May Lunch Service
DESCRIPTION:Lunch service available \nPlease consult the weekly members email for the week’s menu.
URL:https://norfolkcountryclub.com/event1/house-may-lunch-service-2/2025-05-23/
CATEGORIES:Restaurant,Social
END:VEVENT
BEGIN:VEVENT
DTSTART;TZID=America/New_York:20250523T173000
DTEND;TZID=America/New_York:20250523T210000
DTSTAMP:20260421T225151
CREATED:20250205T170731Z
LAST-MODIFIED:20250406T185838Z
UID:10014801-1748021400-1748034000@norfolkcountryclub.com
SUMMARY:HOUSE / Weekend Dinner Service
DESCRIPTION:Dinner service available \nPlease consult the weekly members email for the week’s menu.
URL:https://norfolkcountryclub.com/event1/house-weekend-dinner-service/2025-05-23/
CATEGORIES:Restaurant,Social
END:VEVENT
BEGIN:VEVENT
DTSTART;TZID=America/New_York:20250524T113000
DTEND;TZID=America/New_York:20250524T143000
DTSTAMP:20260421T225151
CREATED:20250406T183222Z
LAST-MODIFIED:20250406T183222Z
UID:10014797-1748086200-1748097000@norfolkcountryclub.com
SUMMARY:HOUSE / Special Service
DESCRIPTION:Please consult the weekly members email for the week’s menu.
URL:https://norfolkcountryclub.com/event1/house-special-service/
CATEGORIES:Restaurant,Social
END:VEVENT
BEGIN:VEVENT
DTSTART;TZID=UTC:20250524T183000
DTEND;TZID=UTC:20250524T220000
DTSTAMP:20260421T225151
CREATED:20250205T185314Z
LAST-MODIFIED:20250205T185314Z
UID:10013680-1748111400-1748124000@norfolkcountryclub.com
SUMMARY:HOUSE / Opening Steak Dinner
DESCRIPTION:Opening Steak Dinner \n6:30pm cocktails \n7:30pm dinner
URL:https://norfolkcountryclub.com/event1/house-opening-steak-dinner-2/
CATEGORIES:Social
END:VEVENT
BEGIN:VEVENT
DTSTART;TZID=America/New_York:20250525T113000
DTEND;TZID=America/New_York:20250525T143000
DTSTAMP:20260421T225151
CREATED:20250406T181519Z
LAST-MODIFIED:20250406T182855Z
UID:10014790-1748172600-1748183400@norfolkcountryclub.com
SUMMARY:HOUSE / May Lunch Service
DESCRIPTION:Lunch service available \nPlease consult the weekly members email for the week’s menu.
URL:https://norfolkcountryclub.com/event1/house-may-lunch-service-2/2025-05-25/
CATEGORIES:Restaurant,Social
END:VEVENT
BEGIN:VEVENT
DTSTART;TZID=America/New_York:20250526T110000
DTEND;TZID=America/New_York:20250526T120000
DTSTAMP:20260421T225151
CREATED:20250205T200215Z
LAST-MODIFIED:20250205T200215Z
UID:10014359-1748257200-1748260800@norfolkcountryclub.com
SUMMARY:HOUSE / Member Meeting & Information Session
DESCRIPTION:Meeting 11:00 \nBrunch Buffet 11:45 – 2 \nBar open until 3
URL:https://norfolkcountryclub.com/event1/house-member-meeting-information-session-2/
CATEGORIES:Social
END:VEVENT
BEGIN:VEVENT
DTSTART;TZID=America/New_York:20250526T114500
DTEND;TZID=America/New_York:20250526T140000
DTSTAMP:20260421T225151
CREATED:20250406T170200Z
LAST-MODIFIED:20250406T170200Z
UID:10014775-1748259900-1748268000@norfolkcountryclub.com
SUMMARY:HOUSE / Lunch Buffet
DESCRIPTION:Lunch Buffet service available after Annual Spring Members Meeting \nPlease consult the weekly members email for the week’s menu.
URL:https://norfolkcountryclub.com/event1/house-lunch-buffet-2/
CATEGORIES:Restaurant,Social
END:VEVENT
BEGIN:VEVENT
DTSTART;VALUE=DATE:20250527
DTEND;VALUE=DATE:20250528
DTSTAMP:20260421T225151
CREATED:20250205T200346Z
LAST-MODIFIED:20250406T182049Z
UID:10014410-1748332800-1748365200@norfolkcountryclub.com
SUMMARY:CLUBHOUSE CLOSED
DESCRIPTION:No Clubhouse Access \n 
URL:https://norfolkcountryclub.com/event1/clubhouse-closed-9/2025-05-27/
CATEGORIES:Social
END:VEVENT
BEGIN:VEVENT
DTSTART;TZID=America/New_York:20250528T113000
DTEND;TZID=America/New_York:20250528T143000
DTSTAMP:20260421T225151
CREATED:20250406T181519Z
LAST-MODIFIED:20250406T182855Z
UID:10014791-1748431800-1748442600@norfolkcountryclub.com
SUMMARY:HOUSE / May Lunch Service
DESCRIPTION:Lunch service available \nPlease consult the weekly members email for the week’s menu.
URL:https://norfolkcountryclub.com/event1/house-may-lunch-service-2/2025-05-28/
CATEGORIES:Restaurant,Social
END:VEVENT
BEGIN:VEVENT
DTSTART;TZID=America/New_York:20250528T173000
DTEND;TZID=America/New_York:20250528T203000
DTSTAMP:20260421T225151
CREATED:20250205T190811Z
LAST-MODIFIED:20250406T184155Z
UID:10013698-1748453400-1748464200@norfolkcountryclub.com
SUMMARY:HOUSE / Wednesday Dinner Service
DESCRIPTION:Dinner service available \nPlease consult the weekly members email for the week’s menu.
URL:https://norfolkcountryclub.com/event1/house-wednesday-dinner-service-2/2025-05-28/
CATEGORIES:Restaurant,Social
END:VEVENT
BEGIN:VEVENT
DTSTART;VALUE=DATE:20250529
DTEND;VALUE=DATE:20250530
DTSTAMP:20260421T225151
CREATED:20250205T200346Z
LAST-MODIFIED:20250406T182049Z
UID:10014795-1748505600-1748538000@norfolkcountryclub.com
SUMMARY:CLUBHOUSE CLOSED
DESCRIPTION:No Clubhouse Access \n 
URL:https://norfolkcountryclub.com/event1/clubhouse-closed-9/2025-05-29/
CATEGORIES:Social
END:VEVENT
BEGIN:VEVENT
DTSTART;TZID=America/New_York:20250530T113000
DTEND;TZID=America/New_York:20250530T143000
DTSTAMP:20260421T225151
CREATED:20250406T181519Z
LAST-MODIFIED:20250406T182855Z
UID:10014792-1748604600-1748615400@norfolkcountryclub.com
SUMMARY:HOUSE / May Lunch Service
DESCRIPTION:Lunch service available \nPlease consult the weekly members email for the week’s menu.
URL:https://norfolkcountryclub.com/event1/house-may-lunch-service-2/2025-05-30/
CATEGORIES:Restaurant,Social
END:VEVENT
BEGIN:VEVENT
DTSTART;TZID=America/New_York:20250530T173000
DTEND;TZID=America/New_York:20250530T210000
DTSTAMP:20260421T225151
CREATED:20250205T170731Z
LAST-MODIFIED:20250406T185838Z
UID:10014802-1748626200-1748638800@norfolkcountryclub.com
SUMMARY:HOUSE / Weekend Dinner Service
DESCRIPTION:Dinner service available \nPlease consult the weekly members email for the week’s menu.
URL:https://norfolkcountryclub.com/event1/house-weekend-dinner-service/2025-05-30/
CATEGORIES:Restaurant,Social
END:VEVENT
BEGIN:VEVENT
DTSTART;TZID=America/New_York:20250531T113000
DTEND;TZID=America/New_York:20250531T143000
DTSTAMP:20260421T225151
CREATED:20250406T181519Z
LAST-MODIFIED:20250406T182855Z
UID:10014793-1748691000-1748701800@norfolkcountryclub.com
SUMMARY:HOUSE / May Lunch Service
DESCRIPTION:Lunch service available \nPlease consult the weekly members email for the week’s menu.
URL:https://norfolkcountryclub.com/event1/house-may-lunch-service-2/2025-05-31/
CATEGORIES:Restaurant,Social
END:VEVENT
BEGIN:VEVENT
DTSTART;TZID=America/New_York:20250531T173000
DTEND;TZID=America/New_York:20250531T210000
DTSTAMP:20260421T225151
CREATED:20250205T170731Z
LAST-MODIFIED:20250406T185838Z
UID:10013629-1748712600-1748725200@norfolkcountryclub.com
SUMMARY:HOUSE / Weekend Dinner Service
DESCRIPTION:Dinner service available \nPlease consult the weekly members email for the week’s menu.
URL:https://norfolkcountryclub.com/event1/house-weekend-dinner-service/2025-05-31/
CATEGORIES:Restaurant,Social
END:VEVENT
BEGIN:VEVENT
DTSTART;TZID=America/New_York:20250601T113000
DTEND;TZID=America/New_York:20250601T143000
DTSTAMP:20260421T225151
CREATED:20250406T192311Z
LAST-MODIFIED:20250406T195840Z
UID:10014985-1748777400-1748788200@norfolkcountryclub.com
SUMMARY:HOUSE / Lunch Service
DESCRIPTION:Lunch service available \nPlease consult the weekly members email for the week’s menu.
URL:https://norfolkcountryclub.com/event1/house-lunch-service-7/2025-06-01/
CATEGORIES:Restaurant,Social
END:VEVENT
BEGIN:VEVENT
DTSTART;VALUE=DATE:20250602
DTEND;VALUE=DATE:20250603
DTSTAMP:20260421T225151
CREATED:20250205T191530Z
LAST-MODIFIED:20250406T202446Z
UID:10014002-1748822400-1748908799@norfolkcountryclub.com
SUMMARY:Clubhouse Closed Mondays
DESCRIPTION:Clubhouse Closed
URL:https://norfolkcountryclub.com/event1/clubhouse-closed-mondays/2025-06-02/
CATEGORIES:Restaurant,Social
END:VEVENT
END:VCALENDAR