BEGIN:VCALENDAR
VERSION:2.0
PRODID:-//Norfolk Country Club - ECPv6.15.16//NONSGML v1.0//EN
CALSCALE:GREGORIAN
METHOD:PUBLISH
X-WR-CALNAME:Norfolk Country Club
X-ORIGINAL-URL:https://norfolkcountryclub.com
X-WR-CALDESC:Events for Norfolk Country Club
REFRESH-INTERVAL;VALUE=DURATION:PT1H
X-Robots-Tag:noindex
X-PUBLISHED-TTL:PT1H
BEGIN:VTIMEZONE
TZID:America/New_York
BEGIN:DAYLIGHT
TZOFFSETFROM:-0500
TZOFFSETTO:-0400
TZNAME:EDT
DTSTART:20240310T070000
END:DAYLIGHT
BEGIN:STANDARD
TZOFFSETFROM:-0400
TZOFFSETTO:-0500
TZNAME:EST
DTSTART:20241103T060000
END:STANDARD
BEGIN:DAYLIGHT
TZOFFSETFROM:-0500
TZOFFSETTO:-0400
TZNAME:EDT
DTSTART:20250309T070000
END:DAYLIGHT
BEGIN:STANDARD
TZOFFSETFROM:-0400
TZOFFSETTO:-0500
TZNAME:EST
DTSTART:20251102T060000
END:STANDARD
BEGIN:DAYLIGHT
TZOFFSETFROM:-0500
TZOFFSETTO:-0400
TZNAME:EDT
DTSTART:20260308T070000
END:DAYLIGHT
BEGIN:STANDARD
TZOFFSETFROM:-0400
TZOFFSETTO:-0500
TZNAME:EST
DTSTART:20261101T060000
END:STANDARD
END:VTIMEZONE
BEGIN:VTIMEZONE
TZID:UTC
BEGIN:STANDARD
TZOFFSETFROM:+0000
TZOFFSETTO:+0000
TZNAME:UTC
DTSTART:20240101T000000
END:STANDARD
END:VTIMEZONE
BEGIN:VEVENT
DTSTART;TZID=America/New_York:20251010T113000
DTEND;TZID=America/New_York:20251010T143000
DTSTAMP:20260421T115646
CREATED:20250406T192859Z
LAST-MODIFIED:20250408T200129Z
UID:10015098-1760095800-1760106600@norfolkcountryclub.com
SUMMARY:HOUSE / Lunch Service
DESCRIPTION:Lunch service available \nPlease consult the weekly members email for the week’s menu.
URL:https://norfolkcountryclub.com/event1/house-lunch-service-8/2025-10-10/
CATEGORIES:Restaurant,Social
END:VEVENT
BEGIN:VEVENT
DTSTART;TZID=America/New_York:20251010T173000
DTEND;TZID=America/New_York:20251010T210000
DTSTAMP:20260421T115646
CREATED:20250406T195122Z
LAST-MODIFIED:20250408T200442Z
UID:10015136-1760117400-1760130000@norfolkcountryclub.com
SUMMARY:HOUSE / Weekend Dinner Service
DESCRIPTION:Dinner service available \nPlease consult the weekly members email for the week’s menu.
URL:https://norfolkcountryclub.com/event1/house-weekend-dinner-service-3/2025-10-10/
CATEGORIES:Restaurant,Social
END:VEVENT
BEGIN:VEVENT
DTSTART;TZID=America/New_York:20251011T113000
DTEND;TZID=America/New_York:20251011T143000
DTSTAMP:20260421T115646
CREATED:20250406T192859Z
LAST-MODIFIED:20250408T200129Z
UID:10015099-1760182200-1760193000@norfolkcountryclub.com
SUMMARY:HOUSE / Lunch Service
DESCRIPTION:Lunch service available \nPlease consult the weekly members email for the week’s menu.
URL:https://norfolkcountryclub.com/event1/house-lunch-service-8/2025-10-11/
CATEGORIES:Restaurant,Social
END:VEVENT
BEGIN:VEVENT
DTSTART;TZID=UTC:20251011T183000
DTEND;TZID=UTC:20251011T223000
DTSTAMP:20260421T115646
CREATED:20250407T210452Z
LAST-MODIFIED:20250407T210452Z
UID:10015215-1760207400-1760221800@norfolkcountryclub.com
SUMMARY:HOUSE / Closing Steak Dinner
DESCRIPTION:Closing Steak Dinner \n6:30pm cocktails \n 7:30 dinner
URL:https://norfolkcountryclub.com/event1/house-closing-steak-dinner-2/
CATEGORIES:Social
END:VEVENT
BEGIN:VEVENT
DTSTART;TZID=America/New_York:20251012T113000
DTEND;TZID=America/New_York:20251012T143000
DTSTAMP:20260421T115646
CREATED:20250406T192859Z
LAST-MODIFIED:20250408T200129Z
UID:10015100-1760268600-1760279400@norfolkcountryclub.com
SUMMARY:HOUSE / Lunch Service
DESCRIPTION:Lunch service available \nPlease consult the weekly members email for the week’s menu.
URL:https://norfolkcountryclub.com/event1/house-lunch-service-8/2025-10-12/
CATEGORIES:Restaurant,Social
END:VEVENT
BEGIN:VEVENT
DTSTART;TZID=America/New_York:20251013T070000
DTEND;TZID=America/New_York:20251013T070000
DTSTAMP:20260421T115646
CREATED:20250407T212301Z
LAST-MODIFIED:20250407T212418Z
UID:10015217-1760338800-1760338800@norfolkcountryclub.com
SUMMARY:Clubhouse Closes for the Season.  See you next year!
DESCRIPTION:
URL:https://norfolkcountryclub.com/event1/clubhouse-closes-for-the-season-see-you-next-year/
CATEGORIES:Social
END:VEVENT
END:VCALENDAR