BEGIN:VCALENDAR
VERSION:2.0
PRODID:-//Norfolk Country Club - ECPv6.15.16//NONSGML v1.0//EN
CALSCALE:GREGORIAN
METHOD:PUBLISH
X-WR-CALNAME:Norfolk Country Club
X-ORIGINAL-URL:https://norfolkcountryclub.com
X-WR-CALDESC:Events for Norfolk Country Club
REFRESH-INTERVAL;VALUE=DURATION:PT1H
X-Robots-Tag:noindex
X-PUBLISHED-TTL:PT1H
BEGIN:VTIMEZONE
TZID:America/New_York
BEGIN:DAYLIGHT
TZOFFSETFROM:-0500
TZOFFSETTO:-0400
TZNAME:EDT
DTSTART:20240310T070000
END:DAYLIGHT
BEGIN:STANDARD
TZOFFSETFROM:-0400
TZOFFSETTO:-0500
TZNAME:EST
DTSTART:20241103T060000
END:STANDARD
BEGIN:DAYLIGHT
TZOFFSETFROM:-0500
TZOFFSETTO:-0400
TZNAME:EDT
DTSTART:20250309T070000
END:DAYLIGHT
BEGIN:STANDARD
TZOFFSETFROM:-0400
TZOFFSETTO:-0500
TZNAME:EST
DTSTART:20251102T060000
END:STANDARD
BEGIN:DAYLIGHT
TZOFFSETFROM:-0500
TZOFFSETTO:-0400
TZNAME:EDT
DTSTART:20260308T070000
END:DAYLIGHT
BEGIN:STANDARD
TZOFFSETFROM:-0400
TZOFFSETTO:-0500
TZNAME:EST
DTSTART:20261101T060000
END:STANDARD
END:VTIMEZONE
BEGIN:VEVENT
DTSTART;TZID=America/New_York:20250607T173000
DTEND;TZID=America/New_York:20250607T210000
DTSTAMP:20260421T194612
CREATED:20250406T195122Z
LAST-MODIFIED:20250408T200442Z
UID:10015108-1749317400-1749330000@norfolkcountryclub.com
SUMMARY:HOUSE / Weekend Dinner Service
DESCRIPTION:Dinner service available \nPlease consult the weekly members email for the week’s menu.
URL:https://norfolkcountryclub.com/event1/house-weekend-dinner-service-3/2025-06-07/
CATEGORIES:Restaurant,Social
END:VEVENT
BEGIN:VEVENT
DTSTART;TZID=America/New_York:20250607T180000
DTEND;TZID=America/New_York:20250607T180000
DTSTAMP:20260421T194612
CREATED:20250407T195142Z
LAST-MODIFIED:20250407T210849Z
UID:10015177-1749319200-1749319200@norfolkcountryclub.com
SUMMARY:HOUSE / Belmont Stakes Party
DESCRIPTION:Belmont Stakes Celebration \nDrink and food specials. \n6pm cocktails. \n7ish(tbd) post time.
URL:https://norfolkcountryclub.com/event1/house-belmont-stakes-2/
CATEGORIES:Social
END:VEVENT
BEGIN:VEVENT
DTSTART;TZID=America/New_York:20250608T113000
DTEND;TZID=America/New_York:20250608T143000
DTSTAMP:20260421T194612
CREATED:20250406T192311Z
LAST-MODIFIED:20250406T195840Z
UID:10014992-1749382200-1749393000@norfolkcountryclub.com
SUMMARY:HOUSE / Lunch Service
DESCRIPTION:Lunch service available \nPlease consult the weekly members email for the week’s menu.
URL:https://norfolkcountryclub.com/event1/house-lunch-service-7/2025-06-08/
CATEGORIES:Restaurant,Social
END:VEVENT
BEGIN:VEVENT
DTSTART;VALUE=DATE:20250609
DTEND;VALUE=DATE:20250610
DTSTAMP:20260421T194612
CREATED:20250205T191530Z
LAST-MODIFIED:20250406T202446Z
UID:10014003-1749427200-1749513599@norfolkcountryclub.com
SUMMARY:Clubhouse Closed Mondays
DESCRIPTION:Clubhouse Closed
URL:https://norfolkcountryclub.com/event1/clubhouse-closed-mondays/2025-06-09/
CATEGORIES:Restaurant,Social
END:VEVENT
BEGIN:VEVENT
DTSTART;TZID=America/New_York:20250610T113000
DTEND;TZID=America/New_York:20250610T143000
DTSTAMP:20260421T194612
CREATED:20250406T192311Z
LAST-MODIFIED:20250406T195840Z
UID:10014994-1749555000-1749565800@norfolkcountryclub.com
SUMMARY:HOUSE / Lunch Service
DESCRIPTION:Lunch service available \nPlease consult the weekly members email for the week’s menu.
URL:https://norfolkcountryclub.com/event1/house-lunch-service-7/2025-06-10/
CATEGORIES:Restaurant,Social
END:VEVENT
BEGIN:VEVENT
DTSTART;TZID=America/New_York:20250610T180000
DTEND;TZID=America/New_York:20250610T200000
DTSTAMP:20260421T194612
CREATED:20250205T191756Z
LAST-MODIFIED:20250205T191812Z
UID:10014046-1749578400-1749585600@norfolkcountryclub.com
SUMMARY:HOUSE / Buffet Dinner Service
DESCRIPTION:Dinner is open to all club members\, not just bridge players. \nPlease make your reservations by Tuesday at noon.
URL:https://norfolkcountryclub.com/event1/house-buffet-dinner-service-2/2025-06-10/
CATEGORIES:Bridge,Restaurant,Social
END:VEVENT
BEGIN:VEVENT
DTSTART;TZID=America/New_York:20250610T190000
DTEND;TZID=America/New_York:20250610T190000
DTSTAMP:20260421T194612
CREATED:20250205T191915Z
LAST-MODIFIED:20250205T191915Z
UID:10014059-1749582000-1749582000@norfolkcountryclub.com
SUMMARY:HOUSE / BRIDGE
DESCRIPTION:Games begin promptly at 7:00 pm and everyone is encouraged to come to the dinner buffet at 6:00pm. \nGuests: Guests are welcome to attend with a sponsoring member and may play unlimited games throughout the season. \nThe guest fee for just bridge play is $10.00 (chit basis) per evening.
URL:https://norfolkcountryclub.com/event1/house-bridge-2/2025-06-10/
CATEGORIES:Bridge,Social
END:VEVENT
BEGIN:VEVENT
DTSTART;TZID=America/New_York:20250611T113000
DTEND;TZID=America/New_York:20250611T143000
DTSTAMP:20260421T194612
CREATED:20250406T192311Z
LAST-MODIFIED:20250406T195840Z
UID:10014995-1749641400-1749652200@norfolkcountryclub.com
SUMMARY:HOUSE / Lunch Service
DESCRIPTION:Lunch service available \nPlease consult the weekly members email for the week’s menu.
URL:https://norfolkcountryclub.com/event1/house-lunch-service-7/2025-06-11/
CATEGORIES:Restaurant,Social
END:VEVENT
BEGIN:VEVENT
DTSTART;TZID=America/New_York:20250611T173000
DTEND;TZID=America/New_York:20250611T203000
DTSTAMP:20260421T194612
CREATED:20250205T191100Z
LAST-MODIFIED:20250406T203000Z
UID:10013799-1749663000-1749673800@norfolkcountryclub.com
SUMMARY:HOUSE / Wednesday Dinner Service
DESCRIPTION:Dinner service available \nPlease consult the weekly members email for the week’s menu.
URL:https://norfolkcountryclub.com/event1/house-wednesday-dinner-service-3/2025-06-11/
CATEGORIES:Restaurant,Social
END:VEVENT
BEGIN:VEVENT
DTSTART;TZID=America/New_York:20250612T113000
DTEND;TZID=America/New_York:20250612T143000
DTSTAMP:20260421T194612
CREATED:20250406T192311Z
LAST-MODIFIED:20250406T195840Z
UID:10014996-1749727800-1749738600@norfolkcountryclub.com
SUMMARY:HOUSE / Lunch Service
DESCRIPTION:Lunch service available \nPlease consult the weekly members email for the week’s menu.
URL:https://norfolkcountryclub.com/event1/house-lunch-service-7/2025-06-12/
CATEGORIES:Restaurant,Social
END:VEVENT
BEGIN:VEVENT
DTSTART;TZID=America/New_York:20250613T113000
DTEND;TZID=America/New_York:20250613T143000
DTSTAMP:20260421T194612
CREATED:20250406T192311Z
LAST-MODIFIED:20250406T195840Z
UID:10014997-1749814200-1749825000@norfolkcountryclub.com
SUMMARY:HOUSE / Lunch Service
DESCRIPTION:Lunch service available \nPlease consult the weekly members email for the week’s menu.
URL:https://norfolkcountryclub.com/event1/house-lunch-service-7/2025-06-13/
CATEGORIES:Restaurant,Social
END:VEVENT
BEGIN:VEVENT
DTSTART;TZID=America/New_York:20250613T160000
DTEND;TZID=America/New_York:20250613T180000
DTSTAMP:20260421T194612
CREATED:20250205T192107Z
LAST-MODIFIED:20250408T184101Z
UID:10014085-1749830400-1749837600@norfolkcountryclub.com
SUMMARY:HOUSE / Barroom Bridge (members only)
DESCRIPTION:Barroom Bridge is Members only play.
URL:https://norfolkcountryclub.com/event1/house-barroom-bridge-members-only-2/2025-06-13/
CATEGORIES:Bridge,Social
END:VEVENT
BEGIN:VEVENT
DTSTART;TZID=America/New_York:20250613T173000
DTEND;TZID=America/New_York:20250613T210000
DTSTAMP:20260421T194612
CREATED:20250406T195122Z
LAST-MODIFIED:20250408T200442Z
UID:10015109-1749835800-1749848400@norfolkcountryclub.com
SUMMARY:HOUSE / Weekend Dinner Service
DESCRIPTION:Dinner service available \nPlease consult the weekly members email for the week’s menu.
URL:https://norfolkcountryclub.com/event1/house-weekend-dinner-service-3/2025-06-13/
CATEGORIES:Restaurant,Social
END:VEVENT
BEGIN:VEVENT
DTSTART;TZID=America/New_York:20250614T113000
DTEND;TZID=America/New_York:20250614T143000
DTSTAMP:20260421T194612
CREATED:20250406T192311Z
LAST-MODIFIED:20250406T195840Z
UID:10014998-1749900600-1749911400@norfolkcountryclub.com
SUMMARY:HOUSE / Lunch Service
DESCRIPTION:Lunch service available \nPlease consult the weekly members email for the week’s menu.
URL:https://norfolkcountryclub.com/event1/house-lunch-service-7/2025-06-14/
CATEGORIES:Restaurant,Social
END:VEVENT
BEGIN:VEVENT
DTSTART;TZID=America/New_York:20250614T173000
DTEND;TZID=America/New_York:20250614T173000
DTSTAMP:20260421T194612
CREATED:20250407T195418Z
LAST-MODIFIED:20250408T181846Z
UID:10015178-1749922200-1749922200@norfolkcountryclub.com
SUMMARY:HOUSE - 14th Annual Bags Tournament
DESCRIPTION:14th Annual Bags Tournament \nIt’s never IN THE BAG! \nThis is a double elimination tournament so the lead can change several times in a match before a winner is declared! \n5:30pm Cocktails \n6:30pm Play \nPlease sign your team up with Jenny at jmunch@snet.net
URL:https://norfolkcountryclub.com/event1/house-14th-annual-bags-tournament/
CATEGORIES:Social
END:VEVENT
BEGIN:VEVENT
DTSTART;TZID=America/New_York:20250614T173000
DTEND;TZID=America/New_York:20250614T210000
DTSTAMP:20260421T194612
CREATED:20250406T195122Z
LAST-MODIFIED:20250408T200442Z
UID:10015110-1749922200-1749934800@norfolkcountryclub.com
SUMMARY:HOUSE / Weekend Dinner Service
DESCRIPTION:Dinner service available \nPlease consult the weekly members email for the week’s menu.
URL:https://norfolkcountryclub.com/event1/house-weekend-dinner-service-3/2025-06-14/
CATEGORIES:Restaurant,Social
END:VEVENT
BEGIN:VEVENT
DTSTART;TZID=America/New_York:20250615T120000
DTEND;TZID=America/New_York:20250615T143000
DTSTAMP:20260421T194612
CREATED:20250406T193112Z
LAST-MODIFIED:20250406T193112Z
UID:10015101-1749988800-1749997800@norfolkcountryclub.com
SUMMARY:HOUSE / Father's Day Brunch Buffet
DESCRIPTION:Father’s Day brunch buffet. 12pm-2:30
URL:https://norfolkcountryclub.com/event1/house-fathers-day-brunch-buffet-2/
CATEGORIES:Social
END:VEVENT
BEGIN:VEVENT
DTSTART;VALUE=DATE:20250616
DTEND;VALUE=DATE:20250617
DTSTAMP:20260421T194612
CREATED:20250205T191530Z
LAST-MODIFIED:20250406T202446Z
UID:10014004-1750032000-1750118399@norfolkcountryclub.com
SUMMARY:Clubhouse Closed Mondays
DESCRIPTION:Clubhouse Closed
URL:https://norfolkcountryclub.com/event1/clubhouse-closed-mondays/2025-06-16/
CATEGORIES:Restaurant,Social
END:VEVENT
BEGIN:VEVENT
DTSTART;TZID=America/New_York:20250617T113000
DTEND;TZID=America/New_York:20250617T143000
DTSTAMP:20260421T194612
CREATED:20250406T192311Z
LAST-MODIFIED:20250406T195840Z
UID:10015000-1750159800-1750170600@norfolkcountryclub.com
SUMMARY:HOUSE / Lunch Service
DESCRIPTION:Lunch service available \nPlease consult the weekly members email for the week’s menu.
URL:https://norfolkcountryclub.com/event1/house-lunch-service-7/2025-06-17/
CATEGORIES:Restaurant,Social
END:VEVENT
BEGIN:VEVENT
DTSTART;TZID=America/New_York:20250617T180000
DTEND;TZID=America/New_York:20250617T200000
DTSTAMP:20260421T194612
CREATED:20250205T191756Z
LAST-MODIFIED:20250205T191812Z
UID:10014047-1750183200-1750190400@norfolkcountryclub.com
SUMMARY:HOUSE / Buffet Dinner Service
DESCRIPTION:Dinner is open to all club members\, not just bridge players. \nPlease make your reservations by Tuesday at noon.
URL:https://norfolkcountryclub.com/event1/house-buffet-dinner-service-2/2025-06-17/
CATEGORIES:Bridge,Restaurant,Social
END:VEVENT
BEGIN:VEVENT
DTSTART;TZID=America/New_York:20250617T190000
DTEND;TZID=America/New_York:20250617T190000
DTSTAMP:20260421T194612
CREATED:20250205T191915Z
LAST-MODIFIED:20250205T191915Z
UID:10014060-1750186800-1750186800@norfolkcountryclub.com
SUMMARY:HOUSE / BRIDGE
DESCRIPTION:Games begin promptly at 7:00 pm and everyone is encouraged to come to the dinner buffet at 6:00pm. \nGuests: Guests are welcome to attend with a sponsoring member and may play unlimited games throughout the season. \nThe guest fee for just bridge play is $10.00 (chit basis) per evening.
URL:https://norfolkcountryclub.com/event1/house-bridge-2/2025-06-17/
CATEGORIES:Bridge,Social
END:VEVENT
BEGIN:VEVENT
DTSTART;TZID=America/New_York:20250618T113000
DTEND;TZID=America/New_York:20250618T143000
DTSTAMP:20260421T194612
CREATED:20250406T192311Z
LAST-MODIFIED:20250406T195840Z
UID:10015001-1750246200-1750257000@norfolkcountryclub.com
SUMMARY:HOUSE / Lunch Service
DESCRIPTION:Lunch service available \nPlease consult the weekly members email for the week’s menu.
URL:https://norfolkcountryclub.com/event1/house-lunch-service-7/2025-06-18/
CATEGORIES:Restaurant,Social
END:VEVENT
BEGIN:VEVENT
DTSTART;TZID=America/New_York:20250618T173000
DTEND;TZID=America/New_York:20250618T203000
DTSTAMP:20260421T194612
CREATED:20250205T191100Z
LAST-MODIFIED:20250406T203000Z
UID:10013800-1750267800-1750278600@norfolkcountryclub.com
SUMMARY:HOUSE / Wednesday Dinner Service
DESCRIPTION:Dinner service available \nPlease consult the weekly members email for the week’s menu.
URL:https://norfolkcountryclub.com/event1/house-wednesday-dinner-service-3/2025-06-18/
CATEGORIES:Restaurant,Social
END:VEVENT
BEGIN:VEVENT
DTSTART;TZID=America/New_York:20250619T113000
DTEND;TZID=America/New_York:20250619T143000
DTSTAMP:20260421T194612
CREATED:20250406T192311Z
LAST-MODIFIED:20250406T195840Z
UID:10015002-1750332600-1750343400@norfolkcountryclub.com
SUMMARY:HOUSE / Lunch Service
DESCRIPTION:Lunch service available \nPlease consult the weekly members email for the week’s menu.
URL:https://norfolkcountryclub.com/event1/house-lunch-service-7/2025-06-19/
CATEGORIES:Restaurant,Social
END:VEVENT
BEGIN:VEVENT
DTSTART;TZID=America/New_York:20250620T113000
DTEND;TZID=America/New_York:20250620T143000
DTSTAMP:20260421T194612
CREATED:20250406T192311Z
LAST-MODIFIED:20250406T195840Z
UID:10015003-1750419000-1750429800@norfolkcountryclub.com
SUMMARY:HOUSE / Lunch Service
DESCRIPTION:Lunch service available \nPlease consult the weekly members email for the week’s menu.
URL:https://norfolkcountryclub.com/event1/house-lunch-service-7/2025-06-20/
CATEGORIES:Restaurant,Social
END:VEVENT
BEGIN:VEVENT
DTSTART;TZID=America/New_York:20250620T160000
DTEND;TZID=America/New_York:20250620T180000
DTSTAMP:20260421T194612
CREATED:20250205T192107Z
LAST-MODIFIED:20250408T184101Z
UID:10014086-1750435200-1750442400@norfolkcountryclub.com
SUMMARY:HOUSE / Barroom Bridge (members only)
DESCRIPTION:Barroom Bridge is Members only play.
URL:https://norfolkcountryclub.com/event1/house-barroom-bridge-members-only-2/2025-06-20/
CATEGORIES:Bridge,Social
END:VEVENT
BEGIN:VEVENT
DTSTART;TZID=America/New_York:20250620T173000
DTEND;TZID=America/New_York:20250620T210000
DTSTAMP:20260421T194612
CREATED:20250406T195122Z
LAST-MODIFIED:20250408T200442Z
UID:10015111-1750440600-1750453200@norfolkcountryclub.com
SUMMARY:HOUSE / Weekend Dinner Service
DESCRIPTION:Dinner service available \nPlease consult the weekly members email for the week’s menu.
URL:https://norfolkcountryclub.com/event1/house-weekend-dinner-service-3/2025-06-20/
CATEGORIES:Restaurant,Social
END:VEVENT
BEGIN:VEVENT
DTSTART;TZID=America/New_York:20250620T180000
DTEND;TZID=America/New_York:20250620T190000
DTSTAMP:20260421T194612
CREATED:20250408T182120Z
LAST-MODIFIED:20250408T182120Z
UID:10015558-1750442400-1750446000@norfolkcountryclub.com
SUMMARY:HOUSE / President's New Memeber Welcome Party
DESCRIPTION:
URL:https://norfolkcountryclub.com/event1/house-presidents-new-memeber-welcome-party/
CATEGORIES:Social
END:VEVENT
BEGIN:VEVENT
DTSTART;TZID=America/New_York:20250621T113000
DTEND;TZID=America/New_York:20250621T143000
DTSTAMP:20260421T194612
CREATED:20250406T192311Z
LAST-MODIFIED:20250406T195840Z
UID:10015004-1750505400-1750516200@norfolkcountryclub.com
SUMMARY:HOUSE / Lunch Service
DESCRIPTION:Lunch service available \nPlease consult the weekly members email for the week’s menu.
URL:https://norfolkcountryclub.com/event1/house-lunch-service-7/2025-06-21/
CATEGORIES:Restaurant,Social
END:VEVENT
BEGIN:VEVENT
DTSTART;TZID=America/New_York:20250621T173000
DTEND;TZID=America/New_York:20250621T210000
DTSTAMP:20260421T194612
CREATED:20250406T195122Z
LAST-MODIFIED:20250408T200442Z
UID:10015559-1750527000-1750539600@norfolkcountryclub.com
SUMMARY:HOUSE / Weekend Dinner Service
DESCRIPTION:Dinner service available \nPlease consult the weekly members email for the week’s menu.
URL:https://norfolkcountryclub.com/event1/house-weekend-dinner-service-3/2025-06-21/
CATEGORIES:Restaurant,Social
END:VEVENT
END:VCALENDAR