BEGIN:VCALENDAR
VERSION:2.0
PRODID:-//Norfolk Country Club - ECPv6.15.16//NONSGML v1.0//EN
CALSCALE:GREGORIAN
METHOD:PUBLISH
X-WR-CALNAME:Norfolk Country Club
X-ORIGINAL-URL:https://norfolkcountryclub.com
X-WR-CALDESC:Events for Norfolk Country Club
REFRESH-INTERVAL;VALUE=DURATION:PT1H
X-Robots-Tag:noindex
X-PUBLISHED-TTL:PT1H
BEGIN:VTIMEZONE
TZID:America/New_York
BEGIN:DAYLIGHT
TZOFFSETFROM:-0500
TZOFFSETTO:-0400
TZNAME:EDT
DTSTART:20240310T070000
END:DAYLIGHT
BEGIN:STANDARD
TZOFFSETFROM:-0400
TZOFFSETTO:-0500
TZNAME:EST
DTSTART:20241103T060000
END:STANDARD
BEGIN:DAYLIGHT
TZOFFSETFROM:-0500
TZOFFSETTO:-0400
TZNAME:EDT
DTSTART:20250309T070000
END:DAYLIGHT
BEGIN:STANDARD
TZOFFSETFROM:-0400
TZOFFSETTO:-0500
TZNAME:EST
DTSTART:20251102T060000
END:STANDARD
BEGIN:DAYLIGHT
TZOFFSETFROM:-0500
TZOFFSETTO:-0400
TZNAME:EDT
DTSTART:20260308T070000
END:DAYLIGHT
BEGIN:STANDARD
TZOFFSETFROM:-0400
TZOFFSETTO:-0500
TZNAME:EST
DTSTART:20261101T060000
END:STANDARD
END:VTIMEZONE
BEGIN:VEVENT
DTSTART;VALUE=DATE:20250328
DTEND;VALUE=DATE:20250329
DTSTAMP:20260421T223814
CREATED:20240430T175150Z
LAST-MODIFIED:20240430T175254Z
UID:10013329-1743120000-1743206399@norfolkcountryclub.com
SUMMARY:CLUBHOUSE CLOSED
DESCRIPTION:Clubhouse closed for the season. \nSee you in 2025 \n 
URL:https://norfolkcountryclub.com/event1/clubhouse-closed-7/2025-03-28/
CATEGORIES:Social
END:VEVENT
BEGIN:VEVENT
DTSTART;VALUE=DATE:20250329
DTEND;VALUE=DATE:20250330
DTSTAMP:20260421T223814
CREATED:20240430T175150Z
LAST-MODIFIED:20240430T175254Z
UID:10013330-1743206400-1743292799@norfolkcountryclub.com
SUMMARY:CLUBHOUSE CLOSED
DESCRIPTION:Clubhouse closed for the season. \nSee you in 2025 \n 
URL:https://norfolkcountryclub.com/event1/clubhouse-closed-7/2025-03-29/
CATEGORIES:Social
END:VEVENT
BEGIN:VEVENT
DTSTART;VALUE=DATE:20250330
DTEND;VALUE=DATE:20250331
DTSTAMP:20260421T223814
CREATED:20240430T175150Z
LAST-MODIFIED:20240430T175254Z
UID:10013331-1743292800-1743379199@norfolkcountryclub.com
SUMMARY:CLUBHOUSE CLOSED
DESCRIPTION:Clubhouse closed for the season. \nSee you in 2025 \n 
URL:https://norfolkcountryclub.com/event1/clubhouse-closed-7/2025-03-30/
CATEGORIES:Social
END:VEVENT
BEGIN:VEVENT
DTSTART;VALUE=DATE:20250331
DTEND;VALUE=DATE:20250401
DTSTAMP:20260421T223814
CREATED:20240430T175150Z
LAST-MODIFIED:20240430T175254Z
UID:10013332-1743379200-1743465599@norfolkcountryclub.com
SUMMARY:CLUBHOUSE CLOSED
DESCRIPTION:Clubhouse closed for the season. \nSee you in 2025 \n 
URL:https://norfolkcountryclub.com/event1/clubhouse-closed-7/2025-03-31/
CATEGORIES:Social
END:VEVENT
BEGIN:VEVENT
DTSTART;VALUE=DATE:20250401
DTEND;VALUE=DATE:20250402
DTSTAMP:20260421T223814
CREATED:20240430T175150Z
LAST-MODIFIED:20240430T175254Z
UID:10013333-1743465600-1743551999@norfolkcountryclub.com
SUMMARY:CLUBHOUSE CLOSED
DESCRIPTION:Clubhouse closed for the season. \nSee you in 2025 \n 
URL:https://norfolkcountryclub.com/event1/clubhouse-closed-7/2025-04-01/
CATEGORIES:Social
END:VEVENT
BEGIN:VEVENT
DTSTART;VALUE=DATE:20250402
DTEND;VALUE=DATE:20250403
DTSTAMP:20260421T223814
CREATED:20240430T175150Z
LAST-MODIFIED:20240430T175254Z
UID:10013334-1743552000-1743638399@norfolkcountryclub.com
SUMMARY:CLUBHOUSE CLOSED
DESCRIPTION:Clubhouse closed for the season. \nSee you in 2025 \n 
URL:https://norfolkcountryclub.com/event1/clubhouse-closed-7/2025-04-02/
CATEGORIES:Social
END:VEVENT
BEGIN:VEVENT
DTSTART;VALUE=DATE:20250403
DTEND;VALUE=DATE:20250404
DTSTAMP:20260421T223814
CREATED:20240430T175150Z
LAST-MODIFIED:20240430T175254Z
UID:10013335-1743638400-1743724799@norfolkcountryclub.com
SUMMARY:CLUBHOUSE CLOSED
DESCRIPTION:Clubhouse closed for the season. \nSee you in 2025 \n 
URL:https://norfolkcountryclub.com/event1/clubhouse-closed-7/2025-04-03/
CATEGORIES:Social
END:VEVENT
BEGIN:VEVENT
DTSTART;VALUE=DATE:20250404
DTEND;VALUE=DATE:20250405
DTSTAMP:20260421T223814
CREATED:20240430T175150Z
LAST-MODIFIED:20240430T175254Z
UID:10013336-1743724800-1743811199@norfolkcountryclub.com
SUMMARY:CLUBHOUSE CLOSED
DESCRIPTION:Clubhouse closed for the season. \nSee you in 2025 \n 
URL:https://norfolkcountryclub.com/event1/clubhouse-closed-7/2025-04-04/
CATEGORIES:Social
END:VEVENT
BEGIN:VEVENT
DTSTART;VALUE=DATE:20250405
DTEND;VALUE=DATE:20250406
DTSTAMP:20260421T223814
CREATED:20240430T175150Z
LAST-MODIFIED:20240430T175254Z
UID:10013337-1743811200-1743897599@norfolkcountryclub.com
SUMMARY:CLUBHOUSE CLOSED
DESCRIPTION:Clubhouse closed for the season. \nSee you in 2025 \n 
URL:https://norfolkcountryclub.com/event1/clubhouse-closed-7/2025-04-05/
CATEGORIES:Social
END:VEVENT
BEGIN:VEVENT
DTSTART;VALUE=DATE:20250406
DTEND;VALUE=DATE:20250407
DTSTAMP:20260421T223814
CREATED:20240430T175150Z
LAST-MODIFIED:20240430T175254Z
UID:10013338-1743897600-1743983999@norfolkcountryclub.com
SUMMARY:CLUBHOUSE CLOSED
DESCRIPTION:Clubhouse closed for the season. \nSee you in 2025 \n 
URL:https://norfolkcountryclub.com/event1/clubhouse-closed-7/2025-04-06/
CATEGORIES:Social
END:VEVENT
BEGIN:VEVENT
DTSTART;VALUE=DATE:20250407
DTEND;VALUE=DATE:20250408
DTSTAMP:20260421T223814
CREATED:20240430T175150Z
LAST-MODIFIED:20240430T175254Z
UID:10013339-1743984000-1744070399@norfolkcountryclub.com
SUMMARY:CLUBHOUSE CLOSED
DESCRIPTION:Clubhouse closed for the season. \nSee you in 2025 \n 
URL:https://norfolkcountryclub.com/event1/clubhouse-closed-7/2025-04-07/
CATEGORIES:Social
END:VEVENT
BEGIN:VEVENT
DTSTART;VALUE=DATE:20250408
DTEND;VALUE=DATE:20250409
DTSTAMP:20260421T223814
CREATED:20240430T175150Z
LAST-MODIFIED:20240430T175254Z
UID:10013340-1744070400-1744156799@norfolkcountryclub.com
SUMMARY:CLUBHOUSE CLOSED
DESCRIPTION:Clubhouse closed for the season. \nSee you in 2025 \n 
URL:https://norfolkcountryclub.com/event1/clubhouse-closed-7/2025-04-08/
CATEGORIES:Social
END:VEVENT
BEGIN:VEVENT
DTSTART;VALUE=DATE:20250409
DTEND;VALUE=DATE:20250410
DTSTAMP:20260421T223814
CREATED:20240430T175150Z
LAST-MODIFIED:20240430T175254Z
UID:10013341-1744156800-1744243199@norfolkcountryclub.com
SUMMARY:CLUBHOUSE CLOSED
DESCRIPTION:Clubhouse closed for the season. \nSee you in 2025 \n 
URL:https://norfolkcountryclub.com/event1/clubhouse-closed-7/2025-04-09/
CATEGORIES:Social
END:VEVENT
BEGIN:VEVENT
DTSTART;VALUE=DATE:20250410
DTEND;VALUE=DATE:20250411
DTSTAMP:20260421T223814
CREATED:20240430T175150Z
LAST-MODIFIED:20240430T175254Z
UID:10013342-1744243200-1744329599@norfolkcountryclub.com
SUMMARY:CLUBHOUSE CLOSED
DESCRIPTION:Clubhouse closed for the season. \nSee you in 2025 \n 
URL:https://norfolkcountryclub.com/event1/clubhouse-closed-7/2025-04-10/
CATEGORIES:Social
END:VEVENT
BEGIN:VEVENT
DTSTART;VALUE=DATE:20250411
DTEND;VALUE=DATE:20250412
DTSTAMP:20260421T223814
CREATED:20240430T175150Z
LAST-MODIFIED:20240430T175254Z
UID:10013343-1744329600-1744415999@norfolkcountryclub.com
SUMMARY:CLUBHOUSE CLOSED
DESCRIPTION:Clubhouse closed for the season. \nSee you in 2025 \n 
URL:https://norfolkcountryclub.com/event1/clubhouse-closed-7/2025-04-11/
CATEGORIES:Social
END:VEVENT
BEGIN:VEVENT
DTSTART;VALUE=DATE:20250412
DTEND;VALUE=DATE:20250413
DTSTAMP:20260421T223814
CREATED:20240430T175150Z
LAST-MODIFIED:20240430T175254Z
UID:10013344-1744416000-1744502399@norfolkcountryclub.com
SUMMARY:CLUBHOUSE CLOSED
DESCRIPTION:Clubhouse closed for the season. \nSee you in 2025 \n 
URL:https://norfolkcountryclub.com/event1/clubhouse-closed-7/2025-04-12/
CATEGORIES:Social
END:VEVENT
BEGIN:VEVENT
DTSTART;VALUE=DATE:20250413
DTEND;VALUE=DATE:20250414
DTSTAMP:20260421T223814
CREATED:20240430T175150Z
LAST-MODIFIED:20240430T175254Z
UID:10013345-1744502400-1744588799@norfolkcountryclub.com
SUMMARY:CLUBHOUSE CLOSED
DESCRIPTION:Clubhouse closed for the season. \nSee you in 2025 \n 
URL:https://norfolkcountryclub.com/event1/clubhouse-closed-7/2025-04-13/
CATEGORIES:Social
END:VEVENT
BEGIN:VEVENT
DTSTART;VALUE=DATE:20250414
DTEND;VALUE=DATE:20250415
DTSTAMP:20260421T223814
CREATED:20240430T175150Z
LAST-MODIFIED:20240430T175254Z
UID:10013346-1744588800-1744675199@norfolkcountryclub.com
SUMMARY:CLUBHOUSE CLOSED
DESCRIPTION:Clubhouse closed for the season. \nSee you in 2025 \n 
URL:https://norfolkcountryclub.com/event1/clubhouse-closed-7/2025-04-14/
CATEGORIES:Social
END:VEVENT
BEGIN:VEVENT
DTSTART;VALUE=DATE:20250415
DTEND;VALUE=DATE:20250416
DTSTAMP:20260421T223814
CREATED:20240430T175150Z
LAST-MODIFIED:20240430T175254Z
UID:10013347-1744675200-1744761599@norfolkcountryclub.com
SUMMARY:CLUBHOUSE CLOSED
DESCRIPTION:Clubhouse closed for the season. \nSee you in 2025 \n 
URL:https://norfolkcountryclub.com/event1/clubhouse-closed-7/2025-04-15/
CATEGORIES:Social
END:VEVENT
BEGIN:VEVENT
DTSTART;VALUE=DATE:20250416
DTEND;VALUE=DATE:20250417
DTSTAMP:20260421T223814
CREATED:20240430T175150Z
LAST-MODIFIED:20240430T175254Z
UID:10013348-1744761600-1744847999@norfolkcountryclub.com
SUMMARY:CLUBHOUSE CLOSED
DESCRIPTION:Clubhouse closed for the season. \nSee you in 2025 \n 
URL:https://norfolkcountryclub.com/event1/clubhouse-closed-7/2025-04-16/
CATEGORIES:Social
END:VEVENT
BEGIN:VEVENT
DTSTART;VALUE=DATE:20250417
DTEND;VALUE=DATE:20250418
DTSTAMP:20260421T223814
CREATED:20240430T175150Z
LAST-MODIFIED:20240430T175254Z
UID:10013349-1744848000-1744934399@norfolkcountryclub.com
SUMMARY:CLUBHOUSE CLOSED
DESCRIPTION:Clubhouse closed for the season. \nSee you in 2025 \n 
URL:https://norfolkcountryclub.com/event1/clubhouse-closed-7/2025-04-17/
CATEGORIES:Social
END:VEVENT
BEGIN:VEVENT
DTSTART;VALUE=DATE:20250418
DTEND;VALUE=DATE:20250419
DTSTAMP:20260421T223814
CREATED:20240430T175150Z
LAST-MODIFIED:20240430T175254Z
UID:10013350-1744934400-1745020799@norfolkcountryclub.com
SUMMARY:CLUBHOUSE CLOSED
DESCRIPTION:Clubhouse closed for the season. \nSee you in 2025 \n 
URL:https://norfolkcountryclub.com/event1/clubhouse-closed-7/2025-04-18/
CATEGORIES:Social
END:VEVENT
BEGIN:VEVENT
DTSTART;VALUE=DATE:20250419
DTEND;VALUE=DATE:20250420
DTSTAMP:20260421T223814
CREATED:20240430T175150Z
LAST-MODIFIED:20240430T175254Z
UID:10013351-1745020800-1745107199@norfolkcountryclub.com
SUMMARY:CLUBHOUSE CLOSED
DESCRIPTION:Clubhouse closed for the season. \nSee you in 2025 \n 
URL:https://norfolkcountryclub.com/event1/clubhouse-closed-7/2025-04-19/
CATEGORIES:Social
END:VEVENT
BEGIN:VEVENT
DTSTART;VALUE=DATE:20250420
DTEND;VALUE=DATE:20250421
DTSTAMP:20260421T223814
CREATED:20240430T175150Z
LAST-MODIFIED:20240430T175254Z
UID:10013352-1745107200-1745193599@norfolkcountryclub.com
SUMMARY:CLUBHOUSE CLOSED
DESCRIPTION:Clubhouse closed for the season. \nSee you in 2025 \n 
URL:https://norfolkcountryclub.com/event1/clubhouse-closed-7/2025-04-20/
CATEGORIES:Social
END:VEVENT
BEGIN:VEVENT
DTSTART;VALUE=DATE:20250421
DTEND;VALUE=DATE:20250422
DTSTAMP:20260421T223814
CREATED:20240430T175150Z
LAST-MODIFIED:20240430T175254Z
UID:10013353-1745193600-1745279999@norfolkcountryclub.com
SUMMARY:CLUBHOUSE CLOSED
DESCRIPTION:Clubhouse closed for the season. \nSee you in 2025 \n 
URL:https://norfolkcountryclub.com/event1/clubhouse-closed-7/2025-04-21/
CATEGORIES:Social
END:VEVENT
BEGIN:VEVENT
DTSTART;VALUE=DATE:20250422
DTEND;VALUE=DATE:20250423
DTSTAMP:20260421T223814
CREATED:20240430T175150Z
LAST-MODIFIED:20240430T175254Z
UID:10013354-1745280000-1745366399@norfolkcountryclub.com
SUMMARY:CLUBHOUSE CLOSED
DESCRIPTION:Clubhouse closed for the season. \nSee you in 2025 \n 
URL:https://norfolkcountryclub.com/event1/clubhouse-closed-7/2025-04-22/
CATEGORIES:Social
END:VEVENT
BEGIN:VEVENT
DTSTART;VALUE=DATE:20250423
DTEND;VALUE=DATE:20250424
DTSTAMP:20260421T223814
CREATED:20240430T175150Z
LAST-MODIFIED:20240430T175254Z
UID:10013355-1745366400-1745452799@norfolkcountryclub.com
SUMMARY:CLUBHOUSE CLOSED
DESCRIPTION:Clubhouse closed for the season. \nSee you in 2025 \n 
URL:https://norfolkcountryclub.com/event1/clubhouse-closed-7/2025-04-23/
CATEGORIES:Social
END:VEVENT
BEGIN:VEVENT
DTSTART;VALUE=DATE:20250424
DTEND;VALUE=DATE:20250425
DTSTAMP:20260421T223814
CREATED:20240430T175150Z
LAST-MODIFIED:20240430T175254Z
UID:10013356-1745452800-1745539199@norfolkcountryclub.com
SUMMARY:CLUBHOUSE CLOSED
DESCRIPTION:Clubhouse closed for the season. \nSee you in 2025 \n 
URL:https://norfolkcountryclub.com/event1/clubhouse-closed-7/2025-04-24/
CATEGORIES:Social
END:VEVENT
BEGIN:VEVENT
DTSTART;VALUE=DATE:20250425
DTEND;VALUE=DATE:20250426
DTSTAMP:20260421T223814
CREATED:20240430T175150Z
LAST-MODIFIED:20240430T175254Z
UID:10013357-1745539200-1745625599@norfolkcountryclub.com
SUMMARY:CLUBHOUSE CLOSED
DESCRIPTION:Clubhouse closed for the season. \nSee you in 2025 \n 
URL:https://norfolkcountryclub.com/event1/clubhouse-closed-7/2025-04-25/
CATEGORIES:Social
END:VEVENT
BEGIN:VEVENT
DTSTART;VALUE=DATE:20250426
DTEND;VALUE=DATE:20250427
DTSTAMP:20260421T223814
CREATED:20240430T175150Z
LAST-MODIFIED:20240430T175254Z
UID:10013358-1745625600-1745711999@norfolkcountryclub.com
SUMMARY:CLUBHOUSE CLOSED
DESCRIPTION:Clubhouse closed for the season. \nSee you in 2025 \n 
URL:https://norfolkcountryclub.com/event1/clubhouse-closed-7/2025-04-26/
CATEGORIES:Social
END:VEVENT
END:VCALENDAR