BEGIN:VCALENDAR
VERSION:2.0
PRODID:-//Norfolk Country Club - ECPv6.15.16//NONSGML v1.0//EN
CALSCALE:GREGORIAN
METHOD:PUBLISH
X-ORIGINAL-URL:https://norfolkcountryclub.com
X-WR-CALDESC:Events for Norfolk Country Club
REFRESH-INTERVAL;VALUE=DURATION:PT1H
X-Robots-Tag:noindex
X-PUBLISHED-TTL:PT1H
BEGIN:VTIMEZONE
TZID:America/New_York
BEGIN:DAYLIGHT
TZOFFSETFROM:-0500
TZOFFSETTO:-0400
TZNAME:EDT
DTSTART:20230312T070000
END:DAYLIGHT
BEGIN:STANDARD
TZOFFSETFROM:-0400
TZOFFSETTO:-0500
TZNAME:EST
DTSTART:20231105T060000
END:STANDARD
BEGIN:DAYLIGHT
TZOFFSETFROM:-0500
TZOFFSETTO:-0400
TZNAME:EDT
DTSTART:20240310T070000
END:DAYLIGHT
BEGIN:STANDARD
TZOFFSETFROM:-0400
TZOFFSETTO:-0500
TZNAME:EST
DTSTART:20241103T060000
END:STANDARD
BEGIN:DAYLIGHT
TZOFFSETFROM:-0500
TZOFFSETTO:-0400
TZNAME:EDT
DTSTART:20250309T070000
END:DAYLIGHT
BEGIN:STANDARD
TZOFFSETFROM:-0400
TZOFFSETTO:-0500
TZNAME:EST
DTSTART:20251102T060000
END:STANDARD
END:VTIMEZONE
BEGIN:VEVENT
DTSTART;TZID=America/New_York:20240531T113000
DTEND;TZID=America/New_York:20240531T143000
DTSTAMP:20260422T184649
CREATED:20240430T173656Z
LAST-MODIFIED:20240507T014456Z
UID:10012135-1717155000-1717165800@norfolkcountryclub.com
SUMMARY:HOUSE / May Lunch Service
DESCRIPTION:Lunch service available \nPlease consult the weekly members email for the week’s menu.
URL:https://norfolkcountryclub.com/event1/house-may-lunch-service/2024-05-31/
CATEGORIES:Restaurant,Social
END:VEVENT
BEGIN:VEVENT
DTSTART;TZID=America/New_York:20240531T173000
DTEND;TZID=America/New_York:20240531T210000
DTSTAMP:20260422T184649
CREATED:20240430T172648Z
LAST-MODIFIED:20240430T173052Z
UID:10011986-1717176600-1717189200@norfolkcountryclub.com
SUMMARY:HOUSE / Weekend Dinner Service
DESCRIPTION:Dinner service available \nPlease consult the weekly members email for the week’s menu.
URL:https://norfolkcountryclub.com/event1/house-dinner-service-2/2024-05-31/
CATEGORIES:Restaurant,Social
END:VEVENT
BEGIN:VEVENT
DTSTART;TZID=America/New_York:20240601T113000
DTEND;TZID=America/New_York:20240601T143000
DTSTAMP:20260422T184649
CREATED:20240430T174032Z
LAST-MODIFIED:20240430T174749Z
UID:10012142-1717241400-1717252200@norfolkcountryclub.com
SUMMARY:HOUSE / Lunch Service
DESCRIPTION:Lunch service available \nPlease consult the weekly members email for the week’s menu.
URL:https://norfolkcountryclub.com/event1/house-lunch-service-6/2024-06-01/
CATEGORIES:Restaurant,Social
END:VEVENT
BEGIN:VEVENT
DTSTART;TZID=America/New_York:20240601T173000
DTEND;TZID=America/New_York:20240601T210000
DTSTAMP:20260422T184649
CREATED:20240430T172648Z
LAST-MODIFIED:20240430T173052Z
UID:10012007-1717263000-1717275600@norfolkcountryclub.com
SUMMARY:HOUSE / Weekend Dinner Service
DESCRIPTION:Dinner service available \nPlease consult the weekly members email for the week’s menu.
URL:https://norfolkcountryclub.com/event1/house-dinner-service-2/2024-06-01/
CATEGORIES:Restaurant,Social
END:VEVENT
BEGIN:VEVENT
DTSTART;TZID=America/New_York:20240602T113000
DTEND;TZID=America/New_York:20240602T143000
DTSTAMP:20260422T184649
CREATED:20240430T174032Z
LAST-MODIFIED:20240430T174749Z
UID:10012143-1717327800-1717338600@norfolkcountryclub.com
SUMMARY:HOUSE / Lunch Service
DESCRIPTION:Lunch service available \nPlease consult the weekly members email for the week’s menu.
URL:https://norfolkcountryclub.com/event1/house-lunch-service-6/2024-06-02/
CATEGORIES:Restaurant,Social
END:VEVENT
BEGIN:VEVENT
DTSTART;TZID=America/New_York:20240604T113000
DTEND;TZID=America/New_York:20240604T143000
DTSTAMP:20260422T184649
CREATED:20240430T174032Z
LAST-MODIFIED:20240430T174749Z
UID:10012144-1717500600-1717511400@norfolkcountryclub.com
SUMMARY:HOUSE / Lunch Service
DESCRIPTION:Lunch service available \nPlease consult the weekly members email for the week’s menu.
URL:https://norfolkcountryclub.com/event1/house-lunch-service-6/2024-06-04/
CATEGORIES:Restaurant,Social
END:VEVENT
BEGIN:VEVENT
DTSTART;TZID=America/New_York:20240604T180000
DTEND;TZID=America/New_York:20240604T200000
DTSTAMP:20260422T184649
CREATED:20240501T010758Z
LAST-MODIFIED:20240501T010811Z
UID:10013509-1717524000-1717531200@norfolkcountryclub.com
SUMMARY:HOUSE / Buffet Dinner Service
DESCRIPTION:Dinner is open to all club members\, not just bridge players. \nPlease make your reservations by Tuesday at noon.
URL:https://norfolkcountryclub.com/event1/house-buffet-dinner-service/2024-06-04/
CATEGORIES:Bridge,Restaurant,Social
END:VEVENT
BEGIN:VEVENT
DTSTART;TZID=America/New_York:20240604T190000
DTEND;TZID=America/New_York:20240604T190000
DTSTAMP:20260422T184649
CREATED:20240311T182049Z
LAST-MODIFIED:20240311T182049Z
UID:10009580-1717527600-1717527600@norfolkcountryclub.com
SUMMARY:HOUSE / BRIDGE
DESCRIPTION:Games begin promptly at 7:00 pm and everyone is encouraged to come to the dinner buffet at 6:00pm. \nGuests: Guests are welcome to attend with a sponsoring member and may play unlimited games throughout the season. \nThe guest fee for just bridge play is $10.00 (chit basis) per evening.
URL:https://norfolkcountryclub.com/event1/house-bridge/2024-06-04/
CATEGORIES:Bridge,Social
END:VEVENT
BEGIN:VEVENT
DTSTART;TZID=America/New_York:20240605T113000
DTEND;TZID=America/New_York:20240605T143000
DTSTAMP:20260422T184649
CREATED:20240430T174032Z
LAST-MODIFIED:20240430T174749Z
UID:10012145-1717587000-1717597800@norfolkcountryclub.com
SUMMARY:HOUSE / Lunch Service
DESCRIPTION:Lunch service available \nPlease consult the weekly members email for the week’s menu.
URL:https://norfolkcountryclub.com/event1/house-lunch-service-6/2024-06-05/
CATEGORIES:Restaurant,Social
END:VEVENT
BEGIN:VEVENT
DTSTART;TZID=America/New_York:20240605T173000
DTEND;TZID=America/New_York:20240605T203000
DTSTAMP:20260422T184649
CREATED:20240430T172858Z
LAST-MODIFIED:20240430T173113Z
UID:10012041-1717608600-1717619400@norfolkcountryclub.com
SUMMARY:HOUSE / Wednesday Dinner Service
DESCRIPTION:Dinner service available \nPlease consult the weekly members email for the week’s menu.
URL:https://norfolkcountryclub.com/event1/house-wednesday-dinner-service/2024-06-05/
CATEGORIES:Restaurant,Social
END:VEVENT
BEGIN:VEVENT
DTSTART;TZID=America/New_York:20240606T113000
DTEND;TZID=America/New_York:20240606T143000
DTSTAMP:20260422T184649
CREATED:20240430T174032Z
LAST-MODIFIED:20240430T174749Z
UID:10012146-1717673400-1717684200@norfolkcountryclub.com
SUMMARY:HOUSE / Lunch Service
DESCRIPTION:Lunch service available \nPlease consult the weekly members email for the week’s menu.
URL:https://norfolkcountryclub.com/event1/house-lunch-service-6/2024-06-06/
CATEGORIES:Restaurant,Social
END:VEVENT
BEGIN:VEVENT
DTSTART;TZID=America/New_York:20240607T113000
DTEND;TZID=America/New_York:20240607T143000
DTSTAMP:20260422T184649
CREATED:20240430T174032Z
LAST-MODIFIED:20240430T174749Z
UID:10012147-1717759800-1717770600@norfolkcountryclub.com
SUMMARY:HOUSE / Lunch Service
DESCRIPTION:Lunch service available \nPlease consult the weekly members email for the week’s menu.
URL:https://norfolkcountryclub.com/event1/house-lunch-service-6/2024-06-07/
CATEGORIES:Restaurant,Social
END:VEVENT
BEGIN:VEVENT
DTSTART;TZID=America/New_York:20240607T160000
DTEND;TZID=America/New_York:20240607T180000
DTSTAMP:20260422T184649
CREATED:20240501T010911Z
LAST-MODIFIED:20240501T010919Z
UID:10013535-1717776000-1717783200@norfolkcountryclub.com
SUMMARY:HOUSE / Barroom Bridge (members only)
DESCRIPTION:Barroom Bridge is Members only play.
URL:https://norfolkcountryclub.com/event1/house-barroom-bridge-members-only/2024-06-07/
CATEGORIES:Bridge,Social
END:VEVENT
BEGIN:VEVENT
DTSTART;TZID=America/New_York:20240607T173000
DTEND;TZID=America/New_York:20240607T210000
DTSTAMP:20260422T184649
CREATED:20240430T172648Z
LAST-MODIFIED:20240430T173052Z
UID:10011987-1717781400-1717794000@norfolkcountryclub.com
SUMMARY:HOUSE / Weekend Dinner Service
DESCRIPTION:Dinner service available \nPlease consult the weekly members email for the week’s menu.
URL:https://norfolkcountryclub.com/event1/house-dinner-service-2/2024-06-07/
CATEGORIES:Restaurant,Social
END:VEVENT
BEGIN:VEVENT
DTSTART;TZID=America/New_York:20240608T173000
DTEND;TZID=America/New_York:20240608T210000
DTSTAMP:20260422T184649
CREATED:20240430T172648Z
LAST-MODIFIED:20240430T173052Z
UID:10012008-1717867800-1717880400@norfolkcountryclub.com
SUMMARY:HOUSE / Weekend Dinner Service
DESCRIPTION:Dinner service available \nPlease consult the weekly members email for the week’s menu.
URL:https://norfolkcountryclub.com/event1/house-dinner-service-2/2024-06-08/
CATEGORIES:Restaurant,Social
END:VEVENT
BEGIN:VEVENT
DTSTART;TZID=America/New_York:20240608T180000
DTEND;TZID=America/New_York:20240608T200000
DTSTAMP:20260422T184649
CREATED:20240311T181023Z
LAST-MODIFIED:20240311T181023Z
UID:10009563-1717869600-1717876800@norfolkcountryclub.com
SUMMARY:HOUSE / Belmont Stakes
DESCRIPTION:Belmont Stakes Celebration \nDrink and food specials. \npm cocktails. \n7ish(tbd) post time.
URL:https://norfolkcountryclub.com/event1/house-belmont-stakes/
CATEGORIES:Social
END:VEVENT
BEGIN:VEVENT
DTSTART;TZID=America/New_York:20240609T113000
DTEND;TZID=America/New_York:20240609T143000
DTSTAMP:20260422T184649
CREATED:20240430T174032Z
LAST-MODIFIED:20240430T174749Z
UID:10012148-1717932600-1717943400@norfolkcountryclub.com
SUMMARY:HOUSE / Lunch Service
DESCRIPTION:Lunch service available \nPlease consult the weekly members email for the week’s menu.
URL:https://norfolkcountryclub.com/event1/house-lunch-service-6/2024-06-09/
CATEGORIES:Restaurant,Social
END:VEVENT
BEGIN:VEVENT
DTSTART;TZID=America/New_York:20240611T113000
DTEND;TZID=America/New_York:20240611T143000
DTSTAMP:20260422T184649
CREATED:20240430T174032Z
LAST-MODIFIED:20240430T174749Z
UID:10012149-1718105400-1718116200@norfolkcountryclub.com
SUMMARY:HOUSE / Lunch Service
DESCRIPTION:Lunch service available \nPlease consult the weekly members email for the week’s menu.
URL:https://norfolkcountryclub.com/event1/house-lunch-service-6/2024-06-11/
CATEGORIES:Restaurant,Social
END:VEVENT
BEGIN:VEVENT
DTSTART;TZID=America/New_York:20240611T180000
DTEND;TZID=America/New_York:20240611T200000
DTSTAMP:20260422T184649
CREATED:20240501T010758Z
LAST-MODIFIED:20240501T010811Z
UID:10013510-1718128800-1718136000@norfolkcountryclub.com
SUMMARY:HOUSE / Buffet Dinner Service
DESCRIPTION:Dinner is open to all club members\, not just bridge players. \nPlease make your reservations by Tuesday at noon.
URL:https://norfolkcountryclub.com/event1/house-buffet-dinner-service/2024-06-11/
CATEGORIES:Bridge,Restaurant,Social
END:VEVENT
BEGIN:VEVENT
DTSTART;TZID=America/New_York:20240611T190000
DTEND;TZID=America/New_York:20240611T190000
DTSTAMP:20260422T184649
CREATED:20240311T182049Z
LAST-MODIFIED:20240311T182049Z
UID:10009581-1718132400-1718132400@norfolkcountryclub.com
SUMMARY:HOUSE / BRIDGE
DESCRIPTION:Games begin promptly at 7:00 pm and everyone is encouraged to come to the dinner buffet at 6:00pm. \nGuests: Guests are welcome to attend with a sponsoring member and may play unlimited games throughout the season. \nThe guest fee for just bridge play is $10.00 (chit basis) per evening.
URL:https://norfolkcountryclub.com/event1/house-bridge/2024-06-11/
CATEGORIES:Bridge,Social
END:VEVENT
BEGIN:VEVENT
DTSTART;TZID=America/New_York:20240612T113000
DTEND;TZID=America/New_York:20240612T143000
DTSTAMP:20260422T184649
CREATED:20240430T174032Z
LAST-MODIFIED:20240430T174749Z
UID:10012150-1718191800-1718202600@norfolkcountryclub.com
SUMMARY:HOUSE / Lunch Service
DESCRIPTION:Lunch service available \nPlease consult the weekly members email for the week’s menu.
URL:https://norfolkcountryclub.com/event1/house-lunch-service-6/2024-06-12/
CATEGORIES:Restaurant,Social
END:VEVENT
BEGIN:VEVENT
DTSTART;TZID=America/New_York:20240612T173000
DTEND;TZID=America/New_York:20240612T203000
DTSTAMP:20260422T184649
CREATED:20240430T172858Z
LAST-MODIFIED:20240430T173113Z
UID:10012042-1718213400-1718224200@norfolkcountryclub.com
SUMMARY:HOUSE / Wednesday Dinner Service
DESCRIPTION:Dinner service available \nPlease consult the weekly members email for the week’s menu.
URL:https://norfolkcountryclub.com/event1/house-wednesday-dinner-service/2024-06-12/
CATEGORIES:Restaurant,Social
END:VEVENT
BEGIN:VEVENT
DTSTART;TZID=America/New_York:20240613T113000
DTEND;TZID=America/New_York:20240613T143000
DTSTAMP:20260422T184649
CREATED:20240430T174032Z
LAST-MODIFIED:20240430T174749Z
UID:10012151-1718278200-1718289000@norfolkcountryclub.com
SUMMARY:HOUSE / Lunch Service
DESCRIPTION:Lunch service available \nPlease consult the weekly members email for the week’s menu.
URL:https://norfolkcountryclub.com/event1/house-lunch-service-6/2024-06-13/
CATEGORIES:Restaurant,Social
END:VEVENT
BEGIN:VEVENT
DTSTART;TZID=America/New_York:20240614T113000
DTEND;TZID=America/New_York:20240614T143000
DTSTAMP:20260422T184649
CREATED:20240430T174032Z
LAST-MODIFIED:20240430T174749Z
UID:10012152-1718364600-1718375400@norfolkcountryclub.com
SUMMARY:HOUSE / Lunch Service
DESCRIPTION:Lunch service available \nPlease consult the weekly members email for the week’s menu.
URL:https://norfolkcountryclub.com/event1/house-lunch-service-6/2024-06-14/
CATEGORIES:Restaurant,Social
END:VEVENT
BEGIN:VEVENT
DTSTART;TZID=America/New_York:20240614T160000
DTEND;TZID=America/New_York:20240614T180000
DTSTAMP:20260422T184649
CREATED:20240501T010911Z
LAST-MODIFIED:20240501T010919Z
UID:10013536-1718380800-1718388000@norfolkcountryclub.com
SUMMARY:HOUSE / Barroom Bridge (members only)
DESCRIPTION:Barroom Bridge is Members only play.
URL:https://norfolkcountryclub.com/event1/house-barroom-bridge-members-only/2024-06-14/
CATEGORIES:Bridge,Social
END:VEVENT
BEGIN:VEVENT
DTSTART;TZID=America/New_York:20240614T173000
DTEND;TZID=America/New_York:20240614T210000
DTSTAMP:20260422T184649
CREATED:20240430T172648Z
LAST-MODIFIED:20240430T173052Z
UID:10011988-1718386200-1718398800@norfolkcountryclub.com
SUMMARY:HOUSE / Weekend Dinner Service
DESCRIPTION:Dinner service available \nPlease consult the weekly members email for the week’s menu.
URL:https://norfolkcountryclub.com/event1/house-dinner-service-2/2024-06-14/
CATEGORIES:Restaurant,Social
END:VEVENT
BEGIN:VEVENT
DTSTART;TZID=America/New_York:20240615T150000
DTEND;TZID=America/New_York:20240615T150000
DTSTAMP:20260422T184649
CREATED:20240311T181243Z
LAST-MODIFIED:20240430T164513Z
UID:10011447-1718463600-1718463600@norfolkcountryclub.com
SUMMARY:CLUBHOUSE CLOSED at 3:00pm - Private Event
DESCRIPTION:No Clubhouse Access \nNo Dinner Service
URL:https://norfolkcountryclub.com/event1/clubhouse-closed-at-400pm-private-event/
CATEGORIES:Social
END:VEVENT
BEGIN:VEVENT
DTSTART;TZID=America/New_York:20240616T113000
DTEND;TZID=America/New_York:20240616T143000
DTSTAMP:20260422T184649
CREATED:20240430T174032Z
LAST-MODIFIED:20240430T174749Z
UID:10012153-1718537400-1718548200@norfolkcountryclub.com
SUMMARY:HOUSE / Lunch Service
DESCRIPTION:Lunch service available \nPlease consult the weekly members email for the week’s menu.
URL:https://norfolkcountryclub.com/event1/house-lunch-service-6/2024-06-16/
CATEGORIES:Restaurant,Social
END:VEVENT
BEGIN:VEVENT
DTSTART;TZID=America/New_York:20240616T120000
DTEND;TZID=America/New_York:20240616T143000
DTSTAMP:20260422T184649
CREATED:20240311T181405Z
LAST-MODIFIED:20240311T181617Z
UID:10009564-1718539200-1718548200@norfolkcountryclub.com
SUMMARY:HOUSE / Father's Day Brunch Buffet
DESCRIPTION:Father’s Day brunch buffet. 12pm-2:30
URL:https://norfolkcountryclub.com/event1/house-fathers-day-brunch-buffet/
CATEGORIES:Social
END:VEVENT
BEGIN:VEVENT
DTSTART;TZID=America/New_York:20240618T113000
DTEND;TZID=America/New_York:20240618T143000
DTSTAMP:20260422T184649
CREATED:20240430T174032Z
LAST-MODIFIED:20240430T174749Z
UID:10012154-1718710200-1718721000@norfolkcountryclub.com
SUMMARY:HOUSE / Lunch Service
DESCRIPTION:Lunch service available \nPlease consult the weekly members email for the week’s menu.
URL:https://norfolkcountryclub.com/event1/house-lunch-service-6/2024-06-18/
CATEGORIES:Restaurant,Social
END:VEVENT
END:VCALENDAR