BEGIN:VCALENDAR
VERSION:2.0
PRODID:-//Norfolk Country Club - ECPv6.15.16//NONSGML v1.0//EN
CALSCALE:GREGORIAN
METHOD:PUBLISH
X-ORIGINAL-URL:https://norfolkcountryclub.com
X-WR-CALDESC:Events for Norfolk Country Club
REFRESH-INTERVAL;VALUE=DURATION:PT1H
X-Robots-Tag:noindex
X-PUBLISHED-TTL:PT1H
BEGIN:VTIMEZONE
TZID:America/New_York
BEGIN:DAYLIGHT
TZOFFSETFROM:-0500
TZOFFSETTO:-0400
TZNAME:EDT
DTSTART:20230312T070000
END:DAYLIGHT
BEGIN:STANDARD
TZOFFSETFROM:-0400
TZOFFSETTO:-0500
TZNAME:EST
DTSTART:20231105T060000
END:STANDARD
BEGIN:DAYLIGHT
TZOFFSETFROM:-0500
TZOFFSETTO:-0400
TZNAME:EDT
DTSTART:20240310T070000
END:DAYLIGHT
BEGIN:STANDARD
TZOFFSETFROM:-0400
TZOFFSETTO:-0500
TZNAME:EST
DTSTART:20241103T060000
END:STANDARD
BEGIN:DAYLIGHT
TZOFFSETFROM:-0500
TZOFFSETTO:-0400
TZNAME:EDT
DTSTART:20250309T070000
END:DAYLIGHT
BEGIN:STANDARD
TZOFFSETFROM:-0400
TZOFFSETTO:-0500
TZNAME:EST
DTSTART:20251102T060000
END:STANDARD
END:VTIMEZONE
BEGIN:VTIMEZONE
TZID:UTC
BEGIN:STANDARD
TZOFFSETFROM:+0000
TZOFFSETTO:+0000
TZNAME:UTC
DTSTART:20230101T000000
END:STANDARD
END:VTIMEZONE
BEGIN:VEVENT
DTSTART;VALUE=DATE:20240515
DTEND;VALUE=DATE:20240516
DTSTAMP:20260422T182638
CREATED:20240430T164758Z
LAST-MODIFIED:20240507T014650Z
UID:10011463-1715731200-1715817599@norfolkcountryclub.com
SUMMARY:CLUBHOUSE CLOSED
DESCRIPTION:No Clubhouse Access \n 
URL:https://norfolkcountryclub.com/event1/clubhouse-closed-6/2024-05-15/
CATEGORIES:Social
END:VEVENT
BEGIN:VEVENT
DTSTART;VALUE=DATE:20240516
DTEND;VALUE=DATE:20240517
DTSTAMP:20260422T182638
CREATED:20240430T164758Z
LAST-MODIFIED:20240507T014650Z
UID:10011464-1715817600-1715903999@norfolkcountryclub.com
SUMMARY:CLUBHOUSE CLOSED
DESCRIPTION:No Clubhouse Access \n 
URL:https://norfolkcountryclub.com/event1/clubhouse-closed-6/2024-05-16/
CATEGORIES:Social
END:VEVENT
BEGIN:VEVENT
DTSTART;TZID=America/New_York:20240517T000000
DTEND;TZID=America/New_York:20240517T000000
DTSTAMP:20260422T182638
CREATED:20240430T165015Z
LAST-MODIFIED:20240430T165031Z
UID:10011836-1715904000-1715904000@norfolkcountryclub.com
SUMMARY:Clubhouse Opens
DESCRIPTION:Dinner Service 5-9 pm
URL:https://norfolkcountryclub.com/event1/clubhouse-opens/
CATEGORIES:Social
END:VEVENT
BEGIN:VEVENT
DTSTART;TZID=America/New_York:20240517T173000
DTEND;TZID=America/New_York:20240517T210000
DTSTAMP:20260422T182638
CREATED:20240430T172648Z
LAST-MODIFIED:20240430T173052Z
UID:10012004-1715967000-1715979600@norfolkcountryclub.com
SUMMARY:HOUSE / Weekend Dinner Service
DESCRIPTION:Dinner service available \nPlease consult the weekly members email for the week’s menu.
URL:https://norfolkcountryclub.com/event1/house-dinner-service-2/2024-05-17/
CATEGORIES:Restaurant,Social
END:VEVENT
BEGIN:VEVENT
DTSTART;TZID=America/New_York:20240518T113000
DTEND;TZID=America/New_York:20240518T143000
DTSTAMP:20260422T182638
CREATED:20240430T173656Z
LAST-MODIFIED:20240507T014456Z
UID:10012130-1716031800-1716042600@norfolkcountryclub.com
SUMMARY:HOUSE / May Lunch Service
DESCRIPTION:Lunch service available \nPlease consult the weekly members email for the week’s menu.
URL:https://norfolkcountryclub.com/event1/house-may-lunch-service/2024-05-18/
CATEGORIES:Restaurant,Social
END:VEVENT
BEGIN:VEVENT
DTSTART;TZID=America/New_York:20240518T173000
DTEND;TZID=America/New_York:20240518T210000
DTSTAMP:20260422T182638
CREATED:20240430T172648Z
LAST-MODIFIED:20240430T173052Z
UID:10012005-1716053400-1716066000@norfolkcountryclub.com
SUMMARY:HOUSE / Weekend Dinner Service
DESCRIPTION:Dinner service available \nPlease consult the weekly members email for the week’s menu.
URL:https://norfolkcountryclub.com/event1/house-dinner-service-2/2024-05-18/
CATEGORIES:Restaurant,Social
END:VEVENT
BEGIN:VEVENT
DTSTART;TZID=America/New_York:20240519T113000
DTEND;TZID=America/New_York:20240519T143000
DTSTAMP:20260422T182638
CREATED:20240430T173656Z
LAST-MODIFIED:20240507T014456Z
UID:10013548-1716118200-1716129000@norfolkcountryclub.com
SUMMARY:HOUSE / May Lunch Service
DESCRIPTION:Lunch service available \nPlease consult the weekly members email for the week’s menu.
URL:https://norfolkcountryclub.com/event1/house-may-lunch-service/2024-05-19/
CATEGORIES:Restaurant,Social
END:VEVENT
BEGIN:VEVENT
DTSTART;VALUE=DATE:20240521
DTEND;VALUE=DATE:20240522
DTSTAMP:20260422T182638
CREATED:20240430T164758Z
LAST-MODIFIED:20240507T014650Z
UID:10011467-1716249600-1716335999@norfolkcountryclub.com
SUMMARY:CLUBHOUSE CLOSED
DESCRIPTION:No Clubhouse Access \n 
URL:https://norfolkcountryclub.com/event1/clubhouse-closed-6/2024-05-21/
CATEGORIES:Social
END:VEVENT
BEGIN:VEVENT
DTSTART;TZID=America/New_York:20240522T113000
DTEND;TZID=America/New_York:20240522T143000
DTSTAMP:20260422T182638
CREATED:20240430T173656Z
LAST-MODIFIED:20240507T014456Z
UID:10012131-1716377400-1716388200@norfolkcountryclub.com
SUMMARY:HOUSE / May Lunch Service
DESCRIPTION:Lunch service available \nPlease consult the weekly members email for the week’s menu.
URL:https://norfolkcountryclub.com/event1/house-may-lunch-service/2024-05-22/
CATEGORIES:Restaurant,Social
END:VEVENT
BEGIN:VEVENT
DTSTART;TZID=America/New_York:20240522T173000
DTEND;TZID=America/New_York:20240522T203000
DTSTAMP:20260422T182638
CREATED:20240430T172858Z
LAST-MODIFIED:20240430T173113Z
UID:10012039-1716399000-1716409800@norfolkcountryclub.com
SUMMARY:HOUSE / Wednesday Dinner Service
DESCRIPTION:Dinner service available \nPlease consult the weekly members email for the week’s menu.
URL:https://norfolkcountryclub.com/event1/house-wednesday-dinner-service/2024-05-22/
CATEGORIES:Restaurant,Social
END:VEVENT
BEGIN:VEVENT
DTSTART;VALUE=DATE:20240523
DTEND;VALUE=DATE:20240524
DTSTAMP:20260422T182638
CREATED:20240430T164758Z
LAST-MODIFIED:20240507T014650Z
UID:10011468-1716422400-1716508799@norfolkcountryclub.com
SUMMARY:CLUBHOUSE CLOSED
DESCRIPTION:No Clubhouse Access \n 
URL:https://norfolkcountryclub.com/event1/clubhouse-closed-6/2024-05-23/
CATEGORIES:Social
END:VEVENT
BEGIN:VEVENT
DTSTART;TZID=America/New_York:20240524T113000
DTEND;TZID=America/New_York:20240524T143000
DTSTAMP:20260422T182638
CREATED:20240430T173656Z
LAST-MODIFIED:20240507T014456Z
UID:10012132-1716550200-1716561000@norfolkcountryclub.com
SUMMARY:HOUSE / May Lunch Service
DESCRIPTION:Lunch service available \nPlease consult the weekly members email for the week’s menu.
URL:https://norfolkcountryclub.com/event1/house-may-lunch-service/2024-05-24/
CATEGORIES:Restaurant,Social
END:VEVENT
BEGIN:VEVENT
DTSTART;TZID=America/New_York:20240524T173000
DTEND;TZID=America/New_York:20240524T210000
DTSTAMP:20260422T182638
CREATED:20240430T172648Z
LAST-MODIFIED:20240430T173052Z
UID:10012006-1716571800-1716584400@norfolkcountryclub.com
SUMMARY:HOUSE / Weekend Dinner Service
DESCRIPTION:Dinner service available \nPlease consult the weekly members email for the week’s menu.
URL:https://norfolkcountryclub.com/event1/house-dinner-service-2/2024-05-24/
CATEGORIES:Restaurant,Social
END:VEVENT
BEGIN:VEVENT
DTSTART;TZID=UTC:20240525T183000
DTEND;TZID=UTC:20240525T220000
DTSTAMP:20260422T182638
CREATED:20240311T175043Z
LAST-MODIFIED:20240430T152010Z
UID:10009483-1716661800-1716674400@norfolkcountryclub.com
SUMMARY:HOUSE / Opening Steak Dinner
DESCRIPTION:Opening Steak Dinner \n6:30pm cocktails \n7:30pm dinner
URL:https://norfolkcountryclub.com/event1/house-opening-steak-dinner/
CATEGORIES:Social
END:VEVENT
BEGIN:VEVENT
DTSTART;TZID=America/New_York:20240526T113000
DTEND;TZID=America/New_York:20240526T143000
DTSTAMP:20260422T182638
CREATED:20240430T173656Z
LAST-MODIFIED:20240507T014456Z
UID:10012133-1716723000-1716733800@norfolkcountryclub.com
SUMMARY:HOUSE / May Lunch Service
DESCRIPTION:Lunch service available \nPlease consult the weekly members email for the week’s menu.
URL:https://norfolkcountryclub.com/event1/house-may-lunch-service/2024-05-26/
CATEGORIES:Restaurant,Social
END:VEVENT
BEGIN:VEVENT
DTSTART;TZID=America/New_York:20240527T110000
DTEND;TZID=America/New_York:20240527T120000
DTSTAMP:20260422T182638
CREATED:20240311T180737Z
LAST-MODIFIED:20240311T184300Z
UID:10009562-1716807600-1716811200@norfolkcountryclub.com
SUMMARY:HOUSE / Member Meeting & Information Session
DESCRIPTION:Meeting 11:00 \nBrunch Buffet 11:45 – 2 \nBar open until 3
URL:https://norfolkcountryclub.com/event1/house-member-meeting-information-session/
CATEGORIES:Social
END:VEVENT
BEGIN:VEVENT
DTSTART;TZID=America/New_York:20240527T114500
DTEND;TZID=America/New_York:20240527T143000
DTSTAMP:20260422T182638
CREATED:20240430T180043Z
LAST-MODIFIED:20240430T180043Z
UID:10013417-1716810300-1716820200@norfolkcountryclub.com
SUMMARY:HOUSE / Lunch Buffet
DESCRIPTION:Lunch Buffet service available after Annual Spring Members Meeting \nPlease consult the weekly members email for the week’s menu.
URL:https://norfolkcountryclub.com/event1/house-lunch-buffet/
CATEGORIES:Restaurant,Social
END:VEVENT
BEGIN:VEVENT
DTSTART;VALUE=DATE:20240528
DTEND;VALUE=DATE:20240529
DTSTAMP:20260422T182638
CREATED:20240430T164758Z
LAST-MODIFIED:20240507T014650Z
UID:10011469-1716854400-1716940799@norfolkcountryclub.com
SUMMARY:CLUBHOUSE CLOSED
DESCRIPTION:No Clubhouse Access \n 
URL:https://norfolkcountryclub.com/event1/clubhouse-closed-6/2024-05-28/
CATEGORIES:Social
END:VEVENT
BEGIN:VEVENT
DTSTART;TZID=America/New_York:20240529T113000
DTEND;TZID=America/New_York:20240529T143000
DTSTAMP:20260422T182638
CREATED:20240430T173656Z
LAST-MODIFIED:20240507T014456Z
UID:10012134-1716982200-1716993000@norfolkcountryclub.com
SUMMARY:HOUSE / May Lunch Service
DESCRIPTION:Lunch service available \nPlease consult the weekly members email for the week’s menu.
URL:https://norfolkcountryclub.com/event1/house-may-lunch-service/2024-05-29/
CATEGORIES:Restaurant,Social
END:VEVENT
BEGIN:VEVENT
DTSTART;TZID=America/New_York:20240529T173000
DTEND;TZID=America/New_York:20240529T203000
DTSTAMP:20260422T182638
CREATED:20240430T172858Z
LAST-MODIFIED:20240430T173113Z
UID:10012040-1717003800-1717014600@norfolkcountryclub.com
SUMMARY:HOUSE / Wednesday Dinner Service
DESCRIPTION:Dinner service available \nPlease consult the weekly members email for the week’s menu.
URL:https://norfolkcountryclub.com/event1/house-wednesday-dinner-service/2024-05-29/
CATEGORIES:Restaurant,Social
END:VEVENT
BEGIN:VEVENT
DTSTART;VALUE=DATE:20240530
DTEND;VALUE=DATE:20240531
DTSTAMP:20260422T182638
CREATED:20240430T164758Z
LAST-MODIFIED:20240507T014650Z
UID:10011470-1717027200-1717113599@norfolkcountryclub.com
SUMMARY:CLUBHOUSE CLOSED
DESCRIPTION:No Clubhouse Access \n 
URL:https://norfolkcountryclub.com/event1/clubhouse-closed-6/2024-05-30/
CATEGORIES:Social
END:VEVENT
BEGIN:VEVENT
DTSTART;TZID=America/New_York:20240531T113000
DTEND;TZID=America/New_York:20240531T143000
DTSTAMP:20260422T182638
CREATED:20240430T173656Z
LAST-MODIFIED:20240507T014456Z
UID:10012135-1717155000-1717165800@norfolkcountryclub.com
SUMMARY:HOUSE / May Lunch Service
DESCRIPTION:Lunch service available \nPlease consult the weekly members email for the week’s menu.
URL:https://norfolkcountryclub.com/event1/house-may-lunch-service/2024-05-31/
CATEGORIES:Restaurant,Social
END:VEVENT
BEGIN:VEVENT
DTSTART;TZID=America/New_York:20240531T173000
DTEND;TZID=America/New_York:20240531T210000
DTSTAMP:20260422T182638
CREATED:20240430T172648Z
LAST-MODIFIED:20240430T173052Z
UID:10011986-1717176600-1717189200@norfolkcountryclub.com
SUMMARY:HOUSE / Weekend Dinner Service
DESCRIPTION:Dinner service available \nPlease consult the weekly members email for the week’s menu.
URL:https://norfolkcountryclub.com/event1/house-dinner-service-2/2024-05-31/
CATEGORIES:Restaurant,Social
END:VEVENT
BEGIN:VEVENT
DTSTART;TZID=America/New_York:20240601T113000
DTEND;TZID=America/New_York:20240601T143000
DTSTAMP:20260422T182638
CREATED:20240430T174032Z
LAST-MODIFIED:20240430T174749Z
UID:10012142-1717241400-1717252200@norfolkcountryclub.com
SUMMARY:HOUSE / Lunch Service
DESCRIPTION:Lunch service available \nPlease consult the weekly members email for the week’s menu.
URL:https://norfolkcountryclub.com/event1/house-lunch-service-6/2024-06-01/
CATEGORIES:Restaurant,Social
END:VEVENT
BEGIN:VEVENT
DTSTART;TZID=America/New_York:20240601T173000
DTEND;TZID=America/New_York:20240601T210000
DTSTAMP:20260422T182638
CREATED:20240430T172648Z
LAST-MODIFIED:20240430T173052Z
UID:10012007-1717263000-1717275600@norfolkcountryclub.com
SUMMARY:HOUSE / Weekend Dinner Service
DESCRIPTION:Dinner service available \nPlease consult the weekly members email for the week’s menu.
URL:https://norfolkcountryclub.com/event1/house-dinner-service-2/2024-06-01/
CATEGORIES:Restaurant,Social
END:VEVENT
BEGIN:VEVENT
DTSTART;TZID=America/New_York:20240602T113000
DTEND;TZID=America/New_York:20240602T143000
DTSTAMP:20260422T182638
CREATED:20240430T174032Z
LAST-MODIFIED:20240430T174749Z
UID:10012143-1717327800-1717338600@norfolkcountryclub.com
SUMMARY:HOUSE / Lunch Service
DESCRIPTION:Lunch service available \nPlease consult the weekly members email for the week’s menu.
URL:https://norfolkcountryclub.com/event1/house-lunch-service-6/2024-06-02/
CATEGORIES:Restaurant,Social
END:VEVENT
BEGIN:VEVENT
DTSTART;TZID=America/New_York:20240604T113000
DTEND;TZID=America/New_York:20240604T143000
DTSTAMP:20260422T182638
CREATED:20240430T174032Z
LAST-MODIFIED:20240430T174749Z
UID:10012144-1717500600-1717511400@norfolkcountryclub.com
SUMMARY:HOUSE / Lunch Service
DESCRIPTION:Lunch service available \nPlease consult the weekly members email for the week’s menu.
URL:https://norfolkcountryclub.com/event1/house-lunch-service-6/2024-06-04/
CATEGORIES:Restaurant,Social
END:VEVENT
BEGIN:VEVENT
DTSTART;TZID=America/New_York:20240604T180000
DTEND;TZID=America/New_York:20240604T200000
DTSTAMP:20260422T182638
CREATED:20240501T010758Z
LAST-MODIFIED:20240501T010811Z
UID:10013509-1717524000-1717531200@norfolkcountryclub.com
SUMMARY:HOUSE / Buffet Dinner Service
DESCRIPTION:Dinner is open to all club members\, not just bridge players. \nPlease make your reservations by Tuesday at noon.
URL:https://norfolkcountryclub.com/event1/house-buffet-dinner-service/2024-06-04/
CATEGORIES:Bridge,Restaurant,Social
END:VEVENT
BEGIN:VEVENT
DTSTART;TZID=America/New_York:20240604T190000
DTEND;TZID=America/New_York:20240604T190000
DTSTAMP:20260422T182638
CREATED:20240311T182049Z
LAST-MODIFIED:20240311T182049Z
UID:10009580-1717527600-1717527600@norfolkcountryclub.com
SUMMARY:HOUSE / BRIDGE
DESCRIPTION:Games begin promptly at 7:00 pm and everyone is encouraged to come to the dinner buffet at 6:00pm. \nGuests: Guests are welcome to attend with a sponsoring member and may play unlimited games throughout the season. \nThe guest fee for just bridge play is $10.00 (chit basis) per evening.
URL:https://norfolkcountryclub.com/event1/house-bridge/2024-06-04/
CATEGORIES:Bridge,Social
END:VEVENT
BEGIN:VEVENT
DTSTART;TZID=America/New_York:20240605T113000
DTEND;TZID=America/New_York:20240605T143000
DTSTAMP:20260422T182638
CREATED:20240430T174032Z
LAST-MODIFIED:20240430T174749Z
UID:10012145-1717587000-1717597800@norfolkcountryclub.com
SUMMARY:HOUSE / Lunch Service
DESCRIPTION:Lunch service available \nPlease consult the weekly members email for the week’s menu.
URL:https://norfolkcountryclub.com/event1/house-lunch-service-6/2024-06-05/
CATEGORIES:Restaurant,Social
END:VEVENT
END:VCALENDAR