BEGIN:VCALENDAR
VERSION:2.0
PRODID:-//Norfolk Country Club - ECPv6.15.16//NONSGML v1.0//EN
CALSCALE:GREGORIAN
METHOD:PUBLISH
X-WR-CALNAME:Norfolk Country Club
X-ORIGINAL-URL:https://norfolkcountryclub.com
X-WR-CALDESC:Events for Norfolk Country Club
REFRESH-INTERVAL;VALUE=DURATION:PT1H
X-Robots-Tag:noindex
X-PUBLISHED-TTL:PT1H
BEGIN:VTIMEZONE
TZID:America/New_York
BEGIN:DAYLIGHT
TZOFFSETFROM:-0500
TZOFFSETTO:-0400
TZNAME:EDT
DTSTART:20240310T070000
END:DAYLIGHT
BEGIN:STANDARD
TZOFFSETFROM:-0400
TZOFFSETTO:-0500
TZNAME:EST
DTSTART:20241103T060000
END:STANDARD
BEGIN:DAYLIGHT
TZOFFSETFROM:-0500
TZOFFSETTO:-0400
TZNAME:EDT
DTSTART:20250309T070000
END:DAYLIGHT
BEGIN:STANDARD
TZOFFSETFROM:-0400
TZOFFSETTO:-0500
TZNAME:EST
DTSTART:20251102T060000
END:STANDARD
BEGIN:DAYLIGHT
TZOFFSETFROM:-0500
TZOFFSETTO:-0400
TZNAME:EDT
DTSTART:20260308T070000
END:DAYLIGHT
BEGIN:STANDARD
TZOFFSETFROM:-0400
TZOFFSETTO:-0500
TZNAME:EST
DTSTART:20261101T060000
END:STANDARD
END:VTIMEZONE
BEGIN:VEVENT
DTSTART;VALUE=DATE:20250112
DTEND;VALUE=DATE:20250113
DTSTAMP:20260422T180538
CREATED:20240430T175150Z
LAST-MODIFIED:20240430T175254Z
UID:10013254-1736640000-1736726399@norfolkcountryclub.com
SUMMARY:CLUBHOUSE CLOSED
DESCRIPTION:Clubhouse closed for the season. \nSee you in 2025 \n 
URL:https://norfolkcountryclub.com/event1/clubhouse-closed-7/2025-01-12/
CATEGORIES:Social
END:VEVENT
BEGIN:VEVENT
DTSTART;VALUE=DATE:20250113
DTEND;VALUE=DATE:20250114
DTSTAMP:20260422T180538
CREATED:20240430T175150Z
LAST-MODIFIED:20240430T175254Z
UID:10013255-1736726400-1736812799@norfolkcountryclub.com
SUMMARY:CLUBHOUSE CLOSED
DESCRIPTION:Clubhouse closed for the season. \nSee you in 2025 \n 
URL:https://norfolkcountryclub.com/event1/clubhouse-closed-7/2025-01-13/
CATEGORIES:Social
END:VEVENT
BEGIN:VEVENT
DTSTART;VALUE=DATE:20250114
DTEND;VALUE=DATE:20250115
DTSTAMP:20260422T180538
CREATED:20240430T175150Z
LAST-MODIFIED:20240430T175254Z
UID:10013256-1736812800-1736899199@norfolkcountryclub.com
SUMMARY:CLUBHOUSE CLOSED
DESCRIPTION:Clubhouse closed for the season. \nSee you in 2025 \n 
URL:https://norfolkcountryclub.com/event1/clubhouse-closed-7/2025-01-14/
CATEGORIES:Social
END:VEVENT
BEGIN:VEVENT
DTSTART;VALUE=DATE:20250115
DTEND;VALUE=DATE:20250116
DTSTAMP:20260422T180538
CREATED:20240430T175150Z
LAST-MODIFIED:20240430T175254Z
UID:10013257-1736899200-1736985599@norfolkcountryclub.com
SUMMARY:CLUBHOUSE CLOSED
DESCRIPTION:Clubhouse closed for the season. \nSee you in 2025 \n 
URL:https://norfolkcountryclub.com/event1/clubhouse-closed-7/2025-01-15/
CATEGORIES:Social
END:VEVENT
BEGIN:VEVENT
DTSTART;VALUE=DATE:20250116
DTEND;VALUE=DATE:20250117
DTSTAMP:20260422T180538
CREATED:20240430T175150Z
LAST-MODIFIED:20240430T175254Z
UID:10013258-1736985600-1737071999@norfolkcountryclub.com
SUMMARY:CLUBHOUSE CLOSED
DESCRIPTION:Clubhouse closed for the season. \nSee you in 2025 \n 
URL:https://norfolkcountryclub.com/event1/clubhouse-closed-7/2025-01-16/
CATEGORIES:Social
END:VEVENT
BEGIN:VEVENT
DTSTART;VALUE=DATE:20250117
DTEND;VALUE=DATE:20250118
DTSTAMP:20260422T180538
CREATED:20240430T175150Z
LAST-MODIFIED:20240430T175254Z
UID:10013259-1737072000-1737158399@norfolkcountryclub.com
SUMMARY:CLUBHOUSE CLOSED
DESCRIPTION:Clubhouse closed for the season. \nSee you in 2025 \n 
URL:https://norfolkcountryclub.com/event1/clubhouse-closed-7/2025-01-17/
CATEGORIES:Social
END:VEVENT
BEGIN:VEVENT
DTSTART;VALUE=DATE:20250118
DTEND;VALUE=DATE:20250119
DTSTAMP:20260422T180538
CREATED:20240430T175150Z
LAST-MODIFIED:20240430T175254Z
UID:10013260-1737158400-1737244799@norfolkcountryclub.com
SUMMARY:CLUBHOUSE CLOSED
DESCRIPTION:Clubhouse closed for the season. \nSee you in 2025 \n 
URL:https://norfolkcountryclub.com/event1/clubhouse-closed-7/2025-01-18/
CATEGORIES:Social
END:VEVENT
BEGIN:VEVENT
DTSTART;VALUE=DATE:20250119
DTEND;VALUE=DATE:20250120
DTSTAMP:20260422T180538
CREATED:20240430T175150Z
LAST-MODIFIED:20240430T175254Z
UID:10013261-1737244800-1737331199@norfolkcountryclub.com
SUMMARY:CLUBHOUSE CLOSED
DESCRIPTION:Clubhouse closed for the season. \nSee you in 2025 \n 
URL:https://norfolkcountryclub.com/event1/clubhouse-closed-7/2025-01-19/
CATEGORIES:Social
END:VEVENT
BEGIN:VEVENT
DTSTART;VALUE=DATE:20250120
DTEND;VALUE=DATE:20250121
DTSTAMP:20260422T180538
CREATED:20240430T175150Z
LAST-MODIFIED:20240430T175254Z
UID:10013262-1737331200-1737417599@norfolkcountryclub.com
SUMMARY:CLUBHOUSE CLOSED
DESCRIPTION:Clubhouse closed for the season. \nSee you in 2025 \n 
URL:https://norfolkcountryclub.com/event1/clubhouse-closed-7/2025-01-20/
CATEGORIES:Social
END:VEVENT
BEGIN:VEVENT
DTSTART;VALUE=DATE:20250121
DTEND;VALUE=DATE:20250122
DTSTAMP:20260422T180538
CREATED:20240430T175150Z
LAST-MODIFIED:20240430T175254Z
UID:10013263-1737417600-1737503999@norfolkcountryclub.com
SUMMARY:CLUBHOUSE CLOSED
DESCRIPTION:Clubhouse closed for the season. \nSee you in 2025 \n 
URL:https://norfolkcountryclub.com/event1/clubhouse-closed-7/2025-01-21/
CATEGORIES:Social
END:VEVENT
BEGIN:VEVENT
DTSTART;VALUE=DATE:20250122
DTEND;VALUE=DATE:20250123
DTSTAMP:20260422T180538
CREATED:20240430T175150Z
LAST-MODIFIED:20240430T175254Z
UID:10013264-1737504000-1737590399@norfolkcountryclub.com
SUMMARY:CLUBHOUSE CLOSED
DESCRIPTION:Clubhouse closed for the season. \nSee you in 2025 \n 
URL:https://norfolkcountryclub.com/event1/clubhouse-closed-7/2025-01-22/
CATEGORIES:Social
END:VEVENT
BEGIN:VEVENT
DTSTART;VALUE=DATE:20250123
DTEND;VALUE=DATE:20250124
DTSTAMP:20260422T180538
CREATED:20240430T175150Z
LAST-MODIFIED:20240430T175254Z
UID:10013265-1737590400-1737676799@norfolkcountryclub.com
SUMMARY:CLUBHOUSE CLOSED
DESCRIPTION:Clubhouse closed for the season. \nSee you in 2025 \n 
URL:https://norfolkcountryclub.com/event1/clubhouse-closed-7/2025-01-23/
CATEGORIES:Social
END:VEVENT
BEGIN:VEVENT
DTSTART;VALUE=DATE:20250124
DTEND;VALUE=DATE:20250125
DTSTAMP:20260422T180538
CREATED:20240430T175150Z
LAST-MODIFIED:20240430T175254Z
UID:10013266-1737676800-1737763199@norfolkcountryclub.com
SUMMARY:CLUBHOUSE CLOSED
DESCRIPTION:Clubhouse closed for the season. \nSee you in 2025 \n 
URL:https://norfolkcountryclub.com/event1/clubhouse-closed-7/2025-01-24/
CATEGORIES:Social
END:VEVENT
BEGIN:VEVENT
DTSTART;VALUE=DATE:20250125
DTEND;VALUE=DATE:20250126
DTSTAMP:20260422T180538
CREATED:20240430T175150Z
LAST-MODIFIED:20240430T175254Z
UID:10013267-1737763200-1737849599@norfolkcountryclub.com
SUMMARY:CLUBHOUSE CLOSED
DESCRIPTION:Clubhouse closed for the season. \nSee you in 2025 \n 
URL:https://norfolkcountryclub.com/event1/clubhouse-closed-7/2025-01-25/
CATEGORIES:Social
END:VEVENT
BEGIN:VEVENT
DTSTART;VALUE=DATE:20250126
DTEND;VALUE=DATE:20250127
DTSTAMP:20260422T180538
CREATED:20240430T175150Z
LAST-MODIFIED:20240430T175254Z
UID:10013268-1737849600-1737935999@norfolkcountryclub.com
SUMMARY:CLUBHOUSE CLOSED
DESCRIPTION:Clubhouse closed for the season. \nSee you in 2025 \n 
URL:https://norfolkcountryclub.com/event1/clubhouse-closed-7/2025-01-26/
CATEGORIES:Social
END:VEVENT
BEGIN:VEVENT
DTSTART;VALUE=DATE:20250127
DTEND;VALUE=DATE:20250128
DTSTAMP:20260422T180538
CREATED:20240430T175150Z
LAST-MODIFIED:20240430T175254Z
UID:10013269-1737936000-1738022399@norfolkcountryclub.com
SUMMARY:CLUBHOUSE CLOSED
DESCRIPTION:Clubhouse closed for the season. \nSee you in 2025 \n 
URL:https://norfolkcountryclub.com/event1/clubhouse-closed-7/2025-01-27/
CATEGORIES:Social
END:VEVENT
BEGIN:VEVENT
DTSTART;VALUE=DATE:20250128
DTEND;VALUE=DATE:20250129
DTSTAMP:20260422T180538
CREATED:20240430T175150Z
LAST-MODIFIED:20240430T175254Z
UID:10013270-1738022400-1738108799@norfolkcountryclub.com
SUMMARY:CLUBHOUSE CLOSED
DESCRIPTION:Clubhouse closed for the season. \nSee you in 2025 \n 
URL:https://norfolkcountryclub.com/event1/clubhouse-closed-7/2025-01-28/
CATEGORIES:Social
END:VEVENT
BEGIN:VEVENT
DTSTART;VALUE=DATE:20250129
DTEND;VALUE=DATE:20250130
DTSTAMP:20260422T180539
CREATED:20240430T175150Z
LAST-MODIFIED:20240430T175254Z
UID:10013271-1738108800-1738195199@norfolkcountryclub.com
SUMMARY:CLUBHOUSE CLOSED
DESCRIPTION:Clubhouse closed for the season. \nSee you in 2025 \n 
URL:https://norfolkcountryclub.com/event1/clubhouse-closed-7/2025-01-29/
CATEGORIES:Social
END:VEVENT
BEGIN:VEVENT
DTSTART;VALUE=DATE:20250130
DTEND;VALUE=DATE:20250131
DTSTAMP:20260422T180539
CREATED:20240430T175150Z
LAST-MODIFIED:20240430T175254Z
UID:10013272-1738195200-1738281599@norfolkcountryclub.com
SUMMARY:CLUBHOUSE CLOSED
DESCRIPTION:Clubhouse closed for the season. \nSee you in 2025 \n 
URL:https://norfolkcountryclub.com/event1/clubhouse-closed-7/2025-01-30/
CATEGORIES:Social
END:VEVENT
BEGIN:VEVENT
DTSTART;VALUE=DATE:20250131
DTEND;VALUE=DATE:20250201
DTSTAMP:20260422T180539
CREATED:20240430T175150Z
LAST-MODIFIED:20240430T175254Z
UID:10013273-1738281600-1738367999@norfolkcountryclub.com
SUMMARY:CLUBHOUSE CLOSED
DESCRIPTION:Clubhouse closed for the season. \nSee you in 2025 \n 
URL:https://norfolkcountryclub.com/event1/clubhouse-closed-7/2025-01-31/
CATEGORIES:Social
END:VEVENT
BEGIN:VEVENT
DTSTART;VALUE=DATE:20250201
DTEND;VALUE=DATE:20250202
DTSTAMP:20260422T180539
CREATED:20240430T175150Z
LAST-MODIFIED:20240430T175254Z
UID:10013274-1738368000-1738454399@norfolkcountryclub.com
SUMMARY:CLUBHOUSE CLOSED
DESCRIPTION:Clubhouse closed for the season. \nSee you in 2025 \n 
URL:https://norfolkcountryclub.com/event1/clubhouse-closed-7/2025-02-01/
CATEGORIES:Social
END:VEVENT
BEGIN:VEVENT
DTSTART;VALUE=DATE:20250202
DTEND;VALUE=DATE:20250203
DTSTAMP:20260422T180539
CREATED:20240430T175150Z
LAST-MODIFIED:20240430T175254Z
UID:10013275-1738454400-1738540799@norfolkcountryclub.com
SUMMARY:CLUBHOUSE CLOSED
DESCRIPTION:Clubhouse closed for the season. \nSee you in 2025 \n 
URL:https://norfolkcountryclub.com/event1/clubhouse-closed-7/2025-02-02/
CATEGORIES:Social
END:VEVENT
BEGIN:VEVENT
DTSTART;VALUE=DATE:20250203
DTEND;VALUE=DATE:20250204
DTSTAMP:20260422T180539
CREATED:20240430T175150Z
LAST-MODIFIED:20240430T175254Z
UID:10013276-1738540800-1738627199@norfolkcountryclub.com
SUMMARY:CLUBHOUSE CLOSED
DESCRIPTION:Clubhouse closed for the season. \nSee you in 2025 \n 
URL:https://norfolkcountryclub.com/event1/clubhouse-closed-7/2025-02-03/
CATEGORIES:Social
END:VEVENT
BEGIN:VEVENT
DTSTART;VALUE=DATE:20250204
DTEND;VALUE=DATE:20250205
DTSTAMP:20260422T180539
CREATED:20240430T175150Z
LAST-MODIFIED:20240430T175254Z
UID:10013277-1738627200-1738713599@norfolkcountryclub.com
SUMMARY:CLUBHOUSE CLOSED
DESCRIPTION:Clubhouse closed for the season. \nSee you in 2025 \n 
URL:https://norfolkcountryclub.com/event1/clubhouse-closed-7/2025-02-04/
CATEGORIES:Social
END:VEVENT
BEGIN:VEVENT
DTSTART;VALUE=DATE:20250205
DTEND;VALUE=DATE:20250206
DTSTAMP:20260422T180539
CREATED:20240430T175150Z
LAST-MODIFIED:20240430T175254Z
UID:10013278-1738713600-1738799999@norfolkcountryclub.com
SUMMARY:CLUBHOUSE CLOSED
DESCRIPTION:Clubhouse closed for the season. \nSee you in 2025 \n 
URL:https://norfolkcountryclub.com/event1/clubhouse-closed-7/2025-02-05/
CATEGORIES:Social
END:VEVENT
BEGIN:VEVENT
DTSTART;VALUE=DATE:20250206
DTEND;VALUE=DATE:20250207
DTSTAMP:20260422T180539
CREATED:20240430T175150Z
LAST-MODIFIED:20240430T175254Z
UID:10013279-1738800000-1738886399@norfolkcountryclub.com
SUMMARY:CLUBHOUSE CLOSED
DESCRIPTION:Clubhouse closed for the season. \nSee you in 2025 \n 
URL:https://norfolkcountryclub.com/event1/clubhouse-closed-7/2025-02-06/
CATEGORIES:Social
END:VEVENT
BEGIN:VEVENT
DTSTART;VALUE=DATE:20250207
DTEND;VALUE=DATE:20250208
DTSTAMP:20260422T180539
CREATED:20240430T175150Z
LAST-MODIFIED:20240430T175254Z
UID:10013280-1738886400-1738972799@norfolkcountryclub.com
SUMMARY:CLUBHOUSE CLOSED
DESCRIPTION:Clubhouse closed for the season. \nSee you in 2025 \n 
URL:https://norfolkcountryclub.com/event1/clubhouse-closed-7/2025-02-07/
CATEGORIES:Social
END:VEVENT
BEGIN:VEVENT
DTSTART;VALUE=DATE:20250208
DTEND;VALUE=DATE:20250209
DTSTAMP:20260422T180539
CREATED:20240430T175150Z
LAST-MODIFIED:20240430T175254Z
UID:10013281-1738972800-1739059199@norfolkcountryclub.com
SUMMARY:CLUBHOUSE CLOSED
DESCRIPTION:Clubhouse closed for the season. \nSee you in 2025 \n 
URL:https://norfolkcountryclub.com/event1/clubhouse-closed-7/2025-02-08/
CATEGORIES:Social
END:VEVENT
BEGIN:VEVENT
DTSTART;VALUE=DATE:20250209
DTEND;VALUE=DATE:20250210
DTSTAMP:20260422T180539
CREATED:20240430T175150Z
LAST-MODIFIED:20240430T175254Z
UID:10013282-1739059200-1739145599@norfolkcountryclub.com
SUMMARY:CLUBHOUSE CLOSED
DESCRIPTION:Clubhouse closed for the season. \nSee you in 2025 \n 
URL:https://norfolkcountryclub.com/event1/clubhouse-closed-7/2025-02-09/
CATEGORIES:Social
END:VEVENT
BEGIN:VEVENT
DTSTART;VALUE=DATE:20250210
DTEND;VALUE=DATE:20250211
DTSTAMP:20260422T180539
CREATED:20240430T175150Z
LAST-MODIFIED:20240430T175254Z
UID:10013283-1739145600-1739231999@norfolkcountryclub.com
SUMMARY:CLUBHOUSE CLOSED
DESCRIPTION:Clubhouse closed for the season. \nSee you in 2025 \n 
URL:https://norfolkcountryclub.com/event1/clubhouse-closed-7/2025-02-10/
CATEGORIES:Social
END:VEVENT
END:VCALENDAR