BEGIN:VCALENDAR
VERSION:2.0
PRODID:-//Norfolk Country Club - ECPv6.15.16//NONSGML v1.0//EN
CALSCALE:GREGORIAN
METHOD:PUBLISH
X-WR-CALNAME:Norfolk Country Club
X-ORIGINAL-URL:https://norfolkcountryclub.com
X-WR-CALDESC:Events for Norfolk Country Club
REFRESH-INTERVAL;VALUE=DURATION:PT1H
X-Robots-Tag:noindex
X-PUBLISHED-TTL:PT1H
BEGIN:VTIMEZONE
TZID:America/New_York
BEGIN:DAYLIGHT
TZOFFSETFROM:-0500
TZOFFSETTO:-0400
TZNAME:EDT
DTSTART:20240310T070000
END:DAYLIGHT
BEGIN:STANDARD
TZOFFSETFROM:-0400
TZOFFSETTO:-0500
TZNAME:EST
DTSTART:20241103T060000
END:STANDARD
BEGIN:DAYLIGHT
TZOFFSETFROM:-0500
TZOFFSETTO:-0400
TZNAME:EDT
DTSTART:20250309T070000
END:DAYLIGHT
BEGIN:STANDARD
TZOFFSETFROM:-0400
TZOFFSETTO:-0500
TZNAME:EST
DTSTART:20251102T060000
END:STANDARD
BEGIN:DAYLIGHT
TZOFFSETFROM:-0500
TZOFFSETTO:-0400
TZNAME:EDT
DTSTART:20260308T070000
END:DAYLIGHT
BEGIN:STANDARD
TZOFFSETFROM:-0400
TZOFFSETTO:-0500
TZNAME:EST
DTSTART:20261101T060000
END:STANDARD
END:VTIMEZONE
BEGIN:VEVENT
DTSTART;TZID=America/New_York:20250530T113000
DTEND;TZID=America/New_York:20250530T143000
DTSTAMP:20260421T145511
CREATED:20250406T181519Z
LAST-MODIFIED:20250406T182855Z
UID:10014792-1748604600-1748615400@norfolkcountryclub.com
SUMMARY:HOUSE / May Lunch Service
DESCRIPTION:Lunch service available \nPlease consult the weekly members email for the week’s menu.
URL:https://norfolkcountryclub.com/event1/house-may-lunch-service-2/2025-05-30/
CATEGORIES:Restaurant,Social
END:VEVENT
BEGIN:VEVENT
DTSTART;TZID=America/New_York:20250530T173000
DTEND;TZID=America/New_York:20250530T210000
DTSTAMP:20260421T145511
CREATED:20250205T170731Z
LAST-MODIFIED:20250406T185838Z
UID:10014802-1748626200-1748638800@norfolkcountryclub.com
SUMMARY:HOUSE / Weekend Dinner Service
DESCRIPTION:Dinner service available \nPlease consult the weekly members email for the week’s menu.
URL:https://norfolkcountryclub.com/event1/house-weekend-dinner-service/2025-05-30/
CATEGORIES:Restaurant,Social
END:VEVENT
END:VCALENDAR