BEGIN:VCALENDAR
VERSION:2.0
PRODID:-//Norfolk Country Club - ECPv6.15.16//NONSGML v1.0//EN
CALSCALE:GREGORIAN
METHOD:PUBLISH
X-WR-CALNAME:Norfolk Country Club
X-ORIGINAL-URL:https://norfolkcountryclub.com
X-WR-CALDESC:Events for Norfolk Country Club
REFRESH-INTERVAL;VALUE=DURATION:PT1H
X-Robots-Tag:noindex
X-PUBLISHED-TTL:PT1H
BEGIN:VTIMEZONE
TZID:America/New_York
BEGIN:DAYLIGHT
TZOFFSETFROM:-0500
TZOFFSETTO:-0400
TZNAME:EDT
DTSTART:20230312T070000
END:DAYLIGHT
BEGIN:STANDARD
TZOFFSETFROM:-0400
TZOFFSETTO:-0500
TZNAME:EST
DTSTART:20231105T060000
END:STANDARD
BEGIN:DAYLIGHT
TZOFFSETFROM:-0500
TZOFFSETTO:-0400
TZNAME:EDT
DTSTART:20240310T070000
END:DAYLIGHT
BEGIN:STANDARD
TZOFFSETFROM:-0400
TZOFFSETTO:-0500
TZNAME:EST
DTSTART:20241103T060000
END:STANDARD
BEGIN:DAYLIGHT
TZOFFSETFROM:-0500
TZOFFSETTO:-0400
TZNAME:EDT
DTSTART:20250309T070000
END:DAYLIGHT
BEGIN:STANDARD
TZOFFSETFROM:-0400
TZOFFSETTO:-0500
TZNAME:EST
DTSTART:20251102T060000
END:STANDARD
END:VTIMEZONE
BEGIN:VEVENT
DTSTART;TZID=America/New_York:20241013T113000
DTEND;TZID=America/New_York:20241013T143000
DTSTAMP:20260422T014135
CREATED:20240430T174630Z
LAST-MODIFIED:20240430T174630Z
UID:10012942-1728819000-1728829800@norfolkcountryclub.com
SUMMARY:HOUSE / October Lunch Service
DESCRIPTION:Lunch service available \nPlease consult the weekly members email for the week’s menu.
URL:https://norfolkcountryclub.com/event1/house-october-lunch-service/2024-10-13/
CATEGORIES:Restaurant,Social
END:VEVENT
END:VCALENDAR