BEGIN:VCALENDAR
VERSION:2.0
PRODID:-//Norfolk Country Club - ECPv6.15.16//NONSGML v1.0//EN
CALSCALE:GREGORIAN
METHOD:PUBLISH
X-WR-CALNAME:Norfolk Country Club
X-ORIGINAL-URL:https://norfolkcountryclub.com
X-WR-CALDESC:Events for Norfolk Country Club
REFRESH-INTERVAL;VALUE=DURATION:PT1H
X-Robots-Tag:noindex
X-PUBLISHED-TTL:PT1H
BEGIN:VTIMEZONE
TZID:UTC
BEGIN:STANDARD
TZOFFSETFROM:+0000
TZOFFSETTO:+0000
TZNAME:UTC
DTSTART:20230101T000000
END:STANDARD
END:VTIMEZONE
BEGIN:VEVENT
DTSTART;TZID=UTC:20240817T180000
DTEND;TZID=UTC:20240817T220000
DTSTAMP:20260422T043801
CREATED:20240311T183050Z
LAST-MODIFIED:20240311T183050Z
UID:10009658-1723917600-1723932000@norfolkcountryclub.com
SUMMARY:HOUSE / Dinner & Fireworks
DESCRIPTION:Special Buffet Dinner (details TBA) \n\n\n\n6:00 Drinks & Dinner \n8:45 Fireworks \n\nRain date: 8/24
URL:https://norfolkcountryclub.com/event1/house-dinner-fireworks/
CATEGORIES:Social
END:VEVENT
END:VCALENDAR