BEGIN:VCALENDAR
VERSION:2.0
PRODID:-//Norfolk Country Club - ECPv6.15.16//NONSGML v1.0//EN
CALSCALE:GREGORIAN
METHOD:PUBLISH
X-WR-CALNAME:Norfolk Country Club
X-ORIGINAL-URL:https://norfolkcountryclub.com
X-WR-CALDESC:Events for Norfolk Country Club
REFRESH-INTERVAL;VALUE=DURATION:PT1H
X-Robots-Tag:noindex
X-PUBLISHED-TTL:PT1H
BEGIN:VTIMEZONE
TZID:UTC
BEGIN:STANDARD
TZOFFSETFROM:+0000
TZOFFSETTO:+0000
TZNAME:UTC
DTSTART:20230101T000000
END:STANDARD
END:VTIMEZONE
BEGIN:VEVENT
DTSTART;TZID=UTC:20240803T183000
DTEND;TZID=UTC:20240803T220000
DTSTAMP:20260422T043858
CREATED:20240311T182734Z
LAST-MODIFIED:20240311T182811Z
UID:10009657-1722709800-1722722400@norfolkcountryclub.com
SUMMARY:HOUSE / Square Dance
DESCRIPTION:Featuring Cliff Brodeur and his 7 piece Country Band \nHoe Down/Square Dance \n\n\n\n6pm Buffet Dinner \n7pm-10pm Dancing
URL:https://norfolkcountryclub.com/event1/house-square-dance/
CATEGORIES:Social
END:VEVENT
END:VCALENDAR