BEGIN:VCALENDAR
VERSION:2.0
PRODID:-//Norfolk Country Club - ECPv6.15.16//NONSGML v1.0//EN
CALSCALE:GREGORIAN
METHOD:PUBLISH
X-ORIGINAL-URL:https://norfolkcountryclub.com
X-WR-CALDESC:Events for Norfolk Country Club
REFRESH-INTERVAL;VALUE=DURATION:PT1H
X-Robots-Tag:noindex
X-PUBLISHED-TTL:PT1H
BEGIN:VTIMEZONE
TZID:America/New_York
BEGIN:DAYLIGHT
TZOFFSETFROM:-0500
TZOFFSETTO:-0400
TZNAME:EDT
DTSTART:20230312T070000
END:DAYLIGHT
BEGIN:STANDARD
TZOFFSETFROM:-0400
TZOFFSETTO:-0500
TZNAME:EST
DTSTART:20231105T060000
END:STANDARD
BEGIN:DAYLIGHT
TZOFFSETFROM:-0500
TZOFFSETTO:-0400
TZNAME:EDT
DTSTART:20240310T070000
END:DAYLIGHT
BEGIN:STANDARD
TZOFFSETFROM:-0400
TZOFFSETTO:-0500
TZNAME:EST
DTSTART:20241103T060000
END:STANDARD
BEGIN:DAYLIGHT
TZOFFSETFROM:-0500
TZOFFSETTO:-0400
TZNAME:EDT
DTSTART:20250309T070000
END:DAYLIGHT
BEGIN:STANDARD
TZOFFSETFROM:-0400
TZOFFSETTO:-0500
TZNAME:EST
DTSTART:20251102T060000
END:STANDARD
END:VTIMEZONE
BEGIN:VEVENT
DTSTART;VALUE=DATE:20241101
DTEND;VALUE=DATE:20241102
DTSTAMP:20260421T223559
CREATED:20240430T175150Z
LAST-MODIFIED:20240430T175254Z
UID:10013182-1730419200-1730505599@norfolkcountryclub.com
SUMMARY:CLUBHOUSE CLOSED
DESCRIPTION:Clubhouse closed for the season. \nSee you in 2025 \n 
URL:https://norfolkcountryclub.com/event1/clubhouse-closed-7/2024-11-01/
CATEGORIES:Social
END:VEVENT
BEGIN:VEVENT
DTSTART;VALUE=DATE:20241102
DTEND;VALUE=DATE:20241103
DTSTAMP:20260421T223559
CREATED:20240430T175150Z
LAST-MODIFIED:20240430T175254Z
UID:10013183-1730505600-1730591999@norfolkcountryclub.com
SUMMARY:CLUBHOUSE CLOSED
DESCRIPTION:Clubhouse closed for the season. \nSee you in 2025 \n 
URL:https://norfolkcountryclub.com/event1/clubhouse-closed-7/2024-11-02/
CATEGORIES:Social
END:VEVENT
BEGIN:VEVENT
DTSTART;VALUE=DATE:20241103
DTEND;VALUE=DATE:20241104
DTSTAMP:20260421T223559
CREATED:20240430T175150Z
LAST-MODIFIED:20240430T175254Z
UID:10013184-1730592000-1730674799@norfolkcountryclub.com
SUMMARY:CLUBHOUSE CLOSED
DESCRIPTION:Clubhouse closed for the season. \nSee you in 2025 \n 
URL:https://norfolkcountryclub.com/event1/clubhouse-closed-7/2024-11-03/
CATEGORIES:Social
END:VEVENT
BEGIN:VEVENT
DTSTART;VALUE=DATE:20241104
DTEND;VALUE=DATE:20241105
DTSTAMP:20260421T223559
CREATED:20240430T175150Z
LAST-MODIFIED:20240430T175254Z
UID:10013185-1730678400-1730764799@norfolkcountryclub.com
SUMMARY:CLUBHOUSE CLOSED
DESCRIPTION:Clubhouse closed for the season. \nSee you in 2025 \n 
URL:https://norfolkcountryclub.com/event1/clubhouse-closed-7/2024-11-04/
CATEGORIES:Social
END:VEVENT
BEGIN:VEVENT
DTSTART;VALUE=DATE:20241105
DTEND;VALUE=DATE:20241106
DTSTAMP:20260421T223559
CREATED:20240430T175150Z
LAST-MODIFIED:20240430T175254Z
UID:10013186-1730764800-1730851199@norfolkcountryclub.com
SUMMARY:CLUBHOUSE CLOSED
DESCRIPTION:Clubhouse closed for the season. \nSee you in 2025 \n 
URL:https://norfolkcountryclub.com/event1/clubhouse-closed-7/2024-11-05/
CATEGORIES:Social
END:VEVENT
BEGIN:VEVENT
DTSTART;VALUE=DATE:20241106
DTEND;VALUE=DATE:20241107
DTSTAMP:20260421T223559
CREATED:20240430T175150Z
LAST-MODIFIED:20240430T175254Z
UID:10013187-1730851200-1730937599@norfolkcountryclub.com
SUMMARY:CLUBHOUSE CLOSED
DESCRIPTION:Clubhouse closed for the season. \nSee you in 2025 \n 
URL:https://norfolkcountryclub.com/event1/clubhouse-closed-7/2024-11-06/
CATEGORIES:Social
END:VEVENT
BEGIN:VEVENT
DTSTART;VALUE=DATE:20241107
DTEND;VALUE=DATE:20241108
DTSTAMP:20260421T223559
CREATED:20240430T175150Z
LAST-MODIFIED:20240430T175254Z
UID:10013188-1730937600-1731023999@norfolkcountryclub.com
SUMMARY:CLUBHOUSE CLOSED
DESCRIPTION:Clubhouse closed for the season. \nSee you in 2025 \n 
URL:https://norfolkcountryclub.com/event1/clubhouse-closed-7/2024-11-07/
CATEGORIES:Social
END:VEVENT
BEGIN:VEVENT
DTSTART;VALUE=DATE:20241108
DTEND;VALUE=DATE:20241109
DTSTAMP:20260421T223559
CREATED:20240430T175150Z
LAST-MODIFIED:20240430T175254Z
UID:10013189-1731024000-1731110399@norfolkcountryclub.com
SUMMARY:CLUBHOUSE CLOSED
DESCRIPTION:Clubhouse closed for the season. \nSee you in 2025 \n 
URL:https://norfolkcountryclub.com/event1/clubhouse-closed-7/2024-11-08/
CATEGORIES:Social
END:VEVENT
BEGIN:VEVENT
DTSTART;VALUE=DATE:20241109
DTEND;VALUE=DATE:20241110
DTSTAMP:20260421T223559
CREATED:20240430T175150Z
LAST-MODIFIED:20240430T175254Z
UID:10013190-1731110400-1731196799@norfolkcountryclub.com
SUMMARY:CLUBHOUSE CLOSED
DESCRIPTION:Clubhouse closed for the season. \nSee you in 2025 \n 
URL:https://norfolkcountryclub.com/event1/clubhouse-closed-7/2024-11-09/
CATEGORIES:Social
END:VEVENT
BEGIN:VEVENT
DTSTART;VALUE=DATE:20241110
DTEND;VALUE=DATE:20241111
DTSTAMP:20260421T223559
CREATED:20240430T175150Z
LAST-MODIFIED:20240430T175254Z
UID:10013191-1731196800-1731283199@norfolkcountryclub.com
SUMMARY:CLUBHOUSE CLOSED
DESCRIPTION:Clubhouse closed for the season. \nSee you in 2025 \n 
URL:https://norfolkcountryclub.com/event1/clubhouse-closed-7/2024-11-10/
CATEGORIES:Social
END:VEVENT
BEGIN:VEVENT
DTSTART;VALUE=DATE:20241111
DTEND;VALUE=DATE:20241112
DTSTAMP:20260421T223559
CREATED:20240430T175150Z
LAST-MODIFIED:20240430T175254Z
UID:10013192-1731283200-1731369599@norfolkcountryclub.com
SUMMARY:CLUBHOUSE CLOSED
DESCRIPTION:Clubhouse closed for the season. \nSee you in 2025 \n 
URL:https://norfolkcountryclub.com/event1/clubhouse-closed-7/2024-11-11/
CATEGORIES:Social
END:VEVENT
BEGIN:VEVENT
DTSTART;VALUE=DATE:20241112
DTEND;VALUE=DATE:20241113
DTSTAMP:20260421T223559
CREATED:20240430T175150Z
LAST-MODIFIED:20240430T175254Z
UID:10013193-1731369600-1731455999@norfolkcountryclub.com
SUMMARY:CLUBHOUSE CLOSED
DESCRIPTION:Clubhouse closed for the season. \nSee you in 2025 \n 
URL:https://norfolkcountryclub.com/event1/clubhouse-closed-7/2024-11-12/
CATEGORIES:Social
END:VEVENT
BEGIN:VEVENT
DTSTART;VALUE=DATE:20241113
DTEND;VALUE=DATE:20241114
DTSTAMP:20260421T223559
CREATED:20240430T175150Z
LAST-MODIFIED:20240430T175254Z
UID:10013194-1731456000-1731542399@norfolkcountryclub.com
SUMMARY:CLUBHOUSE CLOSED
DESCRIPTION:Clubhouse closed for the season. \nSee you in 2025 \n 
URL:https://norfolkcountryclub.com/event1/clubhouse-closed-7/2024-11-13/
CATEGORIES:Social
END:VEVENT
BEGIN:VEVENT
DTSTART;VALUE=DATE:20241114
DTEND;VALUE=DATE:20241115
DTSTAMP:20260421T223559
CREATED:20240430T175150Z
LAST-MODIFIED:20240430T175254Z
UID:10013195-1731542400-1731628799@norfolkcountryclub.com
SUMMARY:CLUBHOUSE CLOSED
DESCRIPTION:Clubhouse closed for the season. \nSee you in 2025 \n 
URL:https://norfolkcountryclub.com/event1/clubhouse-closed-7/2024-11-14/
CATEGORIES:Social
END:VEVENT
BEGIN:VEVENT
DTSTART;VALUE=DATE:20241115
DTEND;VALUE=DATE:20241116
DTSTAMP:20260421T223559
CREATED:20240430T175150Z
LAST-MODIFIED:20240430T175254Z
UID:10013196-1731628800-1731715199@norfolkcountryclub.com
SUMMARY:CLUBHOUSE CLOSED
DESCRIPTION:Clubhouse closed for the season. \nSee you in 2025 \n 
URL:https://norfolkcountryclub.com/event1/clubhouse-closed-7/2024-11-15/
CATEGORIES:Social
END:VEVENT
BEGIN:VEVENT
DTSTART;VALUE=DATE:20241116
DTEND;VALUE=DATE:20241117
DTSTAMP:20260421T223559
CREATED:20240430T175150Z
LAST-MODIFIED:20240430T175254Z
UID:10013197-1731715200-1731801599@norfolkcountryclub.com
SUMMARY:CLUBHOUSE CLOSED
DESCRIPTION:Clubhouse closed for the season. \nSee you in 2025 \n 
URL:https://norfolkcountryclub.com/event1/clubhouse-closed-7/2024-11-16/
CATEGORIES:Social
END:VEVENT
BEGIN:VEVENT
DTSTART;VALUE=DATE:20241117
DTEND;VALUE=DATE:20241118
DTSTAMP:20260421T223559
CREATED:20240430T175150Z
LAST-MODIFIED:20240430T175254Z
UID:10013198-1731801600-1731887999@norfolkcountryclub.com
SUMMARY:CLUBHOUSE CLOSED
DESCRIPTION:Clubhouse closed for the season. \nSee you in 2025 \n 
URL:https://norfolkcountryclub.com/event1/clubhouse-closed-7/2024-11-17/
CATEGORIES:Social
END:VEVENT
BEGIN:VEVENT
DTSTART;VALUE=DATE:20241118
DTEND;VALUE=DATE:20241119
DTSTAMP:20260421T223559
CREATED:20240430T175150Z
LAST-MODIFIED:20240430T175254Z
UID:10013199-1731888000-1731974399@norfolkcountryclub.com
SUMMARY:CLUBHOUSE CLOSED
DESCRIPTION:Clubhouse closed for the season. \nSee you in 2025 \n 
URL:https://norfolkcountryclub.com/event1/clubhouse-closed-7/2024-11-18/
CATEGORIES:Social
END:VEVENT
BEGIN:VEVENT
DTSTART;VALUE=DATE:20241119
DTEND;VALUE=DATE:20241120
DTSTAMP:20260421T223559
CREATED:20240430T175150Z
LAST-MODIFIED:20240430T175254Z
UID:10013200-1731974400-1732060799@norfolkcountryclub.com
SUMMARY:CLUBHOUSE CLOSED
DESCRIPTION:Clubhouse closed for the season. \nSee you in 2025 \n 
URL:https://norfolkcountryclub.com/event1/clubhouse-closed-7/2024-11-19/
CATEGORIES:Social
END:VEVENT
BEGIN:VEVENT
DTSTART;VALUE=DATE:20241120
DTEND;VALUE=DATE:20241121
DTSTAMP:20260421T223559
CREATED:20240430T175150Z
LAST-MODIFIED:20240430T175254Z
UID:10013201-1732060800-1732147199@norfolkcountryclub.com
SUMMARY:CLUBHOUSE CLOSED
DESCRIPTION:Clubhouse closed for the season. \nSee you in 2025 \n 
URL:https://norfolkcountryclub.com/event1/clubhouse-closed-7/2024-11-20/
CATEGORIES:Social
END:VEVENT
BEGIN:VEVENT
DTSTART;VALUE=DATE:20241121
DTEND;VALUE=DATE:20241122
DTSTAMP:20260421T223559
CREATED:20240430T175150Z
LAST-MODIFIED:20240430T175254Z
UID:10013202-1732147200-1732233599@norfolkcountryclub.com
SUMMARY:CLUBHOUSE CLOSED
DESCRIPTION:Clubhouse closed for the season. \nSee you in 2025 \n 
URL:https://norfolkcountryclub.com/event1/clubhouse-closed-7/2024-11-21/
CATEGORIES:Social
END:VEVENT
BEGIN:VEVENT
DTSTART;VALUE=DATE:20241122
DTEND;VALUE=DATE:20241123
DTSTAMP:20260421T223559
CREATED:20240430T175150Z
LAST-MODIFIED:20240430T175254Z
UID:10013203-1732233600-1732319999@norfolkcountryclub.com
SUMMARY:CLUBHOUSE CLOSED
DESCRIPTION:Clubhouse closed for the season. \nSee you in 2025 \n 
URL:https://norfolkcountryclub.com/event1/clubhouse-closed-7/2024-11-22/
CATEGORIES:Social
END:VEVENT
BEGIN:VEVENT
DTSTART;VALUE=DATE:20241123
DTEND;VALUE=DATE:20241124
DTSTAMP:20260421T223559
CREATED:20240430T175150Z
LAST-MODIFIED:20240430T175254Z
UID:10013204-1732320000-1732406399@norfolkcountryclub.com
SUMMARY:CLUBHOUSE CLOSED
DESCRIPTION:Clubhouse closed for the season. \nSee you in 2025 \n 
URL:https://norfolkcountryclub.com/event1/clubhouse-closed-7/2024-11-23/
CATEGORIES:Social
END:VEVENT
BEGIN:VEVENT
DTSTART;VALUE=DATE:20241124
DTEND;VALUE=DATE:20241125
DTSTAMP:20260421T223559
CREATED:20240430T175150Z
LAST-MODIFIED:20240430T175254Z
UID:10013205-1732406400-1732492799@norfolkcountryclub.com
SUMMARY:CLUBHOUSE CLOSED
DESCRIPTION:Clubhouse closed for the season. \nSee you in 2025 \n 
URL:https://norfolkcountryclub.com/event1/clubhouse-closed-7/2024-11-24/
CATEGORIES:Social
END:VEVENT
BEGIN:VEVENT
DTSTART;VALUE=DATE:20241125
DTEND;VALUE=DATE:20241126
DTSTAMP:20260421T223559
CREATED:20240430T175150Z
LAST-MODIFIED:20240430T175254Z
UID:10013206-1732492800-1732579199@norfolkcountryclub.com
SUMMARY:CLUBHOUSE CLOSED
DESCRIPTION:Clubhouse closed for the season. \nSee you in 2025 \n 
URL:https://norfolkcountryclub.com/event1/clubhouse-closed-7/2024-11-25/
CATEGORIES:Social
END:VEVENT
BEGIN:VEVENT
DTSTART;VALUE=DATE:20241126
DTEND;VALUE=DATE:20241127
DTSTAMP:20260421T223559
CREATED:20240430T175150Z
LAST-MODIFIED:20240430T175254Z
UID:10013207-1732579200-1732665599@norfolkcountryclub.com
SUMMARY:CLUBHOUSE CLOSED
DESCRIPTION:Clubhouse closed for the season. \nSee you in 2025 \n 
URL:https://norfolkcountryclub.com/event1/clubhouse-closed-7/2024-11-26/
CATEGORIES:Social
END:VEVENT
BEGIN:VEVENT
DTSTART;VALUE=DATE:20241127
DTEND;VALUE=DATE:20241128
DTSTAMP:20260421T223559
CREATED:20240430T175150Z
LAST-MODIFIED:20240430T175254Z
UID:10013208-1732665600-1732751999@norfolkcountryclub.com
SUMMARY:CLUBHOUSE CLOSED
DESCRIPTION:Clubhouse closed for the season. \nSee you in 2025 \n 
URL:https://norfolkcountryclub.com/event1/clubhouse-closed-7/2024-11-27/
CATEGORIES:Social
END:VEVENT
BEGIN:VEVENT
DTSTART;VALUE=DATE:20241128
DTEND;VALUE=DATE:20241129
DTSTAMP:20260421T223559
CREATED:20240430T175150Z
LAST-MODIFIED:20240430T175254Z
UID:10013209-1732752000-1732838399@norfolkcountryclub.com
SUMMARY:CLUBHOUSE CLOSED
DESCRIPTION:Clubhouse closed for the season. \nSee you in 2025 \n 
URL:https://norfolkcountryclub.com/event1/clubhouse-closed-7/2024-11-28/
CATEGORIES:Social
END:VEVENT
BEGIN:VEVENT
DTSTART;VALUE=DATE:20241129
DTEND;VALUE=DATE:20241130
DTSTAMP:20260421T223559
CREATED:20240430T175150Z
LAST-MODIFIED:20240430T175254Z
UID:10013210-1732838400-1732924799@norfolkcountryclub.com
SUMMARY:CLUBHOUSE CLOSED
DESCRIPTION:Clubhouse closed for the season. \nSee you in 2025 \n 
URL:https://norfolkcountryclub.com/event1/clubhouse-closed-7/2024-11-29/
CATEGORIES:Social
END:VEVENT
BEGIN:VEVENT
DTSTART;VALUE=DATE:20241130
DTEND;VALUE=DATE:20241201
DTSTAMP:20260421T223559
CREATED:20240430T175150Z
LAST-MODIFIED:20240430T175254Z
UID:10013211-1732924800-1733011199@norfolkcountryclub.com
SUMMARY:CLUBHOUSE CLOSED
DESCRIPTION:Clubhouse closed for the season. \nSee you in 2025 \n 
URL:https://norfolkcountryclub.com/event1/clubhouse-closed-7/2024-11-30/
CATEGORIES:Social
END:VEVENT
END:VCALENDAR