BEGIN:VCALENDAR
VERSION:2.0
PRODID:-//Norfolk Country Club - ECPv6.15.16//NONSGML v1.0//EN
CALSCALE:GREGORIAN
METHOD:PUBLISH
X-ORIGINAL-URL:https://norfolkcountryclub.com
X-WR-CALDESC:Events for Norfolk Country Club
REFRESH-INTERVAL;VALUE=DURATION:PT1H
X-Robots-Tag:noindex
X-PUBLISHED-TTL:PT1H
BEGIN:VTIMEZONE
TZID:America/New_York
BEGIN:DAYLIGHT
TZOFFSETFROM:-0500
TZOFFSETTO:-0400
TZNAME:EDT
DTSTART:20240310T070000
END:DAYLIGHT
BEGIN:STANDARD
TZOFFSETFROM:-0400
TZOFFSETTO:-0500
TZNAME:EST
DTSTART:20241103T060000
END:STANDARD
BEGIN:DAYLIGHT
TZOFFSETFROM:-0500
TZOFFSETTO:-0400
TZNAME:EDT
DTSTART:20250309T070000
END:DAYLIGHT
BEGIN:STANDARD
TZOFFSETFROM:-0400
TZOFFSETTO:-0500
TZNAME:EST
DTSTART:20251102T060000
END:STANDARD
BEGIN:DAYLIGHT
TZOFFSETFROM:-0500
TZOFFSETTO:-0400
TZNAME:EDT
DTSTART:20260308T070000
END:DAYLIGHT
BEGIN:STANDARD
TZOFFSETFROM:-0400
TZOFFSETTO:-0500
TZNAME:EST
DTSTART:20261101T060000
END:STANDARD
END:VTIMEZONE
BEGIN:VTIMEZONE
TZID:UTC
BEGIN:STANDARD
TZOFFSETFROM:+0000
TZOFFSETTO:+0000
TZNAME:UTC
DTSTART:20240101T000000
END:STANDARD
END:VTIMEZONE
BEGIN:VEVENT
DTSTART;TZID=America/New_York:20250805T090000
DTEND;TZID=America/New_York:20250805T120000
DTSTAMP:20260419T163337
CREATED:20250407T214109Z
LAST-MODIFIED:20250407T214145Z
UID:10015247-1754384400-1754395200@norfolkcountryclub.com
SUMMARY:KIDS SUMMER PROGRAM
DESCRIPTION:Tuesday through Friday during the weeks of July 22 through August 15. \nThe children will receive an hour of tennis and an hour of golf instruction each day and there will be a snack lunch available at the end of each morning.
URL:https://norfolkcountryclub.com/event1/kids-summer-program-3/2025-08-05/
CATEGORIES:Children
END:VEVENT
BEGIN:VEVENT
DTSTART;TZID=America/New_York:20250806T090000
DTEND;TZID=America/New_York:20250806T120000
DTSTAMP:20260419T163337
CREATED:20250407T214109Z
LAST-MODIFIED:20250407T214145Z
UID:10015248-1754470800-1754481600@norfolkcountryclub.com
SUMMARY:KIDS SUMMER PROGRAM
DESCRIPTION:Tuesday through Friday during the weeks of July 22 through August 15. \nThe children will receive an hour of tennis and an hour of golf instruction each day and there will be a snack lunch available at the end of each morning.
URL:https://norfolkcountryclub.com/event1/kids-summer-program-3/2025-08-06/
CATEGORIES:Children
END:VEVENT
BEGIN:VEVENT
DTSTART;TZID=America/New_York:20250807T090000
DTEND;TZID=America/New_York:20250807T120000
DTSTAMP:20260419T163337
CREATED:20250407T214109Z
LAST-MODIFIED:20250407T214145Z
UID:10015249-1754557200-1754568000@norfolkcountryclub.com
SUMMARY:KIDS SUMMER PROGRAM
DESCRIPTION:Tuesday through Friday during the weeks of July 22 through August 15. \nThe children will receive an hour of tennis and an hour of golf instruction each day and there will be a snack lunch available at the end of each morning.
URL:https://norfolkcountryclub.com/event1/kids-summer-program-3/2025-08-07/
CATEGORIES:Children
END:VEVENT
BEGIN:VEVENT
DTSTART;TZID=America/New_York:20250808T090000
DTEND;TZID=America/New_York:20250808T120000
DTSTAMP:20260419T163337
CREATED:20250407T214109Z
LAST-MODIFIED:20250407T214145Z
UID:10015250-1754643600-1754654400@norfolkcountryclub.com
SUMMARY:KIDS SUMMER PROGRAM
DESCRIPTION:Tuesday through Friday during the weeks of July 22 through August 15. \nThe children will receive an hour of tennis and an hour of golf instruction each day and there will be a snack lunch available at the end of each morning.
URL:https://norfolkcountryclub.com/event1/kids-summer-program-3/2025-08-08/
CATEGORIES:Children
END:VEVENT
BEGIN:VEVENT
DTSTART;TZID=UTC:20250808T140000
DTEND;TZID=UTC:20250808T140000
DTSTAMP:20260419T163337
CREATED:20250402T180204Z
LAST-MODIFIED:20250403T160932Z
UID:10014717-1754661600-1754661600@norfolkcountryclub.com
SUMMARY:GOLF / JUNIORS CLINIC  Competitive Golf
DESCRIPTION:Competitive Golf for Juniors\n\nFridays from 2:00 – 3:00 (Except July 11 – Junior Club Championship)\n\nJune 13\, June 20\, June 27\, July 4\, July 18\, July 25\, August 1\, August 8\, August 15 & August 22
URL:https://norfolkcountryclub.com/event1/golf-mixed-competitive-golf-for-adults/2025-08-08/
CATEGORIES:Children,Golf
END:VEVENT
BEGIN:VEVENT
DTSTART;TZID=America/New_York:20250812T090000
DTEND;TZID=America/New_York:20250812T120000
DTSTAMP:20260419T163337
CREATED:20250407T214309Z
LAST-MODIFIED:20250407T214309Z
UID:10015255-1754989200-1755000000@norfolkcountryclub.com
SUMMARY:KIDS SUMMER PROGRAM
DESCRIPTION:Tuesday through Friday during the weeks of July 22 through August 15. \nThe children will receive an hour of tennis and an hour of golf instruction each day and there will be a snack lunch available at the end of each morning.
URL:https://norfolkcountryclub.com/event1/kids-summer-program-4/2025-08-12/
CATEGORIES:Children
END:VEVENT
BEGIN:VEVENT
DTSTART;TZID=America/New_York:20250813T090000
DTEND;TZID=America/New_York:20250813T120000
DTSTAMP:20260419T163337
CREATED:20250407T214309Z
LAST-MODIFIED:20250407T214309Z
UID:10015256-1755075600-1755086400@norfolkcountryclub.com
SUMMARY:KIDS SUMMER PROGRAM
DESCRIPTION:Tuesday through Friday during the weeks of July 22 through August 15. \nThe children will receive an hour of tennis and an hour of golf instruction each day and there will be a snack lunch available at the end of each morning.
URL:https://norfolkcountryclub.com/event1/kids-summer-program-4/2025-08-13/
CATEGORIES:Children
END:VEVENT
BEGIN:VEVENT
DTSTART;TZID=America/New_York:20250814T090000
DTEND;TZID=America/New_York:20250814T120000
DTSTAMP:20260419T163337
CREATED:20250407T214309Z
LAST-MODIFIED:20250407T214309Z
UID:10015257-1755162000-1755172800@norfolkcountryclub.com
SUMMARY:KIDS SUMMER PROGRAM
DESCRIPTION:Tuesday through Friday during the weeks of July 22 through August 15. \nThe children will receive an hour of tennis and an hour of golf instruction each day and there will be a snack lunch available at the end of each morning.
URL:https://norfolkcountryclub.com/event1/kids-summer-program-4/2025-08-14/
CATEGORIES:Children
END:VEVENT
BEGIN:VEVENT
DTSTART;TZID=America/New_York:20250815T090000
DTEND;TZID=America/New_York:20250815T120000
DTSTAMP:20260419T163337
CREATED:20250407T214309Z
LAST-MODIFIED:20250407T214309Z
UID:10015258-1755248400-1755259200@norfolkcountryclub.com
SUMMARY:KIDS SUMMER PROGRAM
DESCRIPTION:Tuesday through Friday during the weeks of July 22 through August 15. \nThe children will receive an hour of tennis and an hour of golf instruction each day and there will be a snack lunch available at the end of each morning.
URL:https://norfolkcountryclub.com/event1/kids-summer-program-4/2025-08-15/
CATEGORIES:Children
END:VEVENT
BEGIN:VEVENT
DTSTART;TZID=UTC:20250815T140000
DTEND;TZID=UTC:20250815T140000
DTSTAMP:20260419T163337
CREATED:20250402T180204Z
LAST-MODIFIED:20250403T160932Z
UID:10014718-1755266400-1755266400@norfolkcountryclub.com
SUMMARY:GOLF / JUNIORS CLINIC  Competitive Golf
DESCRIPTION:Competitive Golf for Juniors\n\nFridays from 2:00 – 3:00 (Except July 11 – Junior Club Championship)\n\nJune 13\, June 20\, June 27\, July 4\, July 18\, July 25\, August 1\, August 8\, August 15 & August 22
URL:https://norfolkcountryclub.com/event1/golf-mixed-competitive-golf-for-adults/2025-08-15/
CATEGORIES:Children,Golf
END:VEVENT
BEGIN:VEVENT
DTSTART;TZID=UTC:20250822T140000
DTEND;TZID=UTC:20250822T140000
DTSTAMP:20260419T163337
CREATED:20250402T180204Z
LAST-MODIFIED:20250403T160932Z
UID:10014719-1755871200-1755871200@norfolkcountryclub.com
SUMMARY:GOLF / JUNIORS CLINIC  Competitive Golf
DESCRIPTION:Competitive Golf for Juniors\n\nFridays from 2:00 – 3:00 (Except July 11 – Junior Club Championship)\n\nJune 13\, June 20\, June 27\, July 4\, July 18\, July 25\, August 1\, August 8\, August 15 & August 22
URL:https://norfolkcountryclub.com/event1/golf-mixed-competitive-golf-for-adults/2025-08-22/
CATEGORIES:Children,Golf
END:VEVENT
END:VCALENDAR